BEGIN:VCALENDAR
VERSION:2.0
PRODID:-//Entr’Aide des Marolles - ECPv6.15.20//NONSGML v1.0//EN
CALSCALE:GREGORIAN
METHOD:PUBLISH
X-ORIGINAL-URL:https://entraide-marolles.be
X-WR-CALDESC:Évènements pour Entr’Aide des Marolles
REFRESH-INTERVAL;VALUE=DURATION:PT1H
X-Robots-Tag:noindex
X-PUBLISHED-TTL:PT1H
BEGIN:VTIMEZONE
TZID:Europe/Brussels
BEGIN:DAYLIGHT
TZOFFSETFROM:+0100
TZOFFSETTO:+0200
TZNAME:CEST
DTSTART:20230326T010000
END:DAYLIGHT
BEGIN:STANDARD
TZOFFSETFROM:+0200
TZOFFSETTO:+0100
TZNAME:CET
DTSTART:20231029T010000
END:STANDARD
BEGIN:DAYLIGHT
TZOFFSETFROM:+0100
TZOFFSETTO:+0200
TZNAME:CEST
DTSTART:20240331T010000
END:DAYLIGHT
BEGIN:STANDARD
TZOFFSETFROM:+0200
TZOFFSETTO:+0100
TZNAME:CET
DTSTART:20241027T010000
END:STANDARD
BEGIN:DAYLIGHT
TZOFFSETFROM:+0100
TZOFFSETTO:+0200
TZNAME:CEST
DTSTART:20250330T010000
END:DAYLIGHT
BEGIN:STANDARD
TZOFFSETFROM:+0200
TZOFFSETTO:+0100
TZNAME:CET
DTSTART:20251026T010000
END:STANDARD
END:VTIMEZONE
BEGIN:VEVENT
DTSTART;TZID=Europe/Brussels:20241113T190000
DTEND;TZID=Europe/Brussels:20241113T220000
DTSTAMP:20260425T164334
CREATED:20240913T145421Z
LAST-MODIFIED:20240913T154345Z
UID:10029316-1731524400-1731535200@entraide-marolles.be
SUMMARY:Spectacle Ouroboros de l'Appétit des indigestes
DESCRIPTION:« – Souvent\, la mort passe chez moi. Une porte claque et elle se barre. \n– Qu’est-ce qu’elle vient faire chez vous ? \n– Je ne sais pas. Je me dis qu’elle trouve mon hall d’entrée à son goût. Un jour\, peut-être qu’elle viendra jusqu’au salon ou dans mon cabinet. Ce sera mon heure. » \nQu’ont en commun Xavier\, un ancien curé qui s’est reconverti en psy ; Sarah\, qui a perdu le goût de vivre depuis que sa sœur s’est suicidée ; Ava\, qui se met en danger pour se sentir vivante ; Léa\, qui parle avec les morts ; Gloria qui veut mourir jeune pour laisser une belle image d’elle-même ; Henriette\, qui veut qu’on l’euthanasie ; Lise\, qui s’est fait avaler par l’océan\, Aurore qui a peur de se perdre\, Alice qui s’est perdue\,  Léon qui pense qu’on veut le tuer et ne veut pas mourir\, un superviseur qui s’avère être un ami étrange et un serpent qui se blesse pour survivre? Et qu’avons-nous en commun avec eux ? \nDans un monde où on nous demande de  « réussir à faire son deuil »\, de « trouver un sens à sa vie »\, d’être rentable\, productif et heureux ; dans un monde où s’affiche sur les réseaux sociaux les moments de joie\, de vacances\, d’insouciance de chacun ; dans un monde où l’on doit toujours être « au top »\, quelle place donne-t-on encore à l’expression des doutes\, des fragilités\, de la tristesse ? Quelle place donne-t-on à la vieillesse\, au deuil ou aux idées suicidaires ? Et comment ne pas se sentir comme exclu de la fête quand on va moins bien ? \nOuroboros\, c’est un spectacle qui interroge tant par sa forme que par son fond notre rapport à la vie\, à la mort\, à la perte\, à la vieillesse\, à la folie\, à la vulnérabilité. Sur scène\, 26 acteurs : 12 rôles fixes et 14 rôles « mouvants ». Chaque soir des acteurs inversent leurs rôle pour recréer un spectacle qui n’est jamais le même : un moment unique\, toujours sur le fil\, inattendu\, une moment de vulnérabilité partagée…autour d’un sujet souvent tabou et  qui pourtant nous concerne tous. \n  \nInformations pratiques :\nLes mercredi et jeudi 13 et 14 novembre 2024\, à 19h00 en salle d’activités \nInscription à l’accueil de l’Entr’Aide. Attention\, places limitées ! \n  \nOuroboros – L’Appétit des Indigestes (lappetitdesindigestes.be)
URL:https://entraide-marolles.be/agenda/spectacle-ouroboros-de-lappetit-des-indigestes/2024-11-13/
CATEGORIES:Spectacle
ATTACH;FMTTYPE=image/png:https://entraide-marolles.be/wp-content/uploads/2024/09/Votre-texte-de-paragraphe.png
END:VEVENT
BEGIN:VEVENT
DTSTART;TZID=Europe/Brussels:20241114T190000
DTEND;TZID=Europe/Brussels:20241114T220000
DTSTAMP:20260425T164334
CREATED:20240913T145421Z
LAST-MODIFIED:20240913T154345Z
UID:10029317-1731610800-1731621600@entraide-marolles.be
SUMMARY:Spectacle Ouroboros de l'Appétit des indigestes
DESCRIPTION:« – Souvent\, la mort passe chez moi. Une porte claque et elle se barre. \n– Qu’est-ce qu’elle vient faire chez vous ? \n– Je ne sais pas. Je me dis qu’elle trouve mon hall d’entrée à son goût. Un jour\, peut-être qu’elle viendra jusqu’au salon ou dans mon cabinet. Ce sera mon heure. » \nQu’ont en commun Xavier\, un ancien curé qui s’est reconverti en psy ; Sarah\, qui a perdu le goût de vivre depuis que sa sœur s’est suicidée ; Ava\, qui se met en danger pour se sentir vivante ; Léa\, qui parle avec les morts ; Gloria qui veut mourir jeune pour laisser une belle image d’elle-même ; Henriette\, qui veut qu’on l’euthanasie ; Lise\, qui s’est fait avaler par l’océan\, Aurore qui a peur de se perdre\, Alice qui s’est perdue\,  Léon qui pense qu’on veut le tuer et ne veut pas mourir\, un superviseur qui s’avère être un ami étrange et un serpent qui se blesse pour survivre? Et qu’avons-nous en commun avec eux ? \nDans un monde où on nous demande de  « réussir à faire son deuil »\, de « trouver un sens à sa vie »\, d’être rentable\, productif et heureux ; dans un monde où s’affiche sur les réseaux sociaux les moments de joie\, de vacances\, d’insouciance de chacun ; dans un monde où l’on doit toujours être « au top »\, quelle place donne-t-on encore à l’expression des doutes\, des fragilités\, de la tristesse ? Quelle place donne-t-on à la vieillesse\, au deuil ou aux idées suicidaires ? Et comment ne pas se sentir comme exclu de la fête quand on va moins bien ? \nOuroboros\, c’est un spectacle qui interroge tant par sa forme que par son fond notre rapport à la vie\, à la mort\, à la perte\, à la vieillesse\, à la folie\, à la vulnérabilité. Sur scène\, 26 acteurs : 12 rôles fixes et 14 rôles « mouvants ». Chaque soir des acteurs inversent leurs rôle pour recréer un spectacle qui n’est jamais le même : un moment unique\, toujours sur le fil\, inattendu\, une moment de vulnérabilité partagée…autour d’un sujet souvent tabou et  qui pourtant nous concerne tous. \n  \nInformations pratiques :\nLes mercredi et jeudi 13 et 14 novembre 2024\, à 19h00 en salle d’activités \nInscription à l’accueil de l’Entr’Aide. Attention\, places limitées ! \n  \nOuroboros – L’Appétit des Indigestes (lappetitdesindigestes.be)
URL:https://entraide-marolles.be/agenda/spectacle-ouroboros-de-lappetit-des-indigestes/2024-11-14/
CATEGORIES:Spectacle
ATTACH;FMTTYPE=image/png:https://entraide-marolles.be/wp-content/uploads/2024/09/Votre-texte-de-paragraphe.png
END:VEVENT
END:VCALENDAR