BEGIN:VCALENDAR
VERSION:2.0
PRODID:-//Entr’Aide des Marolles - ECPv6.15.20//NONSGML v1.0//EN
CALSCALE:GREGORIAN
METHOD:PUBLISH
X-WR-CALNAME:Entr’Aide des Marolles
X-ORIGINAL-URL:https://entraide-marolles.be
X-WR-CALDESC:Évènements pour Entr’Aide des Marolles
REFRESH-INTERVAL;VALUE=DURATION:PT1H
X-Robots-Tag:noindex
X-PUBLISHED-TTL:PT1H
BEGIN:VTIMEZONE
TZID:Europe/Brussels
BEGIN:DAYLIGHT
TZOFFSETFROM:+0100
TZOFFSETTO:+0200
TZNAME:CEST
DTSTART:20230326T010000
END:DAYLIGHT
BEGIN:STANDARD
TZOFFSETFROM:+0200
TZOFFSETTO:+0100
TZNAME:CET
DTSTART:20231029T010000
END:STANDARD
BEGIN:DAYLIGHT
TZOFFSETFROM:+0100
TZOFFSETTO:+0200
TZNAME:CEST
DTSTART:20240331T010000
END:DAYLIGHT
BEGIN:STANDARD
TZOFFSETFROM:+0200
TZOFFSETTO:+0100
TZNAME:CET
DTSTART:20241027T010000
END:STANDARD
BEGIN:DAYLIGHT
TZOFFSETFROM:+0100
TZOFFSETTO:+0200
TZNAME:CEST
DTSTART:20250330T010000
END:DAYLIGHT
BEGIN:STANDARD
TZOFFSETFROM:+0200
TZOFFSETTO:+0100
TZNAME:CET
DTSTART:20251026T010000
END:STANDARD
END:VTIMEZONE
BEGIN:VEVENT
DTSTART;TZID=Europe/Brussels:20240405T133000
DTEND;TZID=Europe/Brussels:20240405T170000
DTSTAMP:20260424T105931
CREATED:20231206T144534Z
LAST-MODIFIED:20240327T152004Z
UID:10000032-1712323800-1712336400@entraide-marolles.be
SUMMARY:Séance de podologie
DESCRIPTION:Les consultations sont assurées par des étudiant.es en podologie supervisé.es par leur professeur. \nLes séances de podologie sont gratuites. \nPour s’inscrire\, contactez l’accueil ou demandez directement auprès des infirmières de l’Entr’Aide
URL:https://entraide-marolles.be/agenda/seance-de-podologie/
CATEGORIES:podologie
ATTACH;FMTTYPE=image/jpeg:https://entraide-marolles.be/wp-content/uploads/2023/12/foot_001-scaled-e1711554204260.jpg
END:VEVENT
BEGIN:VEVENT
DTSTART;TZID=Europe/Brussels:20240412T133000
DTEND;TZID=Europe/Brussels:20240412T154500
DTSTAMP:20260424T105931
CREATED:20240327T153952Z
LAST-MODIFIED:20240327T153952Z
UID:10000058-1712928600-1712936700@entraide-marolles.be
SUMMARY:Séance de podologie
DESCRIPTION:Les consultations sont assurées par des étudiant.es en podologie supervisé.es par leur professeur. \nLes séances de podologie sont gratuites. \nPour s’inscrire\, contactez l’accueil ou demandez directement auprès des infirmières de l’Entr’Aide
URL:https://entraide-marolles.be/agenda/seance-de-podologie-2/
CATEGORIES:podologie
ATTACH;FMTTYPE=image/jpeg:https://entraide-marolles.be/wp-content/uploads/2023/12/foot_001-scaled-e1711554204260.jpg
END:VEVENT
BEGIN:VEVENT
DTSTART;TZID=Europe/Brussels:20240419T133000
DTEND;TZID=Europe/Brussels:20240419T154500
DTSTAMP:20260424T105931
CREATED:20240327T154048Z
LAST-MODIFIED:20240327T154048Z
UID:10000059-1713533400-1713541500@entraide-marolles.be
SUMMARY:Séance de podologie
DESCRIPTION:Les consultations sont assurées par des étudiant.es en podologie supervisé.es par leur professeur. \nLes séances de podologie sont gratuites. \nPour s’inscrire\, contactez l’accueil ou demandez directement auprès des infirmières de l’Entr’Aide
URL:https://entraide-marolles.be/agenda/seance-de-podologie-3/
CATEGORIES:podologie
ATTACH;FMTTYPE=image/jpeg:https://entraide-marolles.be/wp-content/uploads/2023/12/foot_001-scaled-e1711554204260.jpg
END:VEVENT
END:VCALENDAR