BEGIN:VCALENDAR
VERSION:2.0
PRODID:-//Entr’Aide des Marolles - ECPv6.15.20//NONSGML v1.0//EN
CALSCALE:GREGORIAN
METHOD:PUBLISH
X-ORIGINAL-URL:https://entraide-marolles.be
X-WR-CALDESC:Évènements pour Entr’Aide des Marolles
REFRESH-INTERVAL;VALUE=DURATION:PT1H
X-Robots-Tag:noindex
X-PUBLISHED-TTL:PT1H
BEGIN:VTIMEZONE
TZID:Europe/Brussels
BEGIN:DAYLIGHT
TZOFFSETFROM:+0100
TZOFFSETTO:+0200
TZNAME:CEST
DTSTART:20270328T010000
END:DAYLIGHT
BEGIN:STANDARD
TZOFFSETFROM:+0200
TZOFFSETTO:+0100
TZNAME:CET
DTSTART:20271031T010000
END:STANDARD
BEGIN:DAYLIGHT
TZOFFSETFROM:+0100
TZOFFSETTO:+0200
TZNAME:CEST
DTSTART:20280326T010000
END:DAYLIGHT
BEGIN:STANDARD
TZOFFSETFROM:+0200
TZOFFSETTO:+0100
TZNAME:CET
DTSTART:20281029T010000
END:STANDARD
BEGIN:DAYLIGHT
TZOFFSETFROM:+0100
TZOFFSETTO:+0200
TZNAME:CEST
DTSTART:20290325T010000
END:DAYLIGHT
BEGIN:STANDARD
TZOFFSETFROM:+0200
TZOFFSETTO:+0100
TZNAME:CET
DTSTART:20291028T010000
END:STANDARD
END:VTIMEZONE
BEGIN:VEVENT
DTSTART;TZID=Europe/Brussels:20280901T100000
DTEND;TZID=Europe/Brussels:20280901T120000
DTSTAMP:20260425T032625
CREATED:20260217T144630Z
LAST-MODIFIED:20260217T144630Z
UID:10044937-1851415200-1851422400@entraide-marolles.be
SUMMARY:Permanence informatique
DESCRIPTION:Une permanence informatique est proposée tous les jeudis après-midi afin d’apporter une aide aux habitant.es concernant : \n\nl’utilisation du téléphone\, de ses applications\,\nla gestion de la boîte mail (créer une adresse mail\, récupérer son mot de passe perdu\, nettoyer l’espace\, etc.)\nfaire des démarches administratives en ligne\netc.\n\nTous les vendredis de 10h à 12h dans la salle informatique de l’école de l’Entr’Aide (au sous-sol) \nGratuit et sans RDV
URL:https://entraide-marolles.be/agenda/permanence-informatique-2-2-2/2028-09-01/
CATEGORIES:permanence informatique
ATTACH;FMTTYPE=image/jpeg:https://entraide-marolles.be/wp-content/uploads/2026/02/flyer-recto-e1771339336153.jpg
END:VEVENT
BEGIN:VEVENT
DTSTART;TZID=Europe/Brussels:20280908T100000
DTEND;TZID=Europe/Brussels:20280908T120000
DTSTAMP:20260425T032625
CREATED:20260217T144630Z
LAST-MODIFIED:20260217T144630Z
UID:10044938-1852020000-1852027200@entraide-marolles.be
SUMMARY:Permanence informatique
DESCRIPTION:Une permanence informatique est proposée tous les jeudis après-midi afin d’apporter une aide aux habitant.es concernant : \n\nl’utilisation du téléphone\, de ses applications\,\nla gestion de la boîte mail (créer une adresse mail\, récupérer son mot de passe perdu\, nettoyer l’espace\, etc.)\nfaire des démarches administratives en ligne\netc.\n\nTous les vendredis de 10h à 12h dans la salle informatique de l’école de l’Entr’Aide (au sous-sol) \nGratuit et sans RDV
URL:https://entraide-marolles.be/agenda/permanence-informatique-2-2-2/2028-09-08/
CATEGORIES:permanence informatique
ATTACH;FMTTYPE=image/jpeg:https://entraide-marolles.be/wp-content/uploads/2026/02/flyer-recto-e1771339336153.jpg
END:VEVENT
BEGIN:VEVENT
DTSTART;TZID=Europe/Brussels:20280915T100000
DTEND;TZID=Europe/Brussels:20280915T120000
DTSTAMP:20260425T032625
CREATED:20260217T144630Z
LAST-MODIFIED:20260217T144630Z
UID:10044939-1852624800-1852632000@entraide-marolles.be
SUMMARY:Permanence informatique
DESCRIPTION:Une permanence informatique est proposée tous les jeudis après-midi afin d’apporter une aide aux habitant.es concernant : \n\nl’utilisation du téléphone\, de ses applications\,\nla gestion de la boîte mail (créer une adresse mail\, récupérer son mot de passe perdu\, nettoyer l’espace\, etc.)\nfaire des démarches administratives en ligne\netc.\n\nTous les vendredis de 10h à 12h dans la salle informatique de l’école de l’Entr’Aide (au sous-sol) \nGratuit et sans RDV
URL:https://entraide-marolles.be/agenda/permanence-informatique-2-2-2/2028-09-15/
CATEGORIES:permanence informatique
ATTACH;FMTTYPE=image/jpeg:https://entraide-marolles.be/wp-content/uploads/2026/02/flyer-recto-e1771339336153.jpg
END:VEVENT
BEGIN:VEVENT
DTSTART;TZID=Europe/Brussels:20280922T100000
DTEND;TZID=Europe/Brussels:20280922T120000
DTSTAMP:20260425T032625
CREATED:20260217T144630Z
LAST-MODIFIED:20260217T144630Z
UID:10044940-1853229600-1853236800@entraide-marolles.be
SUMMARY:Permanence informatique
DESCRIPTION:Une permanence informatique est proposée tous les jeudis après-midi afin d’apporter une aide aux habitant.es concernant : \n\nl’utilisation du téléphone\, de ses applications\,\nla gestion de la boîte mail (créer une adresse mail\, récupérer son mot de passe perdu\, nettoyer l’espace\, etc.)\nfaire des démarches administratives en ligne\netc.\n\nTous les vendredis de 10h à 12h dans la salle informatique de l’école de l’Entr’Aide (au sous-sol) \nGratuit et sans RDV
URL:https://entraide-marolles.be/agenda/permanence-informatique-2-2-2/2028-09-22/
CATEGORIES:permanence informatique
ATTACH;FMTTYPE=image/jpeg:https://entraide-marolles.be/wp-content/uploads/2026/02/flyer-recto-e1771339336153.jpg
END:VEVENT
BEGIN:VEVENT
DTSTART;TZID=Europe/Brussels:20280929T100000
DTEND;TZID=Europe/Brussels:20280929T120000
DTSTAMP:20260425T032625
CREATED:20260217T144630Z
LAST-MODIFIED:20260217T144630Z
UID:10044941-1853834400-1853841600@entraide-marolles.be
SUMMARY:Permanence informatique
DESCRIPTION:Une permanence informatique est proposée tous les jeudis après-midi afin d’apporter une aide aux habitant.es concernant : \n\nl’utilisation du téléphone\, de ses applications\,\nla gestion de la boîte mail (créer une adresse mail\, récupérer son mot de passe perdu\, nettoyer l’espace\, etc.)\nfaire des démarches administratives en ligne\netc.\n\nTous les vendredis de 10h à 12h dans la salle informatique de l’école de l’Entr’Aide (au sous-sol) \nGratuit et sans RDV
URL:https://entraide-marolles.be/agenda/permanence-informatique-2-2-2/2028-09-29/
CATEGORIES:permanence informatique
ATTACH;FMTTYPE=image/jpeg:https://entraide-marolles.be/wp-content/uploads/2026/02/flyer-recto-e1771339336153.jpg
END:VEVENT
END:VCALENDAR