BEGIN:VCALENDAR
VERSION:2.0
PRODID:-//Entr’Aide des Marolles - ECPv6.15.20//NONSGML v1.0//EN
CALSCALE:GREGORIAN
METHOD:PUBLISH
X-ORIGINAL-URL:https://entraide-marolles.be
X-WR-CALDESC:Évènements pour Entr’Aide des Marolles
REFRESH-INTERVAL;VALUE=DURATION:PT1H
X-Robots-Tag:noindex
X-PUBLISHED-TTL:PT1H
BEGIN:VTIMEZONE
TZID:Europe/Brussels
BEGIN:DAYLIGHT
TZOFFSETFROM:+0100
TZOFFSETTO:+0200
TZNAME:CEST
DTSTART:20260329T010000
END:DAYLIGHT
BEGIN:STANDARD
TZOFFSETFROM:+0200
TZOFFSETTO:+0100
TZNAME:CET
DTSTART:20261025T010000
END:STANDARD
BEGIN:DAYLIGHT
TZOFFSETFROM:+0100
TZOFFSETTO:+0200
TZNAME:CEST
DTSTART:20270328T010000
END:DAYLIGHT
BEGIN:STANDARD
TZOFFSETFROM:+0200
TZOFFSETTO:+0100
TZNAME:CET
DTSTART:20271031T010000
END:STANDARD
BEGIN:DAYLIGHT
TZOFFSETFROM:+0100
TZOFFSETTO:+0200
TZNAME:CEST
DTSTART:20280326T010000
END:DAYLIGHT
BEGIN:STANDARD
TZOFFSETFROM:+0200
TZOFFSETTO:+0100
TZNAME:CET
DTSTART:20281029T010000
END:STANDARD
END:VTIMEZONE
BEGIN:VEVENT
DTSTART;TZID=Europe/Brussels:20270101T100000
DTEND;TZID=Europe/Brussels:20270101T120000
DTSTAMP:20260419T190720
CREATED:20260217T144630Z
LAST-MODIFIED:20260217T144630Z
UID:10044850-1798797600-1798804800@entraide-marolles.be
SUMMARY:Permanence informatique
DESCRIPTION:Une permanence informatique est proposée tous les jeudis après-midi afin d’apporter une aide aux habitant.es concernant : \n\nl’utilisation du téléphone\, de ses applications\,\nla gestion de la boîte mail (créer une adresse mail\, récupérer son mot de passe perdu\, nettoyer l’espace\, etc.)\nfaire des démarches administratives en ligne\netc.\n\nTous les vendredis de 10h à 12h dans la salle informatique de l’école de l’Entr’Aide (au sous-sol) \nGratuit et sans RDV
URL:https://entraide-marolles.be/agenda/permanence-informatique-2-2-2/2027-01-01/
CATEGORIES:permanence informatique
ATTACH;FMTTYPE=image/jpeg:https://entraide-marolles.be/wp-content/uploads/2026/02/flyer-recto-e1771339336153.jpg
END:VEVENT
BEGIN:VEVENT
DTSTART;TZID=Europe/Brussels:20270108T100000
DTEND;TZID=Europe/Brussels:20270108T120000
DTSTAMP:20260419T190720
CREATED:20260217T144630Z
LAST-MODIFIED:20260217T144630Z
UID:10044851-1799402400-1799409600@entraide-marolles.be
SUMMARY:Permanence informatique
DESCRIPTION:Une permanence informatique est proposée tous les jeudis après-midi afin d’apporter une aide aux habitant.es concernant : \n\nl’utilisation du téléphone\, de ses applications\,\nla gestion de la boîte mail (créer une adresse mail\, récupérer son mot de passe perdu\, nettoyer l’espace\, etc.)\nfaire des démarches administratives en ligne\netc.\n\nTous les vendredis de 10h à 12h dans la salle informatique de l’école de l’Entr’Aide (au sous-sol) \nGratuit et sans RDV
URL:https://entraide-marolles.be/agenda/permanence-informatique-2-2-2/2027-01-08/
CATEGORIES:permanence informatique
ATTACH;FMTTYPE=image/jpeg:https://entraide-marolles.be/wp-content/uploads/2026/02/flyer-recto-e1771339336153.jpg
END:VEVENT
BEGIN:VEVENT
DTSTART;TZID=Europe/Brussels:20270115T100000
DTEND;TZID=Europe/Brussels:20270115T120000
DTSTAMP:20260419T190720
CREATED:20260217T144630Z
LAST-MODIFIED:20260217T144630Z
UID:10044852-1800007200-1800014400@entraide-marolles.be
SUMMARY:Permanence informatique
DESCRIPTION:Une permanence informatique est proposée tous les jeudis après-midi afin d’apporter une aide aux habitant.es concernant : \n\nl’utilisation du téléphone\, de ses applications\,\nla gestion de la boîte mail (créer une adresse mail\, récupérer son mot de passe perdu\, nettoyer l’espace\, etc.)\nfaire des démarches administratives en ligne\netc.\n\nTous les vendredis de 10h à 12h dans la salle informatique de l’école de l’Entr’Aide (au sous-sol) \nGratuit et sans RDV
URL:https://entraide-marolles.be/agenda/permanence-informatique-2-2-2/2027-01-15/
CATEGORIES:permanence informatique
ATTACH;FMTTYPE=image/jpeg:https://entraide-marolles.be/wp-content/uploads/2026/02/flyer-recto-e1771339336153.jpg
END:VEVENT
BEGIN:VEVENT
DTSTART;TZID=Europe/Brussels:20270122T100000
DTEND;TZID=Europe/Brussels:20270122T120000
DTSTAMP:20260419T190720
CREATED:20260217T144630Z
LAST-MODIFIED:20260217T144630Z
UID:10044853-1800612000-1800619200@entraide-marolles.be
SUMMARY:Permanence informatique
DESCRIPTION:Une permanence informatique est proposée tous les jeudis après-midi afin d’apporter une aide aux habitant.es concernant : \n\nl’utilisation du téléphone\, de ses applications\,\nla gestion de la boîte mail (créer une adresse mail\, récupérer son mot de passe perdu\, nettoyer l’espace\, etc.)\nfaire des démarches administratives en ligne\netc.\n\nTous les vendredis de 10h à 12h dans la salle informatique de l’école de l’Entr’Aide (au sous-sol) \nGratuit et sans RDV
URL:https://entraide-marolles.be/agenda/permanence-informatique-2-2-2/2027-01-22/
CATEGORIES:permanence informatique
ATTACH;FMTTYPE=image/jpeg:https://entraide-marolles.be/wp-content/uploads/2026/02/flyer-recto-e1771339336153.jpg
END:VEVENT
BEGIN:VEVENT
DTSTART;TZID=Europe/Brussels:20270129T100000
DTEND;TZID=Europe/Brussels:20270129T120000
DTSTAMP:20260419T190721
CREATED:20260217T144630Z
LAST-MODIFIED:20260217T144630Z
UID:10044854-1801216800-1801224000@entraide-marolles.be
SUMMARY:Permanence informatique
DESCRIPTION:Une permanence informatique est proposée tous les jeudis après-midi afin d’apporter une aide aux habitant.es concernant : \n\nl’utilisation du téléphone\, de ses applications\,\nla gestion de la boîte mail (créer une adresse mail\, récupérer son mot de passe perdu\, nettoyer l’espace\, etc.)\nfaire des démarches administratives en ligne\netc.\n\nTous les vendredis de 10h à 12h dans la salle informatique de l’école de l’Entr’Aide (au sous-sol) \nGratuit et sans RDV
URL:https://entraide-marolles.be/agenda/permanence-informatique-2-2-2/2027-01-29/
CATEGORIES:permanence informatique
ATTACH;FMTTYPE=image/jpeg:https://entraide-marolles.be/wp-content/uploads/2026/02/flyer-recto-e1771339336153.jpg
END:VEVENT
END:VCALENDAR