BEGIN:VCALENDAR
VERSION:2.0
PRODID:-//Entr’Aide des Marolles - ECPv6.15.20//NONSGML v1.0//EN
CALSCALE:GREGORIAN
METHOD:PUBLISH
X-WR-CALNAME:Entr’Aide des Marolles
X-ORIGINAL-URL:https://entraide-marolles.be
X-WR-CALDESC:Évènements pour Entr’Aide des Marolles
REFRESH-INTERVAL;VALUE=DURATION:PT1H
X-Robots-Tag:noindex
X-PUBLISHED-TTL:PT1H
BEGIN:VTIMEZONE
TZID:Europe/Brussels
BEGIN:DAYLIGHT
TZOFFSETFROM:+0100
TZOFFSETTO:+0200
TZNAME:CEST
DTSTART:20240331T010000
END:DAYLIGHT
BEGIN:STANDARD
TZOFFSETFROM:+0200
TZOFFSETTO:+0100
TZNAME:CET
DTSTART:20241027T010000
END:STANDARD
BEGIN:DAYLIGHT
TZOFFSETFROM:+0100
TZOFFSETTO:+0200
TZNAME:CEST
DTSTART:20250330T010000
END:DAYLIGHT
BEGIN:STANDARD
TZOFFSETFROM:+0200
TZOFFSETTO:+0100
TZNAME:CET
DTSTART:20251026T010000
END:STANDARD
BEGIN:DAYLIGHT
TZOFFSETFROM:+0100
TZOFFSETTO:+0200
TZNAME:CEST
DTSTART:20260329T010000
END:DAYLIGHT
BEGIN:STANDARD
TZOFFSETFROM:+0200
TZOFFSETTO:+0100
TZNAME:CET
DTSTART:20261025T010000
END:STANDARD
END:VTIMEZONE
BEGIN:VEVENT
DTSTART;TZID=Europe/Brussels:20250617T090000
DTEND;TZID=Europe/Brussels:20250617T120000
DTSTAMP:20260424T095639
CREATED:20250604T160608Z
LAST-MODIFIED:20250604T160608Z
UID:10043435-1750150800-1750161600@entraide-marolles.be
SUMMARY:Journée autour de la médiation de dettes
DESCRIPTION:Le mardi 17 juin l’Entr’Aide des Marolles organise une journée de sensibilisation autour de la dette. \nAu programme\, une matinée à destination du public et des bénéficiaires avec l’asbl Trapes (Tous en réseau autour de la prévention et de l’expérience du surendettement). \nPlus d’infos et inscriptions à l’accueil de l’Entr’Aide.
URL:https://entraide-marolles.be/agenda/journee-autour-de-la-mediation-de-dettes/
CATEGORIES:Journées à l'Entr'Aide
END:VEVENT
END:VCALENDAR