BEGIN:VCALENDAR
VERSION:2.0
PRODID:-//Entr’Aide des Marolles - ECPv6.15.20//NONSGML v1.0//EN
CALSCALE:GREGORIAN
METHOD:PUBLISH
X-WR-CALNAME:Entr’Aide des Marolles
X-ORIGINAL-URL:https://entraide-marolles.be
X-WR-CALDESC:Évènements pour Entr’Aide des Marolles
REFRESH-INTERVAL;VALUE=DURATION:PT1H
X-Robots-Tag:noindex
X-PUBLISHED-TTL:PT1H
BEGIN:VTIMEZONE
TZID:Europe/Brussels
BEGIN:DAYLIGHT
TZOFFSETFROM:+0100
TZOFFSETTO:+0200
TZNAME:CEST
DTSTART:20240331T010000
END:DAYLIGHT
BEGIN:STANDARD
TZOFFSETFROM:+0200
TZOFFSETTO:+0100
TZNAME:CET
DTSTART:20241027T010000
END:STANDARD
BEGIN:DAYLIGHT
TZOFFSETFROM:+0100
TZOFFSETTO:+0200
TZNAME:CEST
DTSTART:20250330T010000
END:DAYLIGHT
BEGIN:STANDARD
TZOFFSETFROM:+0200
TZOFFSETTO:+0100
TZNAME:CET
DTSTART:20251026T010000
END:STANDARD
BEGIN:DAYLIGHT
TZOFFSETFROM:+0100
TZOFFSETTO:+0200
TZNAME:CEST
DTSTART:20260329T010000
END:DAYLIGHT
BEGIN:STANDARD
TZOFFSETFROM:+0200
TZOFFSETTO:+0100
TZNAME:CET
DTSTART:20261025T010000
END:STANDARD
END:VTIMEZONE
BEGIN:VEVENT
DTSTART;TZID=Europe/Brussels:20250311T083000
DTEND;TZID=Europe/Brussels:20250311T113000
DTSTAMP:20260424T150445
CREATED:20250305T161356Z
LAST-MODIFIED:20250305T161600Z
UID:10043344-1741681800-1741692600@entraide-marolles.be
SUMMARY:Journée des droits des femmes : activité autour de la charge mentale
DESCRIPTION:Mardi 11 mars\, pour la Journée des Droits des Femmes\, nous organisons une journée autour de la Charge Mentale \n \nAu programme : \n\n\n\n\n\n\n\n\n\n\n\n8h30  – Petit déjeuner en salle d’attente devant l’Accueil et le Dispensaire!\n9h30 – 11h30 – Un Atelier autour de la charge Mentale animé par AWSA-Be (Arab women’s solidarity association) en Salle d’Activité.\n\n\n\n\n\n\n\n\n\n\n\nUne liste d’inscriptions (15 participant.es) est disponible à l’Accueil \n 
URL:https://entraide-marolles.be/agenda/journee-des-droits-des-femmes-activite-autour-de-la-charge-mentale/
CATEGORIES:Journées à l'Entr'Aide
ATTACH;FMTTYPE=image/jpeg:https://entraide-marolles.be/wp-content/uploads/2025/03/Journee-des-droits-des-Femmes-e1741190711451.jpg
END:VEVENT
END:VCALENDAR