BEGIN:VCALENDAR
VERSION:2.0
PRODID:-//Entr’Aide des Marolles - ECPv6.15.20//NONSGML v1.0//EN
CALSCALE:GREGORIAN
METHOD:PUBLISH
X-ORIGINAL-URL:https://entraide-marolles.be
X-WR-CALDESC:Évènements pour Entr’Aide des Marolles
REFRESH-INTERVAL;VALUE=DURATION:PT1H
X-Robots-Tag:noindex
X-PUBLISHED-TTL:PT1H
BEGIN:VTIMEZONE
TZID:Europe/Brussels
BEGIN:DAYLIGHT
TZOFFSETFROM:+0100
TZOFFSETTO:+0200
TZNAME:CEST
DTSTART:20240331T010000
END:DAYLIGHT
BEGIN:STANDARD
TZOFFSETFROM:+0200
TZOFFSETTO:+0100
TZNAME:CET
DTSTART:20241027T010000
END:STANDARD
BEGIN:DAYLIGHT
TZOFFSETFROM:+0100
TZOFFSETTO:+0200
TZNAME:CEST
DTSTART:20250330T010000
END:DAYLIGHT
BEGIN:STANDARD
TZOFFSETFROM:+0200
TZOFFSETTO:+0100
TZNAME:CET
DTSTART:20251026T010000
END:STANDARD
BEGIN:DAYLIGHT
TZOFFSETFROM:+0100
TZOFFSETTO:+0200
TZNAME:CEST
DTSTART:20260329T010000
END:DAYLIGHT
BEGIN:STANDARD
TZOFFSETFROM:+0200
TZOFFSETTO:+0100
TZNAME:CET
DTSTART:20261025T010000
END:STANDARD
END:VTIMEZONE
BEGIN:VEVENT
DTSTART;VALUE=DATE:20250821
DTEND;VALUE=DATE:20250822
DTSTAMP:20260421T125019
CREATED:20250702T131844Z
LAST-MODIFIED:20250702T131844Z
UID:10043462-1755734400-1755820799@entraide-marolles.be
SUMMARY:Sortie vélo
DESCRIPTION:Le groupe vélo de l’Entr’Aide organise une ballade jusque Neerpede (Anderlecht)\, avec un repas à midi prévu à la ferme du chaudron. \nL’Entr’Aide peut fournir un vélo si vous n’en avez pas. Inscriptions à l’accueil. \nInformations pratiques à venir. \nBienvenue à toutes et tous !
URL:https://entraide-marolles.be/agenda/sortie-velo-12/
CATEGORIES:Groupe vélo
ATTACH;FMTTYPE=image/jpeg:https://entraide-marolles.be/wp-content/uploads/2025/07/2024_vue-ferme-min-scaled-1-e1751462293725.jpg
END:VEVENT
END:VCALENDAR