BEGIN:VCALENDAR
VERSION:2.0
PRODID:-//Entr’Aide des Marolles - ECPv6.15.20//NONSGML v1.0//EN
CALSCALE:GREGORIAN
METHOD:PUBLISH
X-WR-CALNAME:Entr’Aide des Marolles
X-ORIGINAL-URL:https://entraide-marolles.be
X-WR-CALDESC:Évènements pour Entr’Aide des Marolles
REFRESH-INTERVAL;VALUE=DURATION:PT1H
X-Robots-Tag:noindex
X-PUBLISHED-TTL:PT1H
BEGIN:VTIMEZONE
TZID:Europe/Brussels
BEGIN:DAYLIGHT
TZOFFSETFROM:+0100
TZOFFSETTO:+0200
TZNAME:CEST
DTSTART:20260329T010000
END:DAYLIGHT
BEGIN:STANDARD
TZOFFSETFROM:+0200
TZOFFSETTO:+0100
TZNAME:CET
DTSTART:20261025T010000
END:STANDARD
BEGIN:DAYLIGHT
TZOFFSETFROM:+0100
TZOFFSETTO:+0200
TZNAME:CEST
DTSTART:20270328T010000
END:DAYLIGHT
BEGIN:STANDARD
TZOFFSETFROM:+0200
TZOFFSETTO:+0100
TZNAME:CET
DTSTART:20271031T010000
END:STANDARD
BEGIN:DAYLIGHT
TZOFFSETFROM:+0100
TZOFFSETTO:+0200
TZNAME:CEST
DTSTART:20280326T010000
END:DAYLIGHT
BEGIN:STANDARD
TZOFFSETFROM:+0200
TZOFFSETTO:+0100
TZNAME:CET
DTSTART:20281029T010000
END:STANDARD
END:VTIMEZONE
BEGIN:VEVENT
DTSTART;TZID=Europe/Brussels:20270202T143000
DTEND;TZID=Europe/Brussels:20270202T160000
DTSTAMP:20260422T225308
CREATED:20240625T103538Z
LAST-MODIFIED:20241011T160648Z
UID:10000207-1801578600-1801584000@entraide-marolles.be
SUMMARY:Activité sportive - Groupe des Hommes des Marolles
DESCRIPTION:Le Groupe des Hommes des Marolles réunit des habitants du quartier dans un lieu convivial. On échange\, on partage certaines informations sur les activités du quartier\, on organise des sorties culturelles et récréatives ouvertes à toutes et tous. \nPétanque :\nDe mai à septembre\, le mardi de 14h30 À 16h \nFléchettes :\nLe mardi de 14h30 à 16h\, d’octobre à avril \nSelon la météo \nPlus d’informations ici !
URL:https://entraide-marolles.be/agenda/activite-sportive-groupe-des-hommes-des-marolles-21/2027-02-02/
CATEGORIES:Groupe des Hommes des Marolles
ATTACH;FMTTYPE=image/png:https://entraide-marolles.be/wp-content/uploads/2024/06/groupe-des-hommes-agenda-e1719325624909.png
END:VEVENT
BEGIN:VEVENT
DTSTART;TZID=Europe/Brussels:20270209T143000
DTEND;TZID=Europe/Brussels:20270209T160000
DTSTAMP:20260422T225308
CREATED:20240625T103538Z
LAST-MODIFIED:20241011T160648Z
UID:10000208-1802183400-1802188800@entraide-marolles.be
SUMMARY:Activité sportive - Groupe des Hommes des Marolles
DESCRIPTION:Le Groupe des Hommes des Marolles réunit des habitants du quartier dans un lieu convivial. On échange\, on partage certaines informations sur les activités du quartier\, on organise des sorties culturelles et récréatives ouvertes à toutes et tous. \nPétanque :\nDe mai à septembre\, le mardi de 14h30 À 16h \nFléchettes :\nLe mardi de 14h30 à 16h\, d’octobre à avril \nSelon la météo \nPlus d’informations ici !
URL:https://entraide-marolles.be/agenda/activite-sportive-groupe-des-hommes-des-marolles-21/2027-02-09/
CATEGORIES:Groupe des Hommes des Marolles
ATTACH;FMTTYPE=image/png:https://entraide-marolles.be/wp-content/uploads/2024/06/groupe-des-hommes-agenda-e1719325624909.png
END:VEVENT
BEGIN:VEVENT
DTSTART;TZID=Europe/Brussels:20270216T143000
DTEND;TZID=Europe/Brussels:20270216T160000
DTSTAMP:20260422T225308
CREATED:20240625T103538Z
LAST-MODIFIED:20241011T160648Z
UID:10000209-1802788200-1802793600@entraide-marolles.be
SUMMARY:Activité sportive - Groupe des Hommes des Marolles
DESCRIPTION:Le Groupe des Hommes des Marolles réunit des habitants du quartier dans un lieu convivial. On échange\, on partage certaines informations sur les activités du quartier\, on organise des sorties culturelles et récréatives ouvertes à toutes et tous. \nPétanque :\nDe mai à septembre\, le mardi de 14h30 À 16h \nFléchettes :\nLe mardi de 14h30 à 16h\, d’octobre à avril \nSelon la météo \nPlus d’informations ici !
URL:https://entraide-marolles.be/agenda/activite-sportive-groupe-des-hommes-des-marolles-21/2027-02-16/
CATEGORIES:Groupe des Hommes des Marolles
ATTACH;FMTTYPE=image/png:https://entraide-marolles.be/wp-content/uploads/2024/06/groupe-des-hommes-agenda-e1719325624909.png
END:VEVENT
BEGIN:VEVENT
DTSTART;TZID=Europe/Brussels:20270223T143000
DTEND;TZID=Europe/Brussels:20270223T160000
DTSTAMP:20260422T225308
CREATED:20240625T103538Z
LAST-MODIFIED:20241011T160648Z
UID:10000210-1803393000-1803398400@entraide-marolles.be
SUMMARY:Activité sportive - Groupe des Hommes des Marolles
DESCRIPTION:Le Groupe des Hommes des Marolles réunit des habitants du quartier dans un lieu convivial. On échange\, on partage certaines informations sur les activités du quartier\, on organise des sorties culturelles et récréatives ouvertes à toutes et tous. \nPétanque :\nDe mai à septembre\, le mardi de 14h30 À 16h \nFléchettes :\nLe mardi de 14h30 à 16h\, d’octobre à avril \nSelon la météo \nPlus d’informations ici !
URL:https://entraide-marolles.be/agenda/activite-sportive-groupe-des-hommes-des-marolles-21/2027-02-23/
CATEGORIES:Groupe des Hommes des Marolles
ATTACH;FMTTYPE=image/png:https://entraide-marolles.be/wp-content/uploads/2024/06/groupe-des-hommes-agenda-e1719325624909.png
END:VEVENT
END:VCALENDAR