BEGIN:VCALENDAR
VERSION:2.0
PRODID:-//Entr’Aide des Marolles - ECPv6.15.20//NONSGML v1.0//EN
CALSCALE:GREGORIAN
METHOD:PUBLISH
X-WR-CALNAME:Entr’Aide des Marolles
X-ORIGINAL-URL:https://entraide-marolles.be
X-WR-CALDESC:Évènements pour Entr’Aide des Marolles
REFRESH-INTERVAL;VALUE=DURATION:PT1H
X-Robots-Tag:noindex
X-PUBLISHED-TTL:PT1H
BEGIN:VTIMEZONE
TZID:Europe/Brussels
BEGIN:DAYLIGHT
TZOFFSETFROM:+0100
TZOFFSETTO:+0200
TZNAME:CEST
DTSTART:20240331T010000
END:DAYLIGHT
BEGIN:STANDARD
TZOFFSETFROM:+0200
TZOFFSETTO:+0100
TZNAME:CET
DTSTART:20241027T010000
END:STANDARD
BEGIN:DAYLIGHT
TZOFFSETFROM:+0100
TZOFFSETTO:+0200
TZNAME:CEST
DTSTART:20250330T010000
END:DAYLIGHT
BEGIN:STANDARD
TZOFFSETFROM:+0200
TZOFFSETTO:+0100
TZNAME:CET
DTSTART:20251026T010000
END:STANDARD
BEGIN:DAYLIGHT
TZOFFSETFROM:+0100
TZOFFSETTO:+0200
TZNAME:CEST
DTSTART:20260329T010000
END:DAYLIGHT
BEGIN:STANDARD
TZOFFSETFROM:+0200
TZOFFSETTO:+0100
TZNAME:CET
DTSTART:20261025T010000
END:STANDARD
END:VTIMEZONE
BEGIN:VEVENT
DTSTART;TZID=Europe/Brussels:20250805T143000
DTEND;TZID=Europe/Brussels:20250805T160000
DTSTAMP:20260421T061518
CREATED:20240625T103538Z
LAST-MODIFIED:20241011T160648Z
UID:10000129-1754404200-1754409600@entraide-marolles.be
SUMMARY:Activité sportive - Groupe des Hommes des Marolles
DESCRIPTION:Le Groupe des Hommes des Marolles réunit des habitants du quartier dans un lieu convivial. On échange\, on partage certaines informations sur les activités du quartier\, on organise des sorties culturelles et récréatives ouvertes à toutes et tous. \nPétanque :\nDe mai à septembre\, le mardi de 14h30 À 16h \nFléchettes :\nLe mardi de 14h30 à 16h\, d’octobre à avril \nSelon la météo \nPlus d’informations ici !
URL:https://entraide-marolles.be/agenda/activite-sportive-groupe-des-hommes-des-marolles-21/2025-08-05/
CATEGORIES:Groupe des Hommes des Marolles
ATTACH;FMTTYPE=image/png:https://entraide-marolles.be/wp-content/uploads/2024/06/groupe-des-hommes-agenda-e1719325624909.png
END:VEVENT
BEGIN:VEVENT
DTSTART;TZID=Europe/Brussels:20250812T143000
DTEND;TZID=Europe/Brussels:20250812T160000
DTSTAMP:20260421T061518
CREATED:20240625T103538Z
LAST-MODIFIED:20241011T160648Z
UID:10000130-1755009000-1755014400@entraide-marolles.be
SUMMARY:Activité sportive - Groupe des Hommes des Marolles
DESCRIPTION:Le Groupe des Hommes des Marolles réunit des habitants du quartier dans un lieu convivial. On échange\, on partage certaines informations sur les activités du quartier\, on organise des sorties culturelles et récréatives ouvertes à toutes et tous. \nPétanque :\nDe mai à septembre\, le mardi de 14h30 À 16h \nFléchettes :\nLe mardi de 14h30 à 16h\, d’octobre à avril \nSelon la météo \nPlus d’informations ici !
URL:https://entraide-marolles.be/agenda/activite-sportive-groupe-des-hommes-des-marolles-21/2025-08-12/
CATEGORIES:Groupe des Hommes des Marolles
ATTACH;FMTTYPE=image/png:https://entraide-marolles.be/wp-content/uploads/2024/06/groupe-des-hommes-agenda-e1719325624909.png
END:VEVENT
BEGIN:VEVENT
DTSTART;TZID=Europe/Brussels:20250819T143000
DTEND;TZID=Europe/Brussels:20250819T160000
DTSTAMP:20260421T061518
CREATED:20240625T103538Z
LAST-MODIFIED:20241011T160648Z
UID:10000131-1755613800-1755619200@entraide-marolles.be
SUMMARY:Activité sportive - Groupe des Hommes des Marolles
DESCRIPTION:Le Groupe des Hommes des Marolles réunit des habitants du quartier dans un lieu convivial. On échange\, on partage certaines informations sur les activités du quartier\, on organise des sorties culturelles et récréatives ouvertes à toutes et tous. \nPétanque :\nDe mai à septembre\, le mardi de 14h30 À 16h \nFléchettes :\nLe mardi de 14h30 à 16h\, d’octobre à avril \nSelon la météo \nPlus d’informations ici !
URL:https://entraide-marolles.be/agenda/activite-sportive-groupe-des-hommes-des-marolles-21/2025-08-19/
CATEGORIES:Groupe des Hommes des Marolles
ATTACH;FMTTYPE=image/png:https://entraide-marolles.be/wp-content/uploads/2024/06/groupe-des-hommes-agenda-e1719325624909.png
END:VEVENT
BEGIN:VEVENT
DTSTART;TZID=Europe/Brussels:20250826T143000
DTEND;TZID=Europe/Brussels:20250826T160000
DTSTAMP:20260421T061518
CREATED:20240625T103538Z
LAST-MODIFIED:20241011T160648Z
UID:10000132-1756218600-1756224000@entraide-marolles.be
SUMMARY:Activité sportive - Groupe des Hommes des Marolles
DESCRIPTION:Le Groupe des Hommes des Marolles réunit des habitants du quartier dans un lieu convivial. On échange\, on partage certaines informations sur les activités du quartier\, on organise des sorties culturelles et récréatives ouvertes à toutes et tous. \nPétanque :\nDe mai à septembre\, le mardi de 14h30 À 16h \nFléchettes :\nLe mardi de 14h30 à 16h\, d’octobre à avril \nSelon la météo \nPlus d’informations ici !
URL:https://entraide-marolles.be/agenda/activite-sportive-groupe-des-hommes-des-marolles-21/2025-08-26/
CATEGORIES:Groupe des Hommes des Marolles
ATTACH;FMTTYPE=image/png:https://entraide-marolles.be/wp-content/uploads/2024/06/groupe-des-hommes-agenda-e1719325624909.png
END:VEVENT
END:VCALENDAR