BEGIN:VCALENDAR
VERSION:2.0
PRODID:-//Entr’Aide des Marolles - ECPv6.15.20//NONSGML v1.0//EN
CALSCALE:GREGORIAN
METHOD:PUBLISH
X-ORIGINAL-URL:https://entraide-marolles.be
X-WR-CALDESC:Évènements pour Entr’Aide des Marolles
REFRESH-INTERVAL;VALUE=DURATION:PT1H
X-Robots-Tag:noindex
X-PUBLISHED-TTL:PT1H
BEGIN:VTIMEZONE
TZID:Europe/Brussels
BEGIN:DAYLIGHT
TZOFFSETFROM:+0100
TZOFFSETTO:+0200
TZNAME:CEST
DTSTART:20230326T010000
END:DAYLIGHT
BEGIN:STANDARD
TZOFFSETFROM:+0200
TZOFFSETTO:+0100
TZNAME:CET
DTSTART:20231029T010000
END:STANDARD
BEGIN:DAYLIGHT
TZOFFSETFROM:+0100
TZOFFSETTO:+0200
TZNAME:CEST
DTSTART:20240331T010000
END:DAYLIGHT
BEGIN:STANDARD
TZOFFSETFROM:+0200
TZOFFSETTO:+0100
TZNAME:CET
DTSTART:20241027T010000
END:STANDARD
BEGIN:DAYLIGHT
TZOFFSETFROM:+0100
TZOFFSETTO:+0200
TZNAME:CEST
DTSTART:20250330T010000
END:DAYLIGHT
BEGIN:STANDARD
TZOFFSETFROM:+0200
TZOFFSETTO:+0100
TZNAME:CET
DTSTART:20251026T010000
END:STANDARD
END:VTIMEZONE
BEGIN:VEVENT
DTSTART;TZID=Europe/Brussels:20241001T143000
DTEND;TZID=Europe/Brussels:20241001T160000
DTSTAMP:20260422T165034
CREATED:20240625T103538Z
LAST-MODIFIED:20241011T160648Z
UID:10000085-1727793000-1727798400@entraide-marolles.be
SUMMARY:Activité sportive - Groupe des Hommes des Marolles
DESCRIPTION:Le Groupe des Hommes des Marolles réunit des habitants du quartier dans un lieu convivial. On échange\, on partage certaines informations sur les activités du quartier\, on organise des sorties culturelles et récréatives ouvertes à toutes et tous. \nPétanque :\nDe mai à septembre\, le mardi de 14h30 À 16h \nFléchettes :\nLe mardi de 14h30 à 16h\, d’octobre à avril \nSelon la météo \nPlus d’informations ici !
URL:https://entraide-marolles.be/agenda/activite-sportive-groupe-des-hommes-des-marolles-21/2024-10-01/
CATEGORIES:Groupe des Hommes des Marolles
ATTACH;FMTTYPE=image/png:https://entraide-marolles.be/wp-content/uploads/2024/06/groupe-des-hommes-agenda-e1719325624909.png
END:VEVENT
BEGIN:VEVENT
DTSTART;TZID=Europe/Brussels:20241008T143000
DTEND;TZID=Europe/Brussels:20241008T160000
DTSTAMP:20260422T165034
CREATED:20240625T103538Z
LAST-MODIFIED:20241011T160648Z
UID:10000086-1728397800-1728403200@entraide-marolles.be
SUMMARY:Activité sportive - Groupe des Hommes des Marolles
DESCRIPTION:Le Groupe des Hommes des Marolles réunit des habitants du quartier dans un lieu convivial. On échange\, on partage certaines informations sur les activités du quartier\, on organise des sorties culturelles et récréatives ouvertes à toutes et tous. \nPétanque :\nDe mai à septembre\, le mardi de 14h30 À 16h \nFléchettes :\nLe mardi de 14h30 à 16h\, d’octobre à avril \nSelon la météo \nPlus d’informations ici !
URL:https://entraide-marolles.be/agenda/activite-sportive-groupe-des-hommes-des-marolles-21/2024-10-08/
CATEGORIES:Groupe des Hommes des Marolles
ATTACH;FMTTYPE=image/png:https://entraide-marolles.be/wp-content/uploads/2024/06/groupe-des-hommes-agenda-e1719325624909.png
END:VEVENT
BEGIN:VEVENT
DTSTART;TZID=Europe/Brussels:20241015T143000
DTEND;TZID=Europe/Brussels:20241015T160000
DTSTAMP:20260422T165034
CREATED:20240625T103538Z
LAST-MODIFIED:20241011T160648Z
UID:10000087-1729002600-1729008000@entraide-marolles.be
SUMMARY:Activité sportive - Groupe des Hommes des Marolles
DESCRIPTION:Le Groupe des Hommes des Marolles réunit des habitants du quartier dans un lieu convivial. On échange\, on partage certaines informations sur les activités du quartier\, on organise des sorties culturelles et récréatives ouvertes à toutes et tous. \nPétanque :\nDe mai à septembre\, le mardi de 14h30 À 16h \nFléchettes :\nLe mardi de 14h30 à 16h\, d’octobre à avril \nSelon la météo \nPlus d’informations ici !
URL:https://entraide-marolles.be/agenda/activite-sportive-groupe-des-hommes-des-marolles-21/2024-10-15/
CATEGORIES:Groupe des Hommes des Marolles
ATTACH;FMTTYPE=image/png:https://entraide-marolles.be/wp-content/uploads/2024/06/groupe-des-hommes-agenda-e1719325624909.png
END:VEVENT
BEGIN:VEVENT
DTSTART;TZID=Europe/Brussels:20241022T143000
DTEND;TZID=Europe/Brussels:20241022T160000
DTSTAMP:20260422T165034
CREATED:20240625T103538Z
LAST-MODIFIED:20241011T160648Z
UID:10000088-1729607400-1729612800@entraide-marolles.be
SUMMARY:Activité sportive - Groupe des Hommes des Marolles
DESCRIPTION:Le Groupe des Hommes des Marolles réunit des habitants du quartier dans un lieu convivial. On échange\, on partage certaines informations sur les activités du quartier\, on organise des sorties culturelles et récréatives ouvertes à toutes et tous. \nPétanque :\nDe mai à septembre\, le mardi de 14h30 À 16h \nFléchettes :\nLe mardi de 14h30 à 16h\, d’octobre à avril \nSelon la météo \nPlus d’informations ici !
URL:https://entraide-marolles.be/agenda/activite-sportive-groupe-des-hommes-des-marolles-21/2024-10-22/
CATEGORIES:Groupe des Hommes des Marolles
ATTACH;FMTTYPE=image/png:https://entraide-marolles.be/wp-content/uploads/2024/06/groupe-des-hommes-agenda-e1719325624909.png
END:VEVENT
BEGIN:VEVENT
DTSTART;TZID=Europe/Brussels:20241029T143000
DTEND;TZID=Europe/Brussels:20241029T160000
DTSTAMP:20260422T165034
CREATED:20240625T103538Z
LAST-MODIFIED:20241011T160648Z
UID:10000089-1730212200-1730217600@entraide-marolles.be
SUMMARY:Activité sportive - Groupe des Hommes des Marolles
DESCRIPTION:Le Groupe des Hommes des Marolles réunit des habitants du quartier dans un lieu convivial. On échange\, on partage certaines informations sur les activités du quartier\, on organise des sorties culturelles et récréatives ouvertes à toutes et tous. \nPétanque :\nDe mai à septembre\, le mardi de 14h30 À 16h \nFléchettes :\nLe mardi de 14h30 à 16h\, d’octobre à avril \nSelon la météo \nPlus d’informations ici !
URL:https://entraide-marolles.be/agenda/activite-sportive-groupe-des-hommes-des-marolles-21/2024-10-29/
CATEGORIES:Groupe des Hommes des Marolles
ATTACH;FMTTYPE=image/png:https://entraide-marolles.be/wp-content/uploads/2024/06/groupe-des-hommes-agenda-e1719325624909.png
END:VEVENT
END:VCALENDAR