BEGIN:VCALENDAR
VERSION:2.0
PRODID:-//Entr’Aide des Marolles - ECPv6.15.20//NONSGML v1.0//EN
CALSCALE:GREGORIAN
METHOD:PUBLISH
X-ORIGINAL-URL:https://entraide-marolles.be
X-WR-CALDESC:Évènements pour Entr’Aide des Marolles
REFRESH-INTERVAL;VALUE=DURATION:PT1H
X-Robots-Tag:noindex
X-PUBLISHED-TTL:PT1H
BEGIN:VTIMEZONE
TZID:Europe/Brussels
BEGIN:DAYLIGHT
TZOFFSETFROM:+0100
TZOFFSETTO:+0200
TZNAME:CEST
DTSTART:20230326T010000
END:DAYLIGHT
BEGIN:STANDARD
TZOFFSETFROM:+0200
TZOFFSETTO:+0100
TZNAME:CET
DTSTART:20231029T010000
END:STANDARD
BEGIN:DAYLIGHT
TZOFFSETFROM:+0100
TZOFFSETTO:+0200
TZNAME:CEST
DTSTART:20240331T010000
END:DAYLIGHT
BEGIN:STANDARD
TZOFFSETFROM:+0200
TZOFFSETTO:+0100
TZNAME:CET
DTSTART:20241027T010000
END:STANDARD
BEGIN:DAYLIGHT
TZOFFSETFROM:+0100
TZOFFSETTO:+0200
TZNAME:CEST
DTSTART:20250330T010000
END:DAYLIGHT
BEGIN:STANDARD
TZOFFSETFROM:+0200
TZOFFSETTO:+0100
TZNAME:CET
DTSTART:20251026T010000
END:STANDARD
END:VTIMEZONE
BEGIN:VEVENT
DTSTART;TZID=Europe/Brussels:20240312T143000
DTEND;TZID=Europe/Brussels:20240312T160000
DTSTAMP:20260424T150806
CREATED:20240308T163053Z
LAST-MODIFIED:20240308T163053Z
UID:10000056-1710253800-1710259200@entraide-marolles.be
SUMMARY:Activité sportive - groupe des hommes des Marolles
DESCRIPTION:Le Groupe des Hommes des Marolles réunit des habitants du quartier dans un lieu convivial. On échange\, on partage certaines informations sur les activités du quartier\, on organise des sorties culturelles et récréatives ouvertes à toutes et tous. \nPétanque :\nDe mai à septembre\, le mardi de 14h30 À 16h \nFléchettes :\nLe mardi de 14h30 à 16h\, d’octobre à avril \nSelon la météo \nPlus d’informations ici !
URL:https://entraide-marolles.be/agenda/activite-sportive-groupe-des-hommes-des-marolles-17/
CATEGORIES:Groupe des Hommes des Marolles
ATTACH;FMTTYPE=image/png:https://entraide-marolles.be/wp-content/uploads/2023/06/gdh-e1687963398229.png
END:VEVENT
END:VCALENDAR