BEGIN:VCALENDAR
VERSION:2.0
PRODID:-//Entr’Aide des Marolles - ECPv6.15.20//NONSGML v1.0//EN
CALSCALE:GREGORIAN
METHOD:PUBLISH
X-ORIGINAL-URL:https://entraide-marolles.be
X-WR-CALDESC:Évènements pour Entr’Aide des Marolles
REFRESH-INTERVAL;VALUE=DURATION:PT1H
X-Robots-Tag:noindex
X-PUBLISHED-TTL:PT1H
BEGIN:VTIMEZONE
TZID:Europe/Brussels
BEGIN:DAYLIGHT
TZOFFSETFROM:+0100
TZOFFSETTO:+0200
TZNAME:CEST
DTSTART:20220327T010000
END:DAYLIGHT
BEGIN:STANDARD
TZOFFSETFROM:+0200
TZOFFSETTO:+0100
TZNAME:CET
DTSTART:20221030T010000
END:STANDARD
BEGIN:DAYLIGHT
TZOFFSETFROM:+0100
TZOFFSETTO:+0200
TZNAME:CEST
DTSTART:20230326T010000
END:DAYLIGHT
BEGIN:STANDARD
TZOFFSETFROM:+0200
TZOFFSETTO:+0100
TZNAME:CET
DTSTART:20231029T010000
END:STANDARD
BEGIN:DAYLIGHT
TZOFFSETFROM:+0100
TZOFFSETTO:+0200
TZNAME:CEST
DTSTART:20240331T010000
END:DAYLIGHT
BEGIN:STANDARD
TZOFFSETFROM:+0200
TZOFFSETTO:+0100
TZNAME:CET
DTSTART:20241027T010000
END:STANDARD
END:VTIMEZONE
BEGIN:VEVENT
DTSTART;TZID=Europe/Brussels:20230704T143000
DTEND;TZID=Europe/Brussels:20230704T160000
DTSTAMP:20260424T202515
CREATED:20230615T082753Z
LAST-MODIFIED:20230615T084743Z
UID:10000005-1688481000-1688486400@entraide-marolles.be
SUMMARY:Activité sportive - Groupe des hommes des Marolles
DESCRIPTION:Le Groupe Des Hommes Des Marolles Réunit Des Habitants Du Quartier Dans Un Lieu Convivial. On Échange\, On Partage Certaines Informations Sur Les Activités Du Quartier\, On Organise Des Sorties Culturelles Et Récréatives. \nLes Sorties Extérieures Sont Ouvertes À Toutes Et Tous. \nPétanque :\nDe Mai À Septembre\, Le Mardi De 14h30 À 16h \nFléchettes :\nLe Mardi De 14h30 À 16h\, D’octobre À Avril \nSelon La Météo \nPlus d’informations ici !
URL:https://entraide-marolles.be/agenda/activite-sportive-groupe-des-hommes-des-marolles-2/
CATEGORIES:Groupe des Hommes des Marolles
END:VEVENT
BEGIN:VEVENT
DTSTART;TZID=Europe/Brussels:20230711T143000
DTEND;TZID=Europe/Brussels:20230711T160000
DTSTAMP:20260424T202515
CREATED:20230615T082831Z
LAST-MODIFIED:20230615T084737Z
UID:10000006-1689085800-1689091200@entraide-marolles.be
SUMMARY:Activité sportive - Groupe des hommes des Marolles
DESCRIPTION:Le Groupe Des Hommes Des Marolles Réunit Des Habitants Du Quartier Dans Un Lieu Convivial. On Échange\, On Partage Certaines Informations Sur Les Activités Du Quartier\, On Organise Des Sorties Culturelles Et Récréatives. \nLes Sorties Extérieures Sont Ouvertes À Toutes Et Tous. \nPétanque :\nDe Mai À Septembre\, Le Mardi De 14h30 À 16h \nFléchettes :\nLe Mardi De 14h30 À 16h\, D’octobre À Avril \nSelon La Météo \nPlus d’informations ici !
URL:https://entraide-marolles.be/agenda/activite-sportive-groupe-des-hommes-des-marolles-3/
CATEGORIES:Groupe des Hommes des Marolles
END:VEVENT
BEGIN:VEVENT
DTSTART;TZID=Europe/Brussels:20230718T143000
DTEND;TZID=Europe/Brussels:20230718T160000
DTSTAMP:20260424T202515
CREATED:20230615T082901Z
LAST-MODIFIED:20230615T084731Z
UID:10000007-1689690600-1689696000@entraide-marolles.be
SUMMARY:Activité sportive - Groupe des hommes des Marolles
DESCRIPTION:Le Groupe Des Hommes Des Marolles Réunit Des Habitants Du Quartier Dans Un Lieu Convivial. On Échange\, On Partage Certaines Informations Sur Les Activités Du Quartier\, On Organise Des Sorties Culturelles Et Récréatives. \nLes Sorties Extérieures Sont Ouvertes À Toutes Et Tous. \nPétanque :\nDe Mai À Septembre\, Le Mardi De 14h30 À 16h \nFléchettes :\nLe Mardi De 14h30 À 16h\, D’octobre À Avril \nSelon La Météo \nPlus d’informations ici !
URL:https://entraide-marolles.be/agenda/activite-sportive-groupe-des-hommes-des-marolles-4/
CATEGORIES:Groupe des Hommes des Marolles
END:VEVENT
BEGIN:VEVENT
DTSTART;TZID=Europe/Brussels:20230725T143000
DTEND;TZID=Europe/Brussels:20230725T160000
DTSTAMP:20260424T202515
CREATED:20230615T084224Z
LAST-MODIFIED:20230615T084725Z
UID:10000008-1690295400-1690300800@entraide-marolles.be
SUMMARY:Activité sportive - Groupe des hommes des Marolles
DESCRIPTION:Le Groupe Des Hommes Des Marolles Réunit Des Habitants Du Quartier Dans Un Lieu Convivial. On Échange\, On Partage Certaines Informations Sur Les Activités Du Quartier\, On Organise Des Sorties Culturelles Et Récréatives. \nLes Sorties Extérieures Sont Ouvertes À Toutes Et Tous. \nPétanque :\nDe Mai À Septembre\, Le Mardi De 14h30 À 16h \nFléchettes :\nLe Mardi De 14h30 À 16h\, D’octobre À Avril \nSelon La Météo \nPlus d’informations ici !
URL:https://entraide-marolles.be/agenda/activite-sportive-groupe-des-hommes-des-marolles-5/
CATEGORIES:Groupe des Hommes des Marolles
END:VEVENT
END:VCALENDAR