BEGIN:VCALENDAR
VERSION:2.0
PRODID:-//Entr’Aide des Marolles - ECPv6.15.20//NONSGML v1.0//EN
CALSCALE:GREGORIAN
METHOD:PUBLISH
X-WR-CALNAME:Entr’Aide des Marolles
X-ORIGINAL-URL:https://entraide-marolles.be
X-WR-CALDESC:Évènements pour Entr’Aide des Marolles
REFRESH-INTERVAL;VALUE=DURATION:PT1H
X-Robots-Tag:noindex
X-PUBLISHED-TTL:PT1H
BEGIN:VTIMEZONE
TZID:Europe/Brussels
BEGIN:DAYLIGHT
TZOFFSETFROM:+0100
TZOFFSETTO:+0200
TZNAME:CEST
DTSTART:20220327T010000
END:DAYLIGHT
BEGIN:STANDARD
TZOFFSETFROM:+0200
TZOFFSETTO:+0100
TZNAME:CET
DTSTART:20221030T010000
END:STANDARD
BEGIN:DAYLIGHT
TZOFFSETFROM:+0100
TZOFFSETTO:+0200
TZNAME:CEST
DTSTART:20230326T010000
END:DAYLIGHT
BEGIN:STANDARD
TZOFFSETFROM:+0200
TZOFFSETTO:+0100
TZNAME:CET
DTSTART:20231029T010000
END:STANDARD
BEGIN:DAYLIGHT
TZOFFSETFROM:+0100
TZOFFSETTO:+0200
TZNAME:CEST
DTSTART:20240331T010000
END:DAYLIGHT
BEGIN:STANDARD
TZOFFSETFROM:+0200
TZOFFSETTO:+0100
TZNAME:CET
DTSTART:20241027T010000
END:STANDARD
END:VTIMEZONE
BEGIN:VEVENT
DTSTART;TZID=Europe/Brussels:20230620T143000
DTEND;TZID=Europe/Brussels:20230620T160000
DTSTAMP:20260424T220750
CREATED:20230615T081443Z
LAST-MODIFIED:20230615T084757Z
UID:10000003-1687271400-1687276800@entraide-marolles.be
SUMMARY:Activité sportive - Groupe des hommes des Marolles
DESCRIPTION:Le Groupe Des Hommes Des Marolles Réunit Des Habitants Du Quartier Dans Un Lieu Convivial. On Échange\, On Partage Certaines Informations Sur Les Activités Du Quartier\, On Organise Des Sorties Culturelles Et Récréatives. \nLes Sorties Extérieures Sont Ouvertes À Toutes Et Tous. \nPétanque :\nDe Mai À Septembre\, Le Mardi De 14h30 À 16h \nFléchettes :\nLe Mardi De 14h30 À 16h\, D’octobre À Avril \nSelon La Météo \nPlus d’informations ici !
URL:https://entraide-marolles.be/agenda/activite-sportive-petanque-ou-flechettes-groupe-des-hommes-des-marolles/
CATEGORIES:Groupe des Hommes des Marolles
END:VEVENT
BEGIN:VEVENT
DTSTART;TZID=Europe/Brussels:20230627T143000
DTEND;TZID=Europe/Brussels:20230627T160000
DTSTAMP:20260424T220750
CREATED:20230615T082657Z
LAST-MODIFIED:20230615T084749Z
UID:10000004-1687876200-1687881600@entraide-marolles.be
SUMMARY:Activité sportive - Groupe des hommes des Marolles
DESCRIPTION:Le Groupe Des Hommes Des Marolles Réunit Des Habitants Du Quartier Dans Un Lieu Convivial. On Échange\, On Partage Certaines Informations Sur Les Activités Du Quartier\, On Organise Des Sorties Culturelles Et Récréatives. \nLes Sorties Extérieures Sont Ouvertes À Toutes Et Tous. \nPétanque :\nDe Mai À Septembre\, Le Mardi De 14h30 À 16h \nFléchettes :\nLe Mardi De 14h30 À 16h\, D’octobre À Avril \nSelon La Météo \nPlus d’informations ici !
URL:https://entraide-marolles.be/agenda/activite-sportive-groupe-des-hommes-des-marolles/
CATEGORIES:Groupe des Hommes des Marolles
END:VEVENT
BEGIN:VEVENT
DTSTART;TZID=Europe/Brussels:20230628T000000
DTEND;TZID=Europe/Brussels:20230628T000000
DTSTAMP:20260424T220750
CREATED:20230615T082916Z
LAST-MODIFIED:20230628T144426Z
UID:10000021-1687910400-1687910400@entraide-marolles.be
SUMMARY:Activité sportive - Groupe des hommes des Marolles
DESCRIPTION:Le Groupe Des Hommes Des Marolles Réunit Des Habitants Du Quartier Dans Un Lieu Convivial. On Échange\, On Partage Certaines Informations Sur Les Activités Du Quartier\, On Organise Des Sorties Culturelles Et Récréatives. \nLes Sorties Extérieures Sont Ouvertes À Toutes Et Tous. \nPétanque :\nDe Mai À Septembre\, Le Mardi De 14h30 À 16h \nFléchettes :\nLe Mardi De 14h30 À 16h\, D’octobre À Avril \nSelon La Météo \nPlus d’informations ici !
URL:https://entraide-marolles.be/agenda/activite-sportive-groupe-des-hommes-des-marolles-10/
CATEGORIES:Groupe des Hommes des Marolles
ATTACH;FMTTYPE=image/png:https://entraide-marolles.be/wp-content/uploads/2023/06/gdh-e1687963398229.png
END:VEVENT
END:VCALENDAR