BEGIN:VCALENDAR
VERSION:2.0
PRODID:-//Entr’Aide des Marolles - ECPv6.15.20//NONSGML v1.0//EN
CALSCALE:GREGORIAN
METHOD:PUBLISH
X-WR-CALNAME:Entr’Aide des Marolles
X-ORIGINAL-URL:https://entraide-marolles.be
X-WR-CALDESC:Évènements pour Entr’Aide des Marolles
REFRESH-INTERVAL;VALUE=DURATION:PT1H
X-Robots-Tag:noindex
X-PUBLISHED-TTL:PT1H
BEGIN:VTIMEZONE
TZID:Europe/Brussels
BEGIN:DAYLIGHT
TZOFFSETFROM:+0100
TZOFFSETTO:+0200
TZNAME:CEST
DTSTART:20280326T010000
END:DAYLIGHT
BEGIN:STANDARD
TZOFFSETFROM:+0200
TZOFFSETTO:+0100
TZNAME:CET
DTSTART:20281029T010000
END:STANDARD
BEGIN:DAYLIGHT
TZOFFSETFROM:+0100
TZOFFSETTO:+0200
TZNAME:CEST
DTSTART:20290325T010000
END:DAYLIGHT
BEGIN:STANDARD
TZOFFSETFROM:+0200
TZOFFSETTO:+0100
TZNAME:CET
DTSTART:20291028T010000
END:STANDARD
BEGIN:DAYLIGHT
TZOFFSETFROM:+0100
TZOFFSETTO:+0200
TZNAME:CEST
DTSTART:20300331T010000
END:DAYLIGHT
BEGIN:STANDARD
TZOFFSETFROM:+0200
TZOFFSETTO:+0100
TZNAME:CET
DTSTART:20301027T010000
END:STANDARD
END:VTIMEZONE
BEGIN:VEVENT
DTSTART;TZID=Europe/Brussels:20290730T100000
DTEND;TZID=Europe/Brussels:20290730T120000
DTSTAMP:20260426T043352
CREATED:20241022T134248Z
LAST-MODIFIED:20260217T144736Z
UID:10029305-1880100000-1880107200@entraide-marolles.be
SUMMARY:Lundi à thème - Groupe Bien-être
DESCRIPTION:Les lundis à thème ce sont des moments de rencontre et d’échange créés par les femmes du groupe Bien-être pour passer du temps ensemble\, s’entraider\, échanger des idées\, créer des projets\, sortir de la solitude… \nActivité réservée aux femmes. \nTous les lundis de 10h à 12h en salle d’activité. \nPlus d’infos sur la page du GBE
URL:https://entraide-marolles.be/agenda/groupe-bien-etre-lundi-a-theme-2-2/2029-07-30/
CATEGORIES:Groupe Bien-être
ATTACH;FMTTYPE=image/png:https://entraide-marolles.be/wp-content/uploads/2024/06/Capture-decran-2023-05-11-102255-e1719326874216.png
END:VEVENT
BEGIN:VEVENT
DTSTART;TZID=Europe/Brussels:20290731T113000
DTEND;TZID=Europe/Brussels:20290731T130000
DTSTAMP:20260426T043352
CREATED:20241022T134408Z
LAST-MODIFIED:20260305T152243Z
UID:10038289-1880191800-1880197200@entraide-marolles.be
SUMMARY:Gymnastique hypopressive - Groupe Bien-être
DESCRIPTION:La gymnastique hypopressive est une activité qui se base sur un travail en douceur des muscles périnées et abdominaux. Chaque séance se termine par une relaxation \nActivité réservée aux femmes \nSans inscription – participation : 1 € \nPlus d’infos au 0497/209.410 ou sur la page du GBE
URL:https://entraide-marolles.be/agenda/groupe-bien-etre-gymnastique-hypopressive-2/2029-07-31/
CATEGORIES:Groupe Bien-être
ATTACH;FMTTYPE=image/png:https://entraide-marolles.be/wp-content/uploads/2024/06/Capture-decran-2023-05-11-102255-e1719326874216.png
END:VEVENT
BEGIN:VEVENT
DTSTART;TZID=Europe/Brussels:20290731T181500
DTEND;TZID=Europe/Brussels:20290731T200000
DTSTAMP:20260426T043352
CREATED:20250408T161003Z
LAST-MODIFIED:20260423T135208Z
UID:10040063-1880216100-1880222400@entraide-marolles.be
SUMMARY:Gymnastique en musique - Groupe Bien-être
DESCRIPTION:Activité menée par une participante engagée qui rassemble un public de femmes motivées à exercer des exercices cardiovasculaires et musculaires. \nActivité destinée aux femmes \nLes mardi et jeudi de 18h15 à 20h00 \nparticipation : 1 € \nPlus d’infos au 0487/20.94.10 ou sur la page du GBE
URL:https://entraide-marolles.be/agenda/groupe-bien-etre-gymnastique-en-musique-3-2-2-2-2/2029-07-31/
CATEGORIES:Groupe Bien-être
ATTACH;FMTTYPE=image/png:https://entraide-marolles.be/wp-content/uploads/2024/06/Capture-decran-2023-05-11-102255-e1719326874216.png
END:VEVENT
BEGIN:VEVENT
DTSTART;TZID=Europe/Brussels:20290802T181500
DTEND;TZID=Europe/Brussels:20290802T200000
DTSTAMP:20260426T043352
CREATED:20250408T161003Z
LAST-MODIFIED:20260423T135208Z
UID:10040064-1880388900-1880395200@entraide-marolles.be
SUMMARY:Gymnastique en musique - Groupe Bien-être
DESCRIPTION:Activité menée par une participante engagée qui rassemble un public de femmes motivées à exercer des exercices cardiovasculaires et musculaires. \nActivité destinée aux femmes \nLes mardi et jeudi de 18h15 à 20h00 \nparticipation : 1 € \nPlus d’infos au 0487/20.94.10 ou sur la page du GBE
URL:https://entraide-marolles.be/agenda/groupe-bien-etre-gymnastique-en-musique-3-2-2-2-2/2029-08-02/
CATEGORIES:Groupe Bien-être
ATTACH;FMTTYPE=image/png:https://entraide-marolles.be/wp-content/uploads/2024/06/Capture-decran-2023-05-11-102255-e1719326874216.png
END:VEVENT
BEGIN:VEVENT
DTSTART;TZID=Europe/Brussels:20290803T100000
DTEND;TZID=Europe/Brussels:20290803T120000
DTSTAMP:20260426T043352
CREATED:20241022T133752Z
LAST-MODIFIED:20260305T150316Z
UID:10038260-1880445600-1880452800@entraide-marolles.be
SUMMARY:Vivre son corps - Groupe Bien-être
DESCRIPTION:Notre corps nous est souvent étranger. Cette activité propose de l’apprivoiser\, de travailler sur les tensions et l’estime de soi à travers plusieurs techniques : respiration\, chant\, relaxation\, méditation\, automassages\, Do In… \nActivité destinée aux femmes \nLes vendredis de 10h à 12h \nparticipation : 1 € \nPlus d’infos au 0487/20.94.10 ou sur la page du GBE
URL:https://entraide-marolles.be/agenda/groupe-bien-etre-vivre-son-corps-2/2029-08-03/
CATEGORIES:Groupe Bien-être
ATTACH;FMTTYPE=image/png:https://entraide-marolles.be/wp-content/uploads/2024/06/Capture-decran-2023-05-11-102255-e1719326874216.png
END:VEVENT
BEGIN:VEVENT
DTSTART;TZID=Europe/Brussels:20290803T173000
DTEND;TZID=Europe/Brussels:20290803T183000
DTSTAMP:20260426T043352
CREATED:20241022T133925Z
LAST-MODIFIED:20260217T144031Z
UID:10036887-1880472600-1880476200@entraide-marolles.be
SUMMARY:Yoga mixte - Groupe Bien-être
DESCRIPTION:Pratique basée sur la respiration et des postures variées. \nActivité ouverte aux hommes et aux femmes \nLes vendredis de 17h30 à 18h30 \nparticipation : 1 € \nPlus d’infos au 0497/209.410 ou sur la page du GBE
URL:https://entraide-marolles.be/agenda/groupe-bien-etre-yoga-2/2029-08-03/
CATEGORIES:Groupe Bien-être
ATTACH;FMTTYPE=image/png:https://entraide-marolles.be/wp-content/uploads/2024/06/Capture-decran-2023-05-11-102255-e1719326874216.png
END:VEVENT
BEGIN:VEVENT
DTSTART;TZID=Europe/Brussels:20290806T100000
DTEND;TZID=Europe/Brussels:20290806T120000
DTSTAMP:20260426T043352
CREATED:20241022T134248Z
LAST-MODIFIED:20260217T144736Z
UID:10029306-1880704800-1880712000@entraide-marolles.be
SUMMARY:Lundi à thème - Groupe Bien-être
DESCRIPTION:Les lundis à thème ce sont des moments de rencontre et d’échange créés par les femmes du groupe Bien-être pour passer du temps ensemble\, s’entraider\, échanger des idées\, créer des projets\, sortir de la solitude… \nActivité réservée aux femmes. \nTous les lundis de 10h à 12h en salle d’activité. \nPlus d’infos sur la page du GBE
URL:https://entraide-marolles.be/agenda/groupe-bien-etre-lundi-a-theme-2-2/2029-08-06/
CATEGORIES:Groupe Bien-être
ATTACH;FMTTYPE=image/png:https://entraide-marolles.be/wp-content/uploads/2024/06/Capture-decran-2023-05-11-102255-e1719326874216.png
END:VEVENT
BEGIN:VEVENT
DTSTART;TZID=Europe/Brussels:20290807T113000
DTEND;TZID=Europe/Brussels:20290807T130000
DTSTAMP:20260426T043352
CREATED:20241022T134408Z
LAST-MODIFIED:20260305T152243Z
UID:10038290-1880796600-1880802000@entraide-marolles.be
SUMMARY:Gymnastique hypopressive - Groupe Bien-être
DESCRIPTION:La gymnastique hypopressive est une activité qui se base sur un travail en douceur des muscles périnées et abdominaux. Chaque séance se termine par une relaxation \nActivité réservée aux femmes \nSans inscription – participation : 1 € \nPlus d’infos au 0497/209.410 ou sur la page du GBE
URL:https://entraide-marolles.be/agenda/groupe-bien-etre-gymnastique-hypopressive-2/2029-08-07/
CATEGORIES:Groupe Bien-être
ATTACH;FMTTYPE=image/png:https://entraide-marolles.be/wp-content/uploads/2024/06/Capture-decran-2023-05-11-102255-e1719326874216.png
END:VEVENT
BEGIN:VEVENT
DTSTART;TZID=Europe/Brussels:20290807T181500
DTEND;TZID=Europe/Brussels:20290807T200000
DTSTAMP:20260426T043352
CREATED:20250408T161003Z
LAST-MODIFIED:20260423T135208Z
UID:10040065-1880820900-1880827200@entraide-marolles.be
SUMMARY:Gymnastique en musique - Groupe Bien-être
DESCRIPTION:Activité menée par une participante engagée qui rassemble un public de femmes motivées à exercer des exercices cardiovasculaires et musculaires. \nActivité destinée aux femmes \nLes mardi et jeudi de 18h15 à 20h00 \nparticipation : 1 € \nPlus d’infos au 0487/20.94.10 ou sur la page du GBE
URL:https://entraide-marolles.be/agenda/groupe-bien-etre-gymnastique-en-musique-3-2-2-2-2/2029-08-07/
CATEGORIES:Groupe Bien-être
ATTACH;FMTTYPE=image/png:https://entraide-marolles.be/wp-content/uploads/2024/06/Capture-decran-2023-05-11-102255-e1719326874216.png
END:VEVENT
BEGIN:VEVENT
DTSTART;TZID=Europe/Brussels:20290809T181500
DTEND;TZID=Europe/Brussels:20290809T200000
DTSTAMP:20260426T043353
CREATED:20250408T161003Z
LAST-MODIFIED:20260423T135208Z
UID:10040066-1880993700-1881000000@entraide-marolles.be
SUMMARY:Gymnastique en musique - Groupe Bien-être
DESCRIPTION:Activité menée par une participante engagée qui rassemble un public de femmes motivées à exercer des exercices cardiovasculaires et musculaires. \nActivité destinée aux femmes \nLes mardi et jeudi de 18h15 à 20h00 \nparticipation : 1 € \nPlus d’infos au 0487/20.94.10 ou sur la page du GBE
URL:https://entraide-marolles.be/agenda/groupe-bien-etre-gymnastique-en-musique-3-2-2-2-2/2029-08-09/
CATEGORIES:Groupe Bien-être
ATTACH;FMTTYPE=image/png:https://entraide-marolles.be/wp-content/uploads/2024/06/Capture-decran-2023-05-11-102255-e1719326874216.png
END:VEVENT
BEGIN:VEVENT
DTSTART;TZID=Europe/Brussels:20290810T100000
DTEND;TZID=Europe/Brussels:20290810T120000
DTSTAMP:20260426T043353
CREATED:20241022T133752Z
LAST-MODIFIED:20260305T150316Z
UID:10038261-1881050400-1881057600@entraide-marolles.be
SUMMARY:Vivre son corps - Groupe Bien-être
DESCRIPTION:Notre corps nous est souvent étranger. Cette activité propose de l’apprivoiser\, de travailler sur les tensions et l’estime de soi à travers plusieurs techniques : respiration\, chant\, relaxation\, méditation\, automassages\, Do In… \nActivité destinée aux femmes \nLes vendredis de 10h à 12h \nparticipation : 1 € \nPlus d’infos au 0487/20.94.10 ou sur la page du GBE
URL:https://entraide-marolles.be/agenda/groupe-bien-etre-vivre-son-corps-2/2029-08-10/
CATEGORIES:Groupe Bien-être
ATTACH;FMTTYPE=image/png:https://entraide-marolles.be/wp-content/uploads/2024/06/Capture-decran-2023-05-11-102255-e1719326874216.png
END:VEVENT
BEGIN:VEVENT
DTSTART;TZID=Europe/Brussels:20290810T173000
DTEND;TZID=Europe/Brussels:20290810T183000
DTSTAMP:20260426T043353
CREATED:20241022T133925Z
LAST-MODIFIED:20260217T144031Z
UID:10036888-1881077400-1881081000@entraide-marolles.be
SUMMARY:Yoga mixte - Groupe Bien-être
DESCRIPTION:Pratique basée sur la respiration et des postures variées. \nActivité ouverte aux hommes et aux femmes \nLes vendredis de 17h30 à 18h30 \nparticipation : 1 € \nPlus d’infos au 0497/209.410 ou sur la page du GBE
URL:https://entraide-marolles.be/agenda/groupe-bien-etre-yoga-2/2029-08-10/
CATEGORIES:Groupe Bien-être
ATTACH;FMTTYPE=image/png:https://entraide-marolles.be/wp-content/uploads/2024/06/Capture-decran-2023-05-11-102255-e1719326874216.png
END:VEVENT
BEGIN:VEVENT
DTSTART;TZID=Europe/Brussels:20290813T100000
DTEND;TZID=Europe/Brussels:20290813T120000
DTSTAMP:20260426T043353
CREATED:20241022T134248Z
LAST-MODIFIED:20260217T144736Z
UID:10038274-1881309600-1881316800@entraide-marolles.be
SUMMARY:Lundi à thème - Groupe Bien-être
DESCRIPTION:Les lundis à thème ce sont des moments de rencontre et d’échange créés par les femmes du groupe Bien-être pour passer du temps ensemble\, s’entraider\, échanger des idées\, créer des projets\, sortir de la solitude… \nActivité réservée aux femmes. \nTous les lundis de 10h à 12h en salle d’activité. \nPlus d’infos sur la page du GBE
URL:https://entraide-marolles.be/agenda/groupe-bien-etre-lundi-a-theme-2-2/2029-08-13/
CATEGORIES:Groupe Bien-être
ATTACH;FMTTYPE=image/png:https://entraide-marolles.be/wp-content/uploads/2024/06/Capture-decran-2023-05-11-102255-e1719326874216.png
END:VEVENT
BEGIN:VEVENT
DTSTART;TZID=Europe/Brussels:20290814T113000
DTEND;TZID=Europe/Brussels:20290814T130000
DTSTAMP:20260426T043353
CREATED:20241022T134408Z
LAST-MODIFIED:20260305T152243Z
UID:10038291-1881401400-1881406800@entraide-marolles.be
SUMMARY:Gymnastique hypopressive - Groupe Bien-être
DESCRIPTION:La gymnastique hypopressive est une activité qui se base sur un travail en douceur des muscles périnées et abdominaux. Chaque séance se termine par une relaxation \nActivité réservée aux femmes \nSans inscription – participation : 1 € \nPlus d’infos au 0497/209.410 ou sur la page du GBE
URL:https://entraide-marolles.be/agenda/groupe-bien-etre-gymnastique-hypopressive-2/2029-08-14/
CATEGORIES:Groupe Bien-être
ATTACH;FMTTYPE=image/png:https://entraide-marolles.be/wp-content/uploads/2024/06/Capture-decran-2023-05-11-102255-e1719326874216.png
END:VEVENT
BEGIN:VEVENT
DTSTART;TZID=Europe/Brussels:20290814T181500
DTEND;TZID=Europe/Brussels:20290814T200000
DTSTAMP:20260426T043353
CREATED:20250408T161003Z
LAST-MODIFIED:20260423T135208Z
UID:10040067-1881425700-1881432000@entraide-marolles.be
SUMMARY:Gymnastique en musique - Groupe Bien-être
DESCRIPTION:Activité menée par une participante engagée qui rassemble un public de femmes motivées à exercer des exercices cardiovasculaires et musculaires. \nActivité destinée aux femmes \nLes mardi et jeudi de 18h15 à 20h00 \nparticipation : 1 € \nPlus d’infos au 0487/20.94.10 ou sur la page du GBE
URL:https://entraide-marolles.be/agenda/groupe-bien-etre-gymnastique-en-musique-3-2-2-2-2/2029-08-14/
CATEGORIES:Groupe Bien-être
ATTACH;FMTTYPE=image/png:https://entraide-marolles.be/wp-content/uploads/2024/06/Capture-decran-2023-05-11-102255-e1719326874216.png
END:VEVENT
BEGIN:VEVENT
DTSTART;TZID=Europe/Brussels:20290816T181500
DTEND;TZID=Europe/Brussels:20290816T200000
DTSTAMP:20260426T043353
CREATED:20250408T161003Z
LAST-MODIFIED:20260423T135208Z
UID:10040068-1881598500-1881604800@entraide-marolles.be
SUMMARY:Gymnastique en musique - Groupe Bien-être
DESCRIPTION:Activité menée par une participante engagée qui rassemble un public de femmes motivées à exercer des exercices cardiovasculaires et musculaires. \nActivité destinée aux femmes \nLes mardi et jeudi de 18h15 à 20h00 \nparticipation : 1 € \nPlus d’infos au 0487/20.94.10 ou sur la page du GBE
URL:https://entraide-marolles.be/agenda/groupe-bien-etre-gymnastique-en-musique-3-2-2-2-2/2029-08-16/
CATEGORIES:Groupe Bien-être
ATTACH;FMTTYPE=image/png:https://entraide-marolles.be/wp-content/uploads/2024/06/Capture-decran-2023-05-11-102255-e1719326874216.png
END:VEVENT
BEGIN:VEVENT
DTSTART;TZID=Europe/Brussels:20290817T100000
DTEND;TZID=Europe/Brussels:20290817T120000
DTSTAMP:20260426T043353
CREATED:20241022T133752Z
LAST-MODIFIED:20260305T150316Z
UID:10038262-1881655200-1881662400@entraide-marolles.be
SUMMARY:Vivre son corps - Groupe Bien-être
DESCRIPTION:Notre corps nous est souvent étranger. Cette activité propose de l’apprivoiser\, de travailler sur les tensions et l’estime de soi à travers plusieurs techniques : respiration\, chant\, relaxation\, méditation\, automassages\, Do In… \nActivité destinée aux femmes \nLes vendredis de 10h à 12h \nparticipation : 1 € \nPlus d’infos au 0487/20.94.10 ou sur la page du GBE
URL:https://entraide-marolles.be/agenda/groupe-bien-etre-vivre-son-corps-2/2029-08-17/
CATEGORIES:Groupe Bien-être
ATTACH;FMTTYPE=image/png:https://entraide-marolles.be/wp-content/uploads/2024/06/Capture-decran-2023-05-11-102255-e1719326874216.png
END:VEVENT
BEGIN:VEVENT
DTSTART;TZID=Europe/Brussels:20290817T173000
DTEND;TZID=Europe/Brussels:20290817T183000
DTSTAMP:20260426T043353
CREATED:20241022T133925Z
LAST-MODIFIED:20260217T144031Z
UID:10036889-1881682200-1881685800@entraide-marolles.be
SUMMARY:Yoga mixte - Groupe Bien-être
DESCRIPTION:Pratique basée sur la respiration et des postures variées. \nActivité ouverte aux hommes et aux femmes \nLes vendredis de 17h30 à 18h30 \nparticipation : 1 € \nPlus d’infos au 0497/209.410 ou sur la page du GBE
URL:https://entraide-marolles.be/agenda/groupe-bien-etre-yoga-2/2029-08-17/
CATEGORIES:Groupe Bien-être
ATTACH;FMTTYPE=image/png:https://entraide-marolles.be/wp-content/uploads/2024/06/Capture-decran-2023-05-11-102255-e1719326874216.png
END:VEVENT
BEGIN:VEVENT
DTSTART;TZID=Europe/Brussels:20290820T100000
DTEND;TZID=Europe/Brussels:20290820T120000
DTSTAMP:20260426T043353
CREATED:20241022T134248Z
LAST-MODIFIED:20260217T144736Z
UID:10038275-1881914400-1881921600@entraide-marolles.be
SUMMARY:Lundi à thème - Groupe Bien-être
DESCRIPTION:Les lundis à thème ce sont des moments de rencontre et d’échange créés par les femmes du groupe Bien-être pour passer du temps ensemble\, s’entraider\, échanger des idées\, créer des projets\, sortir de la solitude… \nActivité réservée aux femmes. \nTous les lundis de 10h à 12h en salle d’activité. \nPlus d’infos sur la page du GBE
URL:https://entraide-marolles.be/agenda/groupe-bien-etre-lundi-a-theme-2-2/2029-08-20/
CATEGORIES:Groupe Bien-être
ATTACH;FMTTYPE=image/png:https://entraide-marolles.be/wp-content/uploads/2024/06/Capture-decran-2023-05-11-102255-e1719326874216.png
END:VEVENT
BEGIN:VEVENT
DTSTART;TZID=Europe/Brussels:20290821T113000
DTEND;TZID=Europe/Brussels:20290821T130000
DTSTAMP:20260426T043353
CREATED:20241022T134408Z
LAST-MODIFIED:20260305T152243Z
UID:10038292-1882006200-1882011600@entraide-marolles.be
SUMMARY:Gymnastique hypopressive - Groupe Bien-être
DESCRIPTION:La gymnastique hypopressive est une activité qui se base sur un travail en douceur des muscles périnées et abdominaux. Chaque séance se termine par une relaxation \nActivité réservée aux femmes \nSans inscription – participation : 1 € \nPlus d’infos au 0497/209.410 ou sur la page du GBE
URL:https://entraide-marolles.be/agenda/groupe-bien-etre-gymnastique-hypopressive-2/2029-08-21/
CATEGORIES:Groupe Bien-être
ATTACH;FMTTYPE=image/png:https://entraide-marolles.be/wp-content/uploads/2024/06/Capture-decran-2023-05-11-102255-e1719326874216.png
END:VEVENT
BEGIN:VEVENT
DTSTART;TZID=Europe/Brussels:20290821T181500
DTEND;TZID=Europe/Brussels:20290821T200000
DTSTAMP:20260426T043353
CREATED:20250408T161003Z
LAST-MODIFIED:20260423T135208Z
UID:10040069-1882030500-1882036800@entraide-marolles.be
SUMMARY:Gymnastique en musique - Groupe Bien-être
DESCRIPTION:Activité menée par une participante engagée qui rassemble un public de femmes motivées à exercer des exercices cardiovasculaires et musculaires. \nActivité destinée aux femmes \nLes mardi et jeudi de 18h15 à 20h00 \nparticipation : 1 € \nPlus d’infos au 0487/20.94.10 ou sur la page du GBE
URL:https://entraide-marolles.be/agenda/groupe-bien-etre-gymnastique-en-musique-3-2-2-2-2/2029-08-21/
CATEGORIES:Groupe Bien-être
ATTACH;FMTTYPE=image/png:https://entraide-marolles.be/wp-content/uploads/2024/06/Capture-decran-2023-05-11-102255-e1719326874216.png
END:VEVENT
BEGIN:VEVENT
DTSTART;TZID=Europe/Brussels:20290823T181500
DTEND;TZID=Europe/Brussels:20290823T200000
DTSTAMP:20260426T043353
CREATED:20250408T161003Z
LAST-MODIFIED:20260423T135208Z
UID:10040070-1882203300-1882209600@entraide-marolles.be
SUMMARY:Gymnastique en musique - Groupe Bien-être
DESCRIPTION:Activité menée par une participante engagée qui rassemble un public de femmes motivées à exercer des exercices cardiovasculaires et musculaires. \nActivité destinée aux femmes \nLes mardi et jeudi de 18h15 à 20h00 \nparticipation : 1 € \nPlus d’infos au 0487/20.94.10 ou sur la page du GBE
URL:https://entraide-marolles.be/agenda/groupe-bien-etre-gymnastique-en-musique-3-2-2-2-2/2029-08-23/
CATEGORIES:Groupe Bien-être
ATTACH;FMTTYPE=image/png:https://entraide-marolles.be/wp-content/uploads/2024/06/Capture-decran-2023-05-11-102255-e1719326874216.png
END:VEVENT
BEGIN:VEVENT
DTSTART;TZID=Europe/Brussels:20290824T100000
DTEND;TZID=Europe/Brussels:20290824T120000
DTSTAMP:20260426T043353
CREATED:20241022T133752Z
LAST-MODIFIED:20260305T150316Z
UID:10038263-1882260000-1882267200@entraide-marolles.be
SUMMARY:Vivre son corps - Groupe Bien-être
DESCRIPTION:Notre corps nous est souvent étranger. Cette activité propose de l’apprivoiser\, de travailler sur les tensions et l’estime de soi à travers plusieurs techniques : respiration\, chant\, relaxation\, méditation\, automassages\, Do In… \nActivité destinée aux femmes \nLes vendredis de 10h à 12h \nparticipation : 1 € \nPlus d’infos au 0487/20.94.10 ou sur la page du GBE
URL:https://entraide-marolles.be/agenda/groupe-bien-etre-vivre-son-corps-2/2029-08-24/
CATEGORIES:Groupe Bien-être
ATTACH;FMTTYPE=image/png:https://entraide-marolles.be/wp-content/uploads/2024/06/Capture-decran-2023-05-11-102255-e1719326874216.png
END:VEVENT
BEGIN:VEVENT
DTSTART;TZID=Europe/Brussels:20290824T173000
DTEND;TZID=Europe/Brussels:20290824T183000
DTSTAMP:20260426T043353
CREATED:20241022T133925Z
LAST-MODIFIED:20260217T144031Z
UID:10036890-1882287000-1882290600@entraide-marolles.be
SUMMARY:Yoga mixte - Groupe Bien-être
DESCRIPTION:Pratique basée sur la respiration et des postures variées. \nActivité ouverte aux hommes et aux femmes \nLes vendredis de 17h30 à 18h30 \nparticipation : 1 € \nPlus d’infos au 0497/209.410 ou sur la page du GBE
URL:https://entraide-marolles.be/agenda/groupe-bien-etre-yoga-2/2029-08-24/
CATEGORIES:Groupe Bien-être
ATTACH;FMTTYPE=image/png:https://entraide-marolles.be/wp-content/uploads/2024/06/Capture-decran-2023-05-11-102255-e1719326874216.png
END:VEVENT
BEGIN:VEVENT
DTSTART;TZID=Europe/Brussels:20290827T100000
DTEND;TZID=Europe/Brussels:20290827T120000
DTSTAMP:20260426T043353
CREATED:20241022T134248Z
LAST-MODIFIED:20260217T144736Z
UID:10038276-1882519200-1882526400@entraide-marolles.be
SUMMARY:Lundi à thème - Groupe Bien-être
DESCRIPTION:Les lundis à thème ce sont des moments de rencontre et d’échange créés par les femmes du groupe Bien-être pour passer du temps ensemble\, s’entraider\, échanger des idées\, créer des projets\, sortir de la solitude… \nActivité réservée aux femmes. \nTous les lundis de 10h à 12h en salle d’activité. \nPlus d’infos sur la page du GBE
URL:https://entraide-marolles.be/agenda/groupe-bien-etre-lundi-a-theme-2-2/2029-08-27/
CATEGORIES:Groupe Bien-être
ATTACH;FMTTYPE=image/png:https://entraide-marolles.be/wp-content/uploads/2024/06/Capture-decran-2023-05-11-102255-e1719326874216.png
END:VEVENT
BEGIN:VEVENT
DTSTART;TZID=Europe/Brussels:20290828T113000
DTEND;TZID=Europe/Brussels:20290828T130000
DTSTAMP:20260426T043353
CREATED:20241022T134408Z
LAST-MODIFIED:20260305T152243Z
UID:10038293-1882611000-1882616400@entraide-marolles.be
SUMMARY:Gymnastique hypopressive - Groupe Bien-être
DESCRIPTION:La gymnastique hypopressive est une activité qui se base sur un travail en douceur des muscles périnées et abdominaux. Chaque séance se termine par une relaxation \nActivité réservée aux femmes \nSans inscription – participation : 1 € \nPlus d’infos au 0497/209.410 ou sur la page du GBE
URL:https://entraide-marolles.be/agenda/groupe-bien-etre-gymnastique-hypopressive-2/2029-08-28/
CATEGORIES:Groupe Bien-être
ATTACH;FMTTYPE=image/png:https://entraide-marolles.be/wp-content/uploads/2024/06/Capture-decran-2023-05-11-102255-e1719326874216.png
END:VEVENT
BEGIN:VEVENT
DTSTART;TZID=Europe/Brussels:20290828T181500
DTEND;TZID=Europe/Brussels:20290828T200000
DTSTAMP:20260426T043353
CREATED:20250408T161003Z
LAST-MODIFIED:20260423T135208Z
UID:10040071-1882635300-1882641600@entraide-marolles.be
SUMMARY:Gymnastique en musique - Groupe Bien-être
DESCRIPTION:Activité menée par une participante engagée qui rassemble un public de femmes motivées à exercer des exercices cardiovasculaires et musculaires. \nActivité destinée aux femmes \nLes mardi et jeudi de 18h15 à 20h00 \nparticipation : 1 € \nPlus d’infos au 0487/20.94.10 ou sur la page du GBE
URL:https://entraide-marolles.be/agenda/groupe-bien-etre-gymnastique-en-musique-3-2-2-2-2/2029-08-28/
CATEGORIES:Groupe Bien-être
ATTACH;FMTTYPE=image/png:https://entraide-marolles.be/wp-content/uploads/2024/06/Capture-decran-2023-05-11-102255-e1719326874216.png
END:VEVENT
BEGIN:VEVENT
DTSTART;TZID=Europe/Brussels:20290830T181500
DTEND;TZID=Europe/Brussels:20290830T200000
DTSTAMP:20260426T043353
CREATED:20250408T161003Z
LAST-MODIFIED:20260423T135208Z
UID:10040072-1882808100-1882814400@entraide-marolles.be
SUMMARY:Gymnastique en musique - Groupe Bien-être
DESCRIPTION:Activité menée par une participante engagée qui rassemble un public de femmes motivées à exercer des exercices cardiovasculaires et musculaires. \nActivité destinée aux femmes \nLes mardi et jeudi de 18h15 à 20h00 \nparticipation : 1 € \nPlus d’infos au 0487/20.94.10 ou sur la page du GBE
URL:https://entraide-marolles.be/agenda/groupe-bien-etre-gymnastique-en-musique-3-2-2-2-2/2029-08-30/
CATEGORIES:Groupe Bien-être
ATTACH;FMTTYPE=image/png:https://entraide-marolles.be/wp-content/uploads/2024/06/Capture-decran-2023-05-11-102255-e1719326874216.png
END:VEVENT
BEGIN:VEVENT
DTSTART;TZID=Europe/Brussels:20290831T100000
DTEND;TZID=Europe/Brussels:20290831T120000
DTSTAMP:20260426T043353
CREATED:20241022T133752Z
LAST-MODIFIED:20260305T150316Z
UID:10038264-1882864800-1882872000@entraide-marolles.be
SUMMARY:Vivre son corps - Groupe Bien-être
DESCRIPTION:Notre corps nous est souvent étranger. Cette activité propose de l’apprivoiser\, de travailler sur les tensions et l’estime de soi à travers plusieurs techniques : respiration\, chant\, relaxation\, méditation\, automassages\, Do In… \nActivité destinée aux femmes \nLes vendredis de 10h à 12h \nparticipation : 1 € \nPlus d’infos au 0487/20.94.10 ou sur la page du GBE
URL:https://entraide-marolles.be/agenda/groupe-bien-etre-vivre-son-corps-2/2029-08-31/
CATEGORIES:Groupe Bien-être
ATTACH;FMTTYPE=image/png:https://entraide-marolles.be/wp-content/uploads/2024/06/Capture-decran-2023-05-11-102255-e1719326874216.png
END:VEVENT
BEGIN:VEVENT
DTSTART;TZID=Europe/Brussels:20290831T173000
DTEND;TZID=Europe/Brussels:20290831T183000
DTSTAMP:20260426T043353
CREATED:20241022T133925Z
LAST-MODIFIED:20260217T144031Z
UID:10036891-1882891800-1882895400@entraide-marolles.be
SUMMARY:Yoga mixte - Groupe Bien-être
DESCRIPTION:Pratique basée sur la respiration et des postures variées. \nActivité ouverte aux hommes et aux femmes \nLes vendredis de 17h30 à 18h30 \nparticipation : 1 € \nPlus d’infos au 0497/209.410 ou sur la page du GBE
URL:https://entraide-marolles.be/agenda/groupe-bien-etre-yoga-2/2029-08-31/
CATEGORIES:Groupe Bien-être
ATTACH;FMTTYPE=image/png:https://entraide-marolles.be/wp-content/uploads/2024/06/Capture-decran-2023-05-11-102255-e1719326874216.png
END:VEVENT
END:VCALENDAR