BEGIN:VCALENDAR
VERSION:2.0
PRODID:-//Entr’Aide des Marolles - ECPv6.15.20//NONSGML v1.0//EN
CALSCALE:GREGORIAN
METHOD:PUBLISH
X-ORIGINAL-URL:https://entraide-marolles.be
X-WR-CALDESC:Évènements pour Entr’Aide des Marolles
REFRESH-INTERVAL;VALUE=DURATION:PT1H
X-Robots-Tag:noindex
X-PUBLISHED-TTL:PT1H
BEGIN:VTIMEZONE
TZID:Europe/Brussels
BEGIN:DAYLIGHT
TZOFFSETFROM:+0100
TZOFFSETTO:+0200
TZNAME:CEST
DTSTART:20280326T010000
END:DAYLIGHT
BEGIN:STANDARD
TZOFFSETFROM:+0200
TZOFFSETTO:+0100
TZNAME:CET
DTSTART:20281029T010000
END:STANDARD
BEGIN:DAYLIGHT
TZOFFSETFROM:+0100
TZOFFSETTO:+0200
TZNAME:CEST
DTSTART:20290325T010000
END:DAYLIGHT
BEGIN:STANDARD
TZOFFSETFROM:+0200
TZOFFSETTO:+0100
TZNAME:CET
DTSTART:20291028T010000
END:STANDARD
BEGIN:DAYLIGHT
TZOFFSETFROM:+0100
TZOFFSETTO:+0200
TZNAME:CEST
DTSTART:20300331T010000
END:DAYLIGHT
BEGIN:STANDARD
TZOFFSETFROM:+0200
TZOFFSETTO:+0100
TZNAME:CET
DTSTART:20301027T010000
END:STANDARD
END:VTIMEZONE
BEGIN:VEVENT
DTSTART;TZID=Europe/Brussels:20290521T100000
DTEND;TZID=Europe/Brussels:20290521T120000
DTSTAMP:20260425T233317
CREATED:20241022T134248Z
LAST-MODIFIED:20260217T144736Z
UID:10000647-1874052000-1874059200@entraide-marolles.be
SUMMARY:Lundi à thème - Groupe Bien-être
DESCRIPTION:Les lundis à thème ce sont des moments de rencontre et d’échange créés par les femmes du groupe Bien-être pour passer du temps ensemble\, s’entraider\, échanger des idées\, créer des projets\, sortir de la solitude… \nActivité réservée aux femmes. \nTous les lundis de 10h à 12h en salle d’activité. \nPlus d’infos sur la page du GBE
URL:https://entraide-marolles.be/agenda/groupe-bien-etre-lundi-a-theme-2-2/2029-05-21/
CATEGORIES:Groupe Bien-être
ATTACH;FMTTYPE=image/png:https://entraide-marolles.be/wp-content/uploads/2024/06/Capture-decran-2023-05-11-102255-e1719326874216.png
END:VEVENT
BEGIN:VEVENT
DTSTART;TZID=Europe/Brussels:20290522T113000
DTEND;TZID=Europe/Brussels:20290522T130000
DTSTAMP:20260425T233317
CREATED:20241022T134408Z
LAST-MODIFIED:20260305T152243Z
UID:10000908-1874143800-1874149200@entraide-marolles.be
SUMMARY:Gymnastique hypopressive - Groupe Bien-être
DESCRIPTION:La gymnastique hypopressive est une activité qui se base sur un travail en douceur des muscles périnées et abdominaux. Chaque séance se termine par une relaxation \nActivité réservée aux femmes \nSans inscription – participation : 1 € \nPlus d’infos au 0497/209.410 ou sur la page du GBE
URL:https://entraide-marolles.be/agenda/groupe-bien-etre-gymnastique-hypopressive-2/2029-05-22/
CATEGORIES:Groupe Bien-être
ATTACH;FMTTYPE=image/png:https://entraide-marolles.be/wp-content/uploads/2024/06/Capture-decran-2023-05-11-102255-e1719326874216.png
END:VEVENT
BEGIN:VEVENT
DTSTART;TZID=Europe/Brussels:20290522T181500
DTEND;TZID=Europe/Brussels:20290522T200000
DTSTAMP:20260425T233317
CREATED:20250408T161003Z
LAST-MODIFIED:20260423T135208Z
UID:10040043-1874168100-1874174400@entraide-marolles.be
SUMMARY:Gymnastique en musique - Groupe Bien-être
DESCRIPTION:Activité menée par une participante engagée qui rassemble un public de femmes motivées à exercer des exercices cardiovasculaires et musculaires. \nActivité destinée aux femmes \nLes mardi et jeudi de 18h15 à 20h00 \nparticipation : 1 € \nPlus d’infos au 0487/20.94.10 ou sur la page du GBE
URL:https://entraide-marolles.be/agenda/groupe-bien-etre-gymnastique-en-musique-3-2-2-2-2/2029-05-22/
CATEGORIES:Groupe Bien-être
ATTACH;FMTTYPE=image/png:https://entraide-marolles.be/wp-content/uploads/2024/06/Capture-decran-2023-05-11-102255-e1719326874216.png
END:VEVENT
BEGIN:VEVENT
DTSTART;TZID=Europe/Brussels:20290524T181500
DTEND;TZID=Europe/Brussels:20290524T200000
DTSTAMP:20260425T233317
CREATED:20250408T161003Z
LAST-MODIFIED:20260423T135208Z
UID:10040044-1874340900-1874347200@entraide-marolles.be
SUMMARY:Gymnastique en musique - Groupe Bien-être
DESCRIPTION:Activité menée par une participante engagée qui rassemble un public de femmes motivées à exercer des exercices cardiovasculaires et musculaires. \nActivité destinée aux femmes \nLes mardi et jeudi de 18h15 à 20h00 \nparticipation : 1 € \nPlus d’infos au 0487/20.94.10 ou sur la page du GBE
URL:https://entraide-marolles.be/agenda/groupe-bien-etre-gymnastique-en-musique-3-2-2-2-2/2029-05-24/
CATEGORIES:Groupe Bien-être
ATTACH;FMTTYPE=image/png:https://entraide-marolles.be/wp-content/uploads/2024/06/Capture-decran-2023-05-11-102255-e1719326874216.png
END:VEVENT
BEGIN:VEVENT
DTSTART;TZID=Europe/Brussels:20290525T100000
DTEND;TZID=Europe/Brussels:20290525T120000
DTSTAMP:20260425T233317
CREATED:20241022T133752Z
LAST-MODIFIED:20260305T150316Z
UID:10029034-1874397600-1874404800@entraide-marolles.be
SUMMARY:Vivre son corps - Groupe Bien-être
DESCRIPTION:Notre corps nous est souvent étranger. Cette activité propose de l’apprivoiser\, de travailler sur les tensions et l’estime de soi à travers plusieurs techniques : respiration\, chant\, relaxation\, méditation\, automassages\, Do In… \nActivité destinée aux femmes \nLes vendredis de 10h à 12h \nparticipation : 1 € \nPlus d’infos au 0487/20.94.10 ou sur la page du GBE
URL:https://entraide-marolles.be/agenda/groupe-bien-etre-vivre-son-corps-2/2029-05-25/
CATEGORIES:Groupe Bien-être
ATTACH;FMTTYPE=image/png:https://entraide-marolles.be/wp-content/uploads/2024/06/Capture-decran-2023-05-11-102255-e1719326874216.png
END:VEVENT
BEGIN:VEVENT
DTSTART;TZID=Europe/Brussels:20290525T173000
DTEND;TZID=Europe/Brussels:20290525T183000
DTSTAMP:20260425T233317
CREATED:20241022T133925Z
LAST-MODIFIED:20260217T144031Z
UID:10029287-1874424600-1874428200@entraide-marolles.be
SUMMARY:Yoga mixte - Groupe Bien-être
DESCRIPTION:Pratique basée sur la respiration et des postures variées. \nActivité ouverte aux hommes et aux femmes \nLes vendredis de 17h30 à 18h30 \nparticipation : 1 € \nPlus d’infos au 0497/209.410 ou sur la page du GBE
URL:https://entraide-marolles.be/agenda/groupe-bien-etre-yoga-2/2029-05-25/
CATEGORIES:Groupe Bien-être
ATTACH;FMTTYPE=image/png:https://entraide-marolles.be/wp-content/uploads/2024/06/Capture-decran-2023-05-11-102255-e1719326874216.png
END:VEVENT
BEGIN:VEVENT
DTSTART;TZID=Europe/Brussels:20290528T100000
DTEND;TZID=Europe/Brussels:20290528T120000
DTSTAMP:20260425T233317
CREATED:20241022T134248Z
LAST-MODIFIED:20260217T144736Z
UID:10000648-1874656800-1874664000@entraide-marolles.be
SUMMARY:Lundi à thème - Groupe Bien-être
DESCRIPTION:Les lundis à thème ce sont des moments de rencontre et d’échange créés par les femmes du groupe Bien-être pour passer du temps ensemble\, s’entraider\, échanger des idées\, créer des projets\, sortir de la solitude… \nActivité réservée aux femmes. \nTous les lundis de 10h à 12h en salle d’activité. \nPlus d’infos sur la page du GBE
URL:https://entraide-marolles.be/agenda/groupe-bien-etre-lundi-a-theme-2-2/2029-05-28/
CATEGORIES:Groupe Bien-être
ATTACH;FMTTYPE=image/png:https://entraide-marolles.be/wp-content/uploads/2024/06/Capture-decran-2023-05-11-102255-e1719326874216.png
END:VEVENT
BEGIN:VEVENT
DTSTART;TZID=Europe/Brussels:20290529T113000
DTEND;TZID=Europe/Brussels:20290529T130000
DTSTAMP:20260425T233317
CREATED:20241022T134408Z
LAST-MODIFIED:20260305T152243Z
UID:10000909-1874748600-1874754000@entraide-marolles.be
SUMMARY:Gymnastique hypopressive - Groupe Bien-être
DESCRIPTION:La gymnastique hypopressive est une activité qui se base sur un travail en douceur des muscles périnées et abdominaux. Chaque séance se termine par une relaxation \nActivité réservée aux femmes \nSans inscription – participation : 1 € \nPlus d’infos au 0497/209.410 ou sur la page du GBE
URL:https://entraide-marolles.be/agenda/groupe-bien-etre-gymnastique-hypopressive-2/2029-05-29/
CATEGORIES:Groupe Bien-être
ATTACH;FMTTYPE=image/png:https://entraide-marolles.be/wp-content/uploads/2024/06/Capture-decran-2023-05-11-102255-e1719326874216.png
END:VEVENT
BEGIN:VEVENT
DTSTART;TZID=Europe/Brussels:20290529T181500
DTEND;TZID=Europe/Brussels:20290529T200000
DTSTAMP:20260425T233317
CREATED:20250408T161003Z
LAST-MODIFIED:20260423T135208Z
UID:10040045-1874772900-1874779200@entraide-marolles.be
SUMMARY:Gymnastique en musique - Groupe Bien-être
DESCRIPTION:Activité menée par une participante engagée qui rassemble un public de femmes motivées à exercer des exercices cardiovasculaires et musculaires. \nActivité destinée aux femmes \nLes mardi et jeudi de 18h15 à 20h00 \nparticipation : 1 € \nPlus d’infos au 0487/20.94.10 ou sur la page du GBE
URL:https://entraide-marolles.be/agenda/groupe-bien-etre-gymnastique-en-musique-3-2-2-2-2/2029-05-29/
CATEGORIES:Groupe Bien-être
ATTACH;FMTTYPE=image/png:https://entraide-marolles.be/wp-content/uploads/2024/06/Capture-decran-2023-05-11-102255-e1719326874216.png
END:VEVENT
BEGIN:VEVENT
DTSTART;TZID=Europe/Brussels:20290531T181500
DTEND;TZID=Europe/Brussels:20290531T200000
DTSTAMP:20260425T233317
CREATED:20250408T161003Z
LAST-MODIFIED:20260423T135208Z
UID:10040046-1874945700-1874952000@entraide-marolles.be
SUMMARY:Gymnastique en musique - Groupe Bien-être
DESCRIPTION:Activité menée par une participante engagée qui rassemble un public de femmes motivées à exercer des exercices cardiovasculaires et musculaires. \nActivité destinée aux femmes \nLes mardi et jeudi de 18h15 à 20h00 \nparticipation : 1 € \nPlus d’infos au 0487/20.94.10 ou sur la page du GBE
URL:https://entraide-marolles.be/agenda/groupe-bien-etre-gymnastique-en-musique-3-2-2-2-2/2029-05-31/
CATEGORIES:Groupe Bien-être
ATTACH;FMTTYPE=image/png:https://entraide-marolles.be/wp-content/uploads/2024/06/Capture-decran-2023-05-11-102255-e1719326874216.png
END:VEVENT
BEGIN:VEVENT
DTSTART;TZID=Europe/Brussels:20290601T100000
DTEND;TZID=Europe/Brussels:20290601T120000
DTSTAMP:20260425T233317
CREATED:20241022T133752Z
LAST-MODIFIED:20260305T150316Z
UID:10029035-1875002400-1875009600@entraide-marolles.be
SUMMARY:Vivre son corps - Groupe Bien-être
DESCRIPTION:Notre corps nous est souvent étranger. Cette activité propose de l’apprivoiser\, de travailler sur les tensions et l’estime de soi à travers plusieurs techniques : respiration\, chant\, relaxation\, méditation\, automassages\, Do In… \nActivité destinée aux femmes \nLes vendredis de 10h à 12h \nparticipation : 1 € \nPlus d’infos au 0487/20.94.10 ou sur la page du GBE
URL:https://entraide-marolles.be/agenda/groupe-bien-etre-vivre-son-corps-2/2029-06-01/
CATEGORIES:Groupe Bien-être
ATTACH;FMTTYPE=image/png:https://entraide-marolles.be/wp-content/uploads/2024/06/Capture-decran-2023-05-11-102255-e1719326874216.png
END:VEVENT
BEGIN:VEVENT
DTSTART;TZID=Europe/Brussels:20290601T173000
DTEND;TZID=Europe/Brussels:20290601T183000
DTSTAMP:20260425T233317
CREATED:20241022T133925Z
LAST-MODIFIED:20260217T144031Z
UID:10029288-1875029400-1875033000@entraide-marolles.be
SUMMARY:Yoga mixte - Groupe Bien-être
DESCRIPTION:Pratique basée sur la respiration et des postures variées. \nActivité ouverte aux hommes et aux femmes \nLes vendredis de 17h30 à 18h30 \nparticipation : 1 € \nPlus d’infos au 0497/209.410 ou sur la page du GBE
URL:https://entraide-marolles.be/agenda/groupe-bien-etre-yoga-2/2029-06-01/
CATEGORIES:Groupe Bien-être
ATTACH;FMTTYPE=image/png:https://entraide-marolles.be/wp-content/uploads/2024/06/Capture-decran-2023-05-11-102255-e1719326874216.png
END:VEVENT
BEGIN:VEVENT
DTSTART;TZID=Europe/Brussels:20290604T100000
DTEND;TZID=Europe/Brussels:20290604T120000
DTSTAMP:20260425T233317
CREATED:20241022T134248Z
LAST-MODIFIED:20260217T144736Z
UID:10000649-1875261600-1875268800@entraide-marolles.be
SUMMARY:Lundi à thème - Groupe Bien-être
DESCRIPTION:Les lundis à thème ce sont des moments de rencontre et d’échange créés par les femmes du groupe Bien-être pour passer du temps ensemble\, s’entraider\, échanger des idées\, créer des projets\, sortir de la solitude… \nActivité réservée aux femmes. \nTous les lundis de 10h à 12h en salle d’activité. \nPlus d’infos sur la page du GBE
URL:https://entraide-marolles.be/agenda/groupe-bien-etre-lundi-a-theme-2-2/2029-06-04/
CATEGORIES:Groupe Bien-être
ATTACH;FMTTYPE=image/png:https://entraide-marolles.be/wp-content/uploads/2024/06/Capture-decran-2023-05-11-102255-e1719326874216.png
END:VEVENT
BEGIN:VEVENT
DTSTART;TZID=Europe/Brussels:20290605T113000
DTEND;TZID=Europe/Brussels:20290605T130000
DTSTAMP:20260425T233317
CREATED:20241022T134408Z
LAST-MODIFIED:20260305T152243Z
UID:10000910-1875353400-1875358800@entraide-marolles.be
SUMMARY:Gymnastique hypopressive - Groupe Bien-être
DESCRIPTION:La gymnastique hypopressive est une activité qui se base sur un travail en douceur des muscles périnées et abdominaux. Chaque séance se termine par une relaxation \nActivité réservée aux femmes \nSans inscription – participation : 1 € \nPlus d’infos au 0497/209.410 ou sur la page du GBE
URL:https://entraide-marolles.be/agenda/groupe-bien-etre-gymnastique-hypopressive-2/2029-06-05/
CATEGORIES:Groupe Bien-être
ATTACH;FMTTYPE=image/png:https://entraide-marolles.be/wp-content/uploads/2024/06/Capture-decran-2023-05-11-102255-e1719326874216.png
END:VEVENT
BEGIN:VEVENT
DTSTART;TZID=Europe/Brussels:20290605T181500
DTEND;TZID=Europe/Brussels:20290605T200000
DTSTAMP:20260425T233317
CREATED:20250408T161003Z
LAST-MODIFIED:20260423T135208Z
UID:10040047-1875377700-1875384000@entraide-marolles.be
SUMMARY:Gymnastique en musique - Groupe Bien-être
DESCRIPTION:Activité menée par une participante engagée qui rassemble un public de femmes motivées à exercer des exercices cardiovasculaires et musculaires. \nActivité destinée aux femmes \nLes mardi et jeudi de 18h15 à 20h00 \nparticipation : 1 € \nPlus d’infos au 0487/20.94.10 ou sur la page du GBE
URL:https://entraide-marolles.be/agenda/groupe-bien-etre-gymnastique-en-musique-3-2-2-2-2/2029-06-05/
CATEGORIES:Groupe Bien-être
ATTACH;FMTTYPE=image/png:https://entraide-marolles.be/wp-content/uploads/2024/06/Capture-decran-2023-05-11-102255-e1719326874216.png
END:VEVENT
BEGIN:VEVENT
DTSTART;TZID=Europe/Brussels:20290607T181500
DTEND;TZID=Europe/Brussels:20290607T200000
DTSTAMP:20260425T233317
CREATED:20250408T161003Z
LAST-MODIFIED:20260423T135208Z
UID:10040048-1875550500-1875556800@entraide-marolles.be
SUMMARY:Gymnastique en musique - Groupe Bien-être
DESCRIPTION:Activité menée par une participante engagée qui rassemble un public de femmes motivées à exercer des exercices cardiovasculaires et musculaires. \nActivité destinée aux femmes \nLes mardi et jeudi de 18h15 à 20h00 \nparticipation : 1 € \nPlus d’infos au 0487/20.94.10 ou sur la page du GBE
URL:https://entraide-marolles.be/agenda/groupe-bien-etre-gymnastique-en-musique-3-2-2-2-2/2029-06-07/
CATEGORIES:Groupe Bien-être
ATTACH;FMTTYPE=image/png:https://entraide-marolles.be/wp-content/uploads/2024/06/Capture-decran-2023-05-11-102255-e1719326874216.png
END:VEVENT
BEGIN:VEVENT
DTSTART;TZID=Europe/Brussels:20290608T100000
DTEND;TZID=Europe/Brussels:20290608T120000
DTSTAMP:20260425T233317
CREATED:20241022T133752Z
LAST-MODIFIED:20260305T150316Z
UID:10029036-1875607200-1875614400@entraide-marolles.be
SUMMARY:Vivre son corps - Groupe Bien-être
DESCRIPTION:Notre corps nous est souvent étranger. Cette activité propose de l’apprivoiser\, de travailler sur les tensions et l’estime de soi à travers plusieurs techniques : respiration\, chant\, relaxation\, méditation\, automassages\, Do In… \nActivité destinée aux femmes \nLes vendredis de 10h à 12h \nparticipation : 1 € \nPlus d’infos au 0487/20.94.10 ou sur la page du GBE
URL:https://entraide-marolles.be/agenda/groupe-bien-etre-vivre-son-corps-2/2029-06-08/
CATEGORIES:Groupe Bien-être
ATTACH;FMTTYPE=image/png:https://entraide-marolles.be/wp-content/uploads/2024/06/Capture-decran-2023-05-11-102255-e1719326874216.png
END:VEVENT
BEGIN:VEVENT
DTSTART;TZID=Europe/Brussels:20290608T173000
DTEND;TZID=Europe/Brussels:20290608T183000
DTSTAMP:20260425T233317
CREATED:20241022T133925Z
LAST-MODIFIED:20260217T144031Z
UID:10029289-1875634200-1875637800@entraide-marolles.be
SUMMARY:Yoga mixte - Groupe Bien-être
DESCRIPTION:Pratique basée sur la respiration et des postures variées. \nActivité ouverte aux hommes et aux femmes \nLes vendredis de 17h30 à 18h30 \nparticipation : 1 € \nPlus d’infos au 0497/209.410 ou sur la page du GBE
URL:https://entraide-marolles.be/agenda/groupe-bien-etre-yoga-2/2029-06-08/
CATEGORIES:Groupe Bien-être
ATTACH;FMTTYPE=image/png:https://entraide-marolles.be/wp-content/uploads/2024/06/Capture-decran-2023-05-11-102255-e1719326874216.png
END:VEVENT
BEGIN:VEVENT
DTSTART;TZID=Europe/Brussels:20290611T100000
DTEND;TZID=Europe/Brussels:20290611T120000
DTSTAMP:20260425T233317
CREATED:20241022T134248Z
LAST-MODIFIED:20260217T144736Z
UID:10000650-1875866400-1875873600@entraide-marolles.be
SUMMARY:Lundi à thème - Groupe Bien-être
DESCRIPTION:Les lundis à thème ce sont des moments de rencontre et d’échange créés par les femmes du groupe Bien-être pour passer du temps ensemble\, s’entraider\, échanger des idées\, créer des projets\, sortir de la solitude… \nActivité réservée aux femmes. \nTous les lundis de 10h à 12h en salle d’activité. \nPlus d’infos sur la page du GBE
URL:https://entraide-marolles.be/agenda/groupe-bien-etre-lundi-a-theme-2-2/2029-06-11/
CATEGORIES:Groupe Bien-être
ATTACH;FMTTYPE=image/png:https://entraide-marolles.be/wp-content/uploads/2024/06/Capture-decran-2023-05-11-102255-e1719326874216.png
END:VEVENT
BEGIN:VEVENT
DTSTART;TZID=Europe/Brussels:20290612T113000
DTEND;TZID=Europe/Brussels:20290612T130000
DTSTAMP:20260425T233317
CREATED:20241022T134408Z
LAST-MODIFIED:20260305T152243Z
UID:10000911-1875958200-1875963600@entraide-marolles.be
SUMMARY:Gymnastique hypopressive - Groupe Bien-être
DESCRIPTION:La gymnastique hypopressive est une activité qui se base sur un travail en douceur des muscles périnées et abdominaux. Chaque séance se termine par une relaxation \nActivité réservée aux femmes \nSans inscription – participation : 1 € \nPlus d’infos au 0497/209.410 ou sur la page du GBE
URL:https://entraide-marolles.be/agenda/groupe-bien-etre-gymnastique-hypopressive-2/2029-06-12/
CATEGORIES:Groupe Bien-être
ATTACH;FMTTYPE=image/png:https://entraide-marolles.be/wp-content/uploads/2024/06/Capture-decran-2023-05-11-102255-e1719326874216.png
END:VEVENT
BEGIN:VEVENT
DTSTART;TZID=Europe/Brussels:20290612T181500
DTEND;TZID=Europe/Brussels:20290612T200000
DTSTAMP:20260425T233317
CREATED:20250408T161003Z
LAST-MODIFIED:20260423T135208Z
UID:10040049-1875982500-1875988800@entraide-marolles.be
SUMMARY:Gymnastique en musique - Groupe Bien-être
DESCRIPTION:Activité menée par une participante engagée qui rassemble un public de femmes motivées à exercer des exercices cardiovasculaires et musculaires. \nActivité destinée aux femmes \nLes mardi et jeudi de 18h15 à 20h00 \nparticipation : 1 € \nPlus d’infos au 0487/20.94.10 ou sur la page du GBE
URL:https://entraide-marolles.be/agenda/groupe-bien-etre-gymnastique-en-musique-3-2-2-2-2/2029-06-12/
CATEGORIES:Groupe Bien-être
ATTACH;FMTTYPE=image/png:https://entraide-marolles.be/wp-content/uploads/2024/06/Capture-decran-2023-05-11-102255-e1719326874216.png
END:VEVENT
BEGIN:VEVENT
DTSTART;TZID=Europe/Brussels:20290614T181500
DTEND;TZID=Europe/Brussels:20290614T200000
DTSTAMP:20260425T233317
CREATED:20250408T161003Z
LAST-MODIFIED:20260423T135208Z
UID:10040050-1876155300-1876161600@entraide-marolles.be
SUMMARY:Gymnastique en musique - Groupe Bien-être
DESCRIPTION:Activité menée par une participante engagée qui rassemble un public de femmes motivées à exercer des exercices cardiovasculaires et musculaires. \nActivité destinée aux femmes \nLes mardi et jeudi de 18h15 à 20h00 \nparticipation : 1 € \nPlus d’infos au 0487/20.94.10 ou sur la page du GBE
URL:https://entraide-marolles.be/agenda/groupe-bien-etre-gymnastique-en-musique-3-2-2-2-2/2029-06-14/
CATEGORIES:Groupe Bien-être
ATTACH;FMTTYPE=image/png:https://entraide-marolles.be/wp-content/uploads/2024/06/Capture-decran-2023-05-11-102255-e1719326874216.png
END:VEVENT
BEGIN:VEVENT
DTSTART;TZID=Europe/Brussels:20290615T100000
DTEND;TZID=Europe/Brussels:20290615T120000
DTSTAMP:20260425T233317
CREATED:20241022T133752Z
LAST-MODIFIED:20260305T150316Z
UID:10029037-1876212000-1876219200@entraide-marolles.be
SUMMARY:Vivre son corps - Groupe Bien-être
DESCRIPTION:Notre corps nous est souvent étranger. Cette activité propose de l’apprivoiser\, de travailler sur les tensions et l’estime de soi à travers plusieurs techniques : respiration\, chant\, relaxation\, méditation\, automassages\, Do In… \nActivité destinée aux femmes \nLes vendredis de 10h à 12h \nparticipation : 1 € \nPlus d’infos au 0487/20.94.10 ou sur la page du GBE
URL:https://entraide-marolles.be/agenda/groupe-bien-etre-vivre-son-corps-2/2029-06-15/
CATEGORIES:Groupe Bien-être
ATTACH;FMTTYPE=image/png:https://entraide-marolles.be/wp-content/uploads/2024/06/Capture-decran-2023-05-11-102255-e1719326874216.png
END:VEVENT
BEGIN:VEVENT
DTSTART;TZID=Europe/Brussels:20290615T173000
DTEND;TZID=Europe/Brussels:20290615T183000
DTSTAMP:20260425T233317
CREATED:20241022T133925Z
LAST-MODIFIED:20260217T144031Z
UID:10029290-1876239000-1876242600@entraide-marolles.be
SUMMARY:Yoga mixte - Groupe Bien-être
DESCRIPTION:Pratique basée sur la respiration et des postures variées. \nActivité ouverte aux hommes et aux femmes \nLes vendredis de 17h30 à 18h30 \nparticipation : 1 € \nPlus d’infos au 0497/209.410 ou sur la page du GBE
URL:https://entraide-marolles.be/agenda/groupe-bien-etre-yoga-2/2029-06-15/
CATEGORIES:Groupe Bien-être
ATTACH;FMTTYPE=image/png:https://entraide-marolles.be/wp-content/uploads/2024/06/Capture-decran-2023-05-11-102255-e1719326874216.png
END:VEVENT
BEGIN:VEVENT
DTSTART;TZID=Europe/Brussels:20290618T100000
DTEND;TZID=Europe/Brussels:20290618T120000
DTSTAMP:20260425T233317
CREATED:20241022T134248Z
LAST-MODIFIED:20260217T144736Z
UID:10000651-1876471200-1876478400@entraide-marolles.be
SUMMARY:Lundi à thème - Groupe Bien-être
DESCRIPTION:Les lundis à thème ce sont des moments de rencontre et d’échange créés par les femmes du groupe Bien-être pour passer du temps ensemble\, s’entraider\, échanger des idées\, créer des projets\, sortir de la solitude… \nActivité réservée aux femmes. \nTous les lundis de 10h à 12h en salle d’activité. \nPlus d’infos sur la page du GBE
URL:https://entraide-marolles.be/agenda/groupe-bien-etre-lundi-a-theme-2-2/2029-06-18/
CATEGORIES:Groupe Bien-être
ATTACH;FMTTYPE=image/png:https://entraide-marolles.be/wp-content/uploads/2024/06/Capture-decran-2023-05-11-102255-e1719326874216.png
END:VEVENT
BEGIN:VEVENT
DTSTART;TZID=Europe/Brussels:20290619T113000
DTEND;TZID=Europe/Brussels:20290619T130000
DTSTAMP:20260425T233317
CREATED:20241022T134408Z
LAST-MODIFIED:20260305T152243Z
UID:10000912-1876563000-1876568400@entraide-marolles.be
SUMMARY:Gymnastique hypopressive - Groupe Bien-être
DESCRIPTION:La gymnastique hypopressive est une activité qui se base sur un travail en douceur des muscles périnées et abdominaux. Chaque séance se termine par une relaxation \nActivité réservée aux femmes \nSans inscription – participation : 1 € \nPlus d’infos au 0497/209.410 ou sur la page du GBE
URL:https://entraide-marolles.be/agenda/groupe-bien-etre-gymnastique-hypopressive-2/2029-06-19/
CATEGORIES:Groupe Bien-être
ATTACH;FMTTYPE=image/png:https://entraide-marolles.be/wp-content/uploads/2024/06/Capture-decran-2023-05-11-102255-e1719326874216.png
END:VEVENT
BEGIN:VEVENT
DTSTART;TZID=Europe/Brussels:20290619T181500
DTEND;TZID=Europe/Brussels:20290619T200000
DTSTAMP:20260425T233317
CREATED:20250408T161003Z
LAST-MODIFIED:20260423T135208Z
UID:10040051-1876587300-1876593600@entraide-marolles.be
SUMMARY:Gymnastique en musique - Groupe Bien-être
DESCRIPTION:Activité menée par une participante engagée qui rassemble un public de femmes motivées à exercer des exercices cardiovasculaires et musculaires. \nActivité destinée aux femmes \nLes mardi et jeudi de 18h15 à 20h00 \nparticipation : 1 € \nPlus d’infos au 0487/20.94.10 ou sur la page du GBE
URL:https://entraide-marolles.be/agenda/groupe-bien-etre-gymnastique-en-musique-3-2-2-2-2/2029-06-19/
CATEGORIES:Groupe Bien-être
ATTACH;FMTTYPE=image/png:https://entraide-marolles.be/wp-content/uploads/2024/06/Capture-decran-2023-05-11-102255-e1719326874216.png
END:VEVENT
BEGIN:VEVENT
DTSTART;TZID=Europe/Brussels:20290621T181500
DTEND;TZID=Europe/Brussels:20290621T200000
DTSTAMP:20260425T233317
CREATED:20250408T161003Z
LAST-MODIFIED:20260423T135208Z
UID:10040052-1876760100-1876766400@entraide-marolles.be
SUMMARY:Gymnastique en musique - Groupe Bien-être
DESCRIPTION:Activité menée par une participante engagée qui rassemble un public de femmes motivées à exercer des exercices cardiovasculaires et musculaires. \nActivité destinée aux femmes \nLes mardi et jeudi de 18h15 à 20h00 \nparticipation : 1 € \nPlus d’infos au 0487/20.94.10 ou sur la page du GBE
URL:https://entraide-marolles.be/agenda/groupe-bien-etre-gymnastique-en-musique-3-2-2-2-2/2029-06-21/
CATEGORIES:Groupe Bien-être
ATTACH;FMTTYPE=image/png:https://entraide-marolles.be/wp-content/uploads/2024/06/Capture-decran-2023-05-11-102255-e1719326874216.png
END:VEVENT
BEGIN:VEVENT
DTSTART;TZID=Europe/Brussels:20290622T100000
DTEND;TZID=Europe/Brussels:20290622T120000
DTSTAMP:20260425T233317
CREATED:20241022T133752Z
LAST-MODIFIED:20260305T150316Z
UID:10029038-1876816800-1876824000@entraide-marolles.be
SUMMARY:Vivre son corps - Groupe Bien-être
DESCRIPTION:Notre corps nous est souvent étranger. Cette activité propose de l’apprivoiser\, de travailler sur les tensions et l’estime de soi à travers plusieurs techniques : respiration\, chant\, relaxation\, méditation\, automassages\, Do In… \nActivité destinée aux femmes \nLes vendredis de 10h à 12h \nparticipation : 1 € \nPlus d’infos au 0487/20.94.10 ou sur la page du GBE
URL:https://entraide-marolles.be/agenda/groupe-bien-etre-vivre-son-corps-2/2029-06-22/
CATEGORIES:Groupe Bien-être
ATTACH;FMTTYPE=image/png:https://entraide-marolles.be/wp-content/uploads/2024/06/Capture-decran-2023-05-11-102255-e1719326874216.png
END:VEVENT
BEGIN:VEVENT
DTSTART;TZID=Europe/Brussels:20290622T173000
DTEND;TZID=Europe/Brussels:20290622T183000
DTSTAMP:20260425T233317
CREATED:20241022T133925Z
LAST-MODIFIED:20260217T144031Z
UID:10029291-1876843800-1876847400@entraide-marolles.be
SUMMARY:Yoga mixte - Groupe Bien-être
DESCRIPTION:Pratique basée sur la respiration et des postures variées. \nActivité ouverte aux hommes et aux femmes \nLes vendredis de 17h30 à 18h30 \nparticipation : 1 € \nPlus d’infos au 0497/209.410 ou sur la page du GBE
URL:https://entraide-marolles.be/agenda/groupe-bien-etre-yoga-2/2029-06-22/
CATEGORIES:Groupe Bien-être
ATTACH;FMTTYPE=image/png:https://entraide-marolles.be/wp-content/uploads/2024/06/Capture-decran-2023-05-11-102255-e1719326874216.png
END:VEVENT
END:VCALENDAR