BEGIN:VCALENDAR
VERSION:2.0
PRODID:-//Entr’Aide des Marolles - ECPv6.15.20//NONSGML v1.0//EN
CALSCALE:GREGORIAN
METHOD:PUBLISH
X-ORIGINAL-URL:https://entraide-marolles.be
X-WR-CALDESC:Évènements pour Entr’Aide des Marolles
REFRESH-INTERVAL;VALUE=DURATION:PT1H
X-Robots-Tag:noindex
X-PUBLISHED-TTL:PT1H
BEGIN:VTIMEZONE
TZID:Europe/Brussels
BEGIN:DAYLIGHT
TZOFFSETFROM:+0100
TZOFFSETTO:+0200
TZNAME:CEST
DTSTART:20280326T010000
END:DAYLIGHT
BEGIN:STANDARD
TZOFFSETFROM:+0200
TZOFFSETTO:+0100
TZNAME:CET
DTSTART:20281029T010000
END:STANDARD
BEGIN:DAYLIGHT
TZOFFSETFROM:+0100
TZOFFSETTO:+0200
TZNAME:CEST
DTSTART:20290325T010000
END:DAYLIGHT
BEGIN:STANDARD
TZOFFSETFROM:+0200
TZOFFSETTO:+0100
TZNAME:CET
DTSTART:20291028T010000
END:STANDARD
BEGIN:DAYLIGHT
TZOFFSETFROM:+0100
TZOFFSETTO:+0200
TZNAME:CEST
DTSTART:20300331T010000
END:DAYLIGHT
BEGIN:STANDARD
TZOFFSETFROM:+0200
TZOFFSETTO:+0100
TZNAME:CET
DTSTART:20301027T010000
END:STANDARD
END:VTIMEZONE
BEGIN:VEVENT
DTSTART;TZID=Europe/Brussels:20290101T100000
DTEND;TZID=Europe/Brussels:20290101T120000
DTSTAMP:20260425T132713
CREATED:20241022T134248Z
LAST-MODIFIED:20260217T144736Z
UID:10000627-1861956000-1861963200@entraide-marolles.be
SUMMARY:Lundi à thème - Groupe Bien-être
DESCRIPTION:Les lundis à thème ce sont des moments de rencontre et d’échange créés par les femmes du groupe Bien-être pour passer du temps ensemble\, s’entraider\, échanger des idées\, créer des projets\, sortir de la solitude… \nActivité réservée aux femmes. \nTous les lundis de 10h à 12h en salle d’activité. \nPlus d’infos sur la page du GBE
URL:https://entraide-marolles.be/agenda/groupe-bien-etre-lundi-a-theme-2-2/2029-01-01/
CATEGORIES:Groupe Bien-être
ATTACH;FMTTYPE=image/png:https://entraide-marolles.be/wp-content/uploads/2024/06/Capture-decran-2023-05-11-102255-e1719326874216.png
END:VEVENT
BEGIN:VEVENT
DTSTART;TZID=Europe/Brussels:20290102T113000
DTEND;TZID=Europe/Brussels:20290102T130000
DTSTAMP:20260425T132713
CREATED:20241022T134408Z
LAST-MODIFIED:20260305T152243Z
UID:10000888-1862047800-1862053200@entraide-marolles.be
SUMMARY:Gymnastique hypopressive - Groupe Bien-être
DESCRIPTION:La gymnastique hypopressive est une activité qui se base sur un travail en douceur des muscles périnées et abdominaux. Chaque séance se termine par une relaxation \nActivité réservée aux femmes \nSans inscription – participation : 1 € \nPlus d’infos au 0497/209.410 ou sur la page du GBE
URL:https://entraide-marolles.be/agenda/groupe-bien-etre-gymnastique-hypopressive-2/2029-01-02/
CATEGORIES:Groupe Bien-être
ATTACH;FMTTYPE=image/png:https://entraide-marolles.be/wp-content/uploads/2024/06/Capture-decran-2023-05-11-102255-e1719326874216.png
END:VEVENT
BEGIN:VEVENT
DTSTART;TZID=Europe/Brussels:20290102T181500
DTEND;TZID=Europe/Brussels:20290102T200000
DTSTAMP:20260425T132713
CREATED:20250408T161003Z
LAST-MODIFIED:20260423T135208Z
UID:10040003-1862072100-1862078400@entraide-marolles.be
SUMMARY:Gymnastique en musique - Groupe Bien-être
DESCRIPTION:Activité menée par une participante engagée qui rassemble un public de femmes motivées à exercer des exercices cardiovasculaires et musculaires. \nActivité destinée aux femmes \nLes mardi et jeudi de 18h15 à 20h00 \nparticipation : 1 € \nPlus d’infos au 0487/20.94.10 ou sur la page du GBE
URL:https://entraide-marolles.be/agenda/groupe-bien-etre-gymnastique-en-musique-3-2-2-2-2/2029-01-02/
CATEGORIES:Groupe Bien-être
ATTACH;FMTTYPE=image/png:https://entraide-marolles.be/wp-content/uploads/2024/06/Capture-decran-2023-05-11-102255-e1719326874216.png
END:VEVENT
BEGIN:VEVENT
DTSTART;TZID=Europe/Brussels:20290104T181500
DTEND;TZID=Europe/Brussels:20290104T200000
DTSTAMP:20260425T132713
CREATED:20250408T161003Z
LAST-MODIFIED:20260423T135208Z
UID:10040004-1862244900-1862251200@entraide-marolles.be
SUMMARY:Gymnastique en musique - Groupe Bien-être
DESCRIPTION:Activité menée par une participante engagée qui rassemble un public de femmes motivées à exercer des exercices cardiovasculaires et musculaires. \nActivité destinée aux femmes \nLes mardi et jeudi de 18h15 à 20h00 \nparticipation : 1 € \nPlus d’infos au 0487/20.94.10 ou sur la page du GBE
URL:https://entraide-marolles.be/agenda/groupe-bien-etre-gymnastique-en-musique-3-2-2-2-2/2029-01-04/
CATEGORIES:Groupe Bien-être
ATTACH;FMTTYPE=image/png:https://entraide-marolles.be/wp-content/uploads/2024/06/Capture-decran-2023-05-11-102255-e1719326874216.png
END:VEVENT
BEGIN:VEVENT
DTSTART;TZID=Europe/Brussels:20290105T100000
DTEND;TZID=Europe/Brussels:20290105T120000
DTSTAMP:20260425T132713
CREATED:20241022T133752Z
LAST-MODIFIED:20260305T150316Z
UID:10029014-1862301600-1862308800@entraide-marolles.be
SUMMARY:Vivre son corps - Groupe Bien-être
DESCRIPTION:Notre corps nous est souvent étranger. Cette activité propose de l’apprivoiser\, de travailler sur les tensions et l’estime de soi à travers plusieurs techniques : respiration\, chant\, relaxation\, méditation\, automassages\, Do In… \nActivité destinée aux femmes \nLes vendredis de 10h à 12h \nparticipation : 1 € \nPlus d’infos au 0487/20.94.10 ou sur la page du GBE
URL:https://entraide-marolles.be/agenda/groupe-bien-etre-vivre-son-corps-2/2029-01-05/
CATEGORIES:Groupe Bien-être
ATTACH;FMTTYPE=image/png:https://entraide-marolles.be/wp-content/uploads/2024/06/Capture-decran-2023-05-11-102255-e1719326874216.png
END:VEVENT
BEGIN:VEVENT
DTSTART;TZID=Europe/Brussels:20290105T173000
DTEND;TZID=Europe/Brussels:20290105T183000
DTSTAMP:20260425T132713
CREATED:20241022T133925Z
LAST-MODIFIED:20260217T144031Z
UID:10029267-1862328600-1862332200@entraide-marolles.be
SUMMARY:Yoga mixte - Groupe Bien-être
DESCRIPTION:Pratique basée sur la respiration et des postures variées. \nActivité ouverte aux hommes et aux femmes \nLes vendredis de 17h30 à 18h30 \nparticipation : 1 € \nPlus d’infos au 0497/209.410 ou sur la page du GBE
URL:https://entraide-marolles.be/agenda/groupe-bien-etre-yoga-2/2029-01-05/
CATEGORIES:Groupe Bien-être
ATTACH;FMTTYPE=image/png:https://entraide-marolles.be/wp-content/uploads/2024/06/Capture-decran-2023-05-11-102255-e1719326874216.png
END:VEVENT
BEGIN:VEVENT
DTSTART;TZID=Europe/Brussels:20290108T100000
DTEND;TZID=Europe/Brussels:20290108T120000
DTSTAMP:20260425T132713
CREATED:20241022T134248Z
LAST-MODIFIED:20260217T144736Z
UID:10000628-1862560800-1862568000@entraide-marolles.be
SUMMARY:Lundi à thème - Groupe Bien-être
DESCRIPTION:Les lundis à thème ce sont des moments de rencontre et d’échange créés par les femmes du groupe Bien-être pour passer du temps ensemble\, s’entraider\, échanger des idées\, créer des projets\, sortir de la solitude… \nActivité réservée aux femmes. \nTous les lundis de 10h à 12h en salle d’activité. \nPlus d’infos sur la page du GBE
URL:https://entraide-marolles.be/agenda/groupe-bien-etre-lundi-a-theme-2-2/2029-01-08/
CATEGORIES:Groupe Bien-être
ATTACH;FMTTYPE=image/png:https://entraide-marolles.be/wp-content/uploads/2024/06/Capture-decran-2023-05-11-102255-e1719326874216.png
END:VEVENT
BEGIN:VEVENT
DTSTART;TZID=Europe/Brussels:20290109T113000
DTEND;TZID=Europe/Brussels:20290109T130000
DTSTAMP:20260425T132713
CREATED:20241022T134408Z
LAST-MODIFIED:20260305T152243Z
UID:10000889-1862652600-1862658000@entraide-marolles.be
SUMMARY:Gymnastique hypopressive - Groupe Bien-être
DESCRIPTION:La gymnastique hypopressive est une activité qui se base sur un travail en douceur des muscles périnées et abdominaux. Chaque séance se termine par une relaxation \nActivité réservée aux femmes \nSans inscription – participation : 1 € \nPlus d’infos au 0497/209.410 ou sur la page du GBE
URL:https://entraide-marolles.be/agenda/groupe-bien-etre-gymnastique-hypopressive-2/2029-01-09/
CATEGORIES:Groupe Bien-être
ATTACH;FMTTYPE=image/png:https://entraide-marolles.be/wp-content/uploads/2024/06/Capture-decran-2023-05-11-102255-e1719326874216.png
END:VEVENT
BEGIN:VEVENT
DTSTART;TZID=Europe/Brussels:20290109T181500
DTEND;TZID=Europe/Brussels:20290109T200000
DTSTAMP:20260425T132713
CREATED:20250408T161003Z
LAST-MODIFIED:20260423T135208Z
UID:10040005-1862676900-1862683200@entraide-marolles.be
SUMMARY:Gymnastique en musique - Groupe Bien-être
DESCRIPTION:Activité menée par une participante engagée qui rassemble un public de femmes motivées à exercer des exercices cardiovasculaires et musculaires. \nActivité destinée aux femmes \nLes mardi et jeudi de 18h15 à 20h00 \nparticipation : 1 € \nPlus d’infos au 0487/20.94.10 ou sur la page du GBE
URL:https://entraide-marolles.be/agenda/groupe-bien-etre-gymnastique-en-musique-3-2-2-2-2/2029-01-09/
CATEGORIES:Groupe Bien-être
ATTACH;FMTTYPE=image/png:https://entraide-marolles.be/wp-content/uploads/2024/06/Capture-decran-2023-05-11-102255-e1719326874216.png
END:VEVENT
BEGIN:VEVENT
DTSTART;TZID=Europe/Brussels:20290111T181500
DTEND;TZID=Europe/Brussels:20290111T200000
DTSTAMP:20260425T132713
CREATED:20250408T161003Z
LAST-MODIFIED:20260423T135208Z
UID:10040006-1862849700-1862856000@entraide-marolles.be
SUMMARY:Gymnastique en musique - Groupe Bien-être
DESCRIPTION:Activité menée par une participante engagée qui rassemble un public de femmes motivées à exercer des exercices cardiovasculaires et musculaires. \nActivité destinée aux femmes \nLes mardi et jeudi de 18h15 à 20h00 \nparticipation : 1 € \nPlus d’infos au 0487/20.94.10 ou sur la page du GBE
URL:https://entraide-marolles.be/agenda/groupe-bien-etre-gymnastique-en-musique-3-2-2-2-2/2029-01-11/
CATEGORIES:Groupe Bien-être
ATTACH;FMTTYPE=image/png:https://entraide-marolles.be/wp-content/uploads/2024/06/Capture-decran-2023-05-11-102255-e1719326874216.png
END:VEVENT
BEGIN:VEVENT
DTSTART;TZID=Europe/Brussels:20290112T100000
DTEND;TZID=Europe/Brussels:20290112T120000
DTSTAMP:20260425T132713
CREATED:20241022T133752Z
LAST-MODIFIED:20260305T150316Z
UID:10029015-1862906400-1862913600@entraide-marolles.be
SUMMARY:Vivre son corps - Groupe Bien-être
DESCRIPTION:Notre corps nous est souvent étranger. Cette activité propose de l’apprivoiser\, de travailler sur les tensions et l’estime de soi à travers plusieurs techniques : respiration\, chant\, relaxation\, méditation\, automassages\, Do In… \nActivité destinée aux femmes \nLes vendredis de 10h à 12h \nparticipation : 1 € \nPlus d’infos au 0487/20.94.10 ou sur la page du GBE
URL:https://entraide-marolles.be/agenda/groupe-bien-etre-vivre-son-corps-2/2029-01-12/
CATEGORIES:Groupe Bien-être
ATTACH;FMTTYPE=image/png:https://entraide-marolles.be/wp-content/uploads/2024/06/Capture-decran-2023-05-11-102255-e1719326874216.png
END:VEVENT
BEGIN:VEVENT
DTSTART;TZID=Europe/Brussels:20290112T173000
DTEND;TZID=Europe/Brussels:20290112T183000
DTSTAMP:20260425T132713
CREATED:20241022T133925Z
LAST-MODIFIED:20260217T144031Z
UID:10029268-1862933400-1862937000@entraide-marolles.be
SUMMARY:Yoga mixte - Groupe Bien-être
DESCRIPTION:Pratique basée sur la respiration et des postures variées. \nActivité ouverte aux hommes et aux femmes \nLes vendredis de 17h30 à 18h30 \nparticipation : 1 € \nPlus d’infos au 0497/209.410 ou sur la page du GBE
URL:https://entraide-marolles.be/agenda/groupe-bien-etre-yoga-2/2029-01-12/
CATEGORIES:Groupe Bien-être
ATTACH;FMTTYPE=image/png:https://entraide-marolles.be/wp-content/uploads/2024/06/Capture-decran-2023-05-11-102255-e1719326874216.png
END:VEVENT
BEGIN:VEVENT
DTSTART;TZID=Europe/Brussels:20290115T100000
DTEND;TZID=Europe/Brussels:20290115T120000
DTSTAMP:20260425T132713
CREATED:20241022T134248Z
LAST-MODIFIED:20260217T144736Z
UID:10000629-1863165600-1863172800@entraide-marolles.be
SUMMARY:Lundi à thème - Groupe Bien-être
DESCRIPTION:Les lundis à thème ce sont des moments de rencontre et d’échange créés par les femmes du groupe Bien-être pour passer du temps ensemble\, s’entraider\, échanger des idées\, créer des projets\, sortir de la solitude… \nActivité réservée aux femmes. \nTous les lundis de 10h à 12h en salle d’activité. \nPlus d’infos sur la page du GBE
URL:https://entraide-marolles.be/agenda/groupe-bien-etre-lundi-a-theme-2-2/2029-01-15/
CATEGORIES:Groupe Bien-être
ATTACH;FMTTYPE=image/png:https://entraide-marolles.be/wp-content/uploads/2024/06/Capture-decran-2023-05-11-102255-e1719326874216.png
END:VEVENT
BEGIN:VEVENT
DTSTART;TZID=Europe/Brussels:20290116T113000
DTEND;TZID=Europe/Brussels:20290116T130000
DTSTAMP:20260425T132713
CREATED:20241022T134408Z
LAST-MODIFIED:20260305T152243Z
UID:10000890-1863257400-1863262800@entraide-marolles.be
SUMMARY:Gymnastique hypopressive - Groupe Bien-être
DESCRIPTION:La gymnastique hypopressive est une activité qui se base sur un travail en douceur des muscles périnées et abdominaux. Chaque séance se termine par une relaxation \nActivité réservée aux femmes \nSans inscription – participation : 1 € \nPlus d’infos au 0497/209.410 ou sur la page du GBE
URL:https://entraide-marolles.be/agenda/groupe-bien-etre-gymnastique-hypopressive-2/2029-01-16/
CATEGORIES:Groupe Bien-être
ATTACH;FMTTYPE=image/png:https://entraide-marolles.be/wp-content/uploads/2024/06/Capture-decran-2023-05-11-102255-e1719326874216.png
END:VEVENT
BEGIN:VEVENT
DTSTART;TZID=Europe/Brussels:20290116T181500
DTEND;TZID=Europe/Brussels:20290116T200000
DTSTAMP:20260425T132713
CREATED:20250408T161003Z
LAST-MODIFIED:20260423T135208Z
UID:10040007-1863281700-1863288000@entraide-marolles.be
SUMMARY:Gymnastique en musique - Groupe Bien-être
DESCRIPTION:Activité menée par une participante engagée qui rassemble un public de femmes motivées à exercer des exercices cardiovasculaires et musculaires. \nActivité destinée aux femmes \nLes mardi et jeudi de 18h15 à 20h00 \nparticipation : 1 € \nPlus d’infos au 0487/20.94.10 ou sur la page du GBE
URL:https://entraide-marolles.be/agenda/groupe-bien-etre-gymnastique-en-musique-3-2-2-2-2/2029-01-16/
CATEGORIES:Groupe Bien-être
ATTACH;FMTTYPE=image/png:https://entraide-marolles.be/wp-content/uploads/2024/06/Capture-decran-2023-05-11-102255-e1719326874216.png
END:VEVENT
BEGIN:VEVENT
DTSTART;TZID=Europe/Brussels:20290118T181500
DTEND;TZID=Europe/Brussels:20290118T200000
DTSTAMP:20260425T132713
CREATED:20250408T161003Z
LAST-MODIFIED:20260423T135208Z
UID:10040008-1863454500-1863460800@entraide-marolles.be
SUMMARY:Gymnastique en musique - Groupe Bien-être
DESCRIPTION:Activité menée par une participante engagée qui rassemble un public de femmes motivées à exercer des exercices cardiovasculaires et musculaires. \nActivité destinée aux femmes \nLes mardi et jeudi de 18h15 à 20h00 \nparticipation : 1 € \nPlus d’infos au 0487/20.94.10 ou sur la page du GBE
URL:https://entraide-marolles.be/agenda/groupe-bien-etre-gymnastique-en-musique-3-2-2-2-2/2029-01-18/
CATEGORIES:Groupe Bien-être
ATTACH;FMTTYPE=image/png:https://entraide-marolles.be/wp-content/uploads/2024/06/Capture-decran-2023-05-11-102255-e1719326874216.png
END:VEVENT
BEGIN:VEVENT
DTSTART;TZID=Europe/Brussels:20290119T100000
DTEND;TZID=Europe/Brussels:20290119T120000
DTSTAMP:20260425T132713
CREATED:20241022T133752Z
LAST-MODIFIED:20260305T150316Z
UID:10029016-1863511200-1863518400@entraide-marolles.be
SUMMARY:Vivre son corps - Groupe Bien-être
DESCRIPTION:Notre corps nous est souvent étranger. Cette activité propose de l’apprivoiser\, de travailler sur les tensions et l’estime de soi à travers plusieurs techniques : respiration\, chant\, relaxation\, méditation\, automassages\, Do In… \nActivité destinée aux femmes \nLes vendredis de 10h à 12h \nparticipation : 1 € \nPlus d’infos au 0487/20.94.10 ou sur la page du GBE
URL:https://entraide-marolles.be/agenda/groupe-bien-etre-vivre-son-corps-2/2029-01-19/
CATEGORIES:Groupe Bien-être
ATTACH;FMTTYPE=image/png:https://entraide-marolles.be/wp-content/uploads/2024/06/Capture-decran-2023-05-11-102255-e1719326874216.png
END:VEVENT
BEGIN:VEVENT
DTSTART;TZID=Europe/Brussels:20290119T173000
DTEND;TZID=Europe/Brussels:20290119T183000
DTSTAMP:20260425T132713
CREATED:20241022T133925Z
LAST-MODIFIED:20260217T144031Z
UID:10029269-1863538200-1863541800@entraide-marolles.be
SUMMARY:Yoga mixte - Groupe Bien-être
DESCRIPTION:Pratique basée sur la respiration et des postures variées. \nActivité ouverte aux hommes et aux femmes \nLes vendredis de 17h30 à 18h30 \nparticipation : 1 € \nPlus d’infos au 0497/209.410 ou sur la page du GBE
URL:https://entraide-marolles.be/agenda/groupe-bien-etre-yoga-2/2029-01-19/
CATEGORIES:Groupe Bien-être
ATTACH;FMTTYPE=image/png:https://entraide-marolles.be/wp-content/uploads/2024/06/Capture-decran-2023-05-11-102255-e1719326874216.png
END:VEVENT
BEGIN:VEVENT
DTSTART;TZID=Europe/Brussels:20290122T100000
DTEND;TZID=Europe/Brussels:20290122T120000
DTSTAMP:20260425T132713
CREATED:20241022T134248Z
LAST-MODIFIED:20260217T144736Z
UID:10000630-1863770400-1863777600@entraide-marolles.be
SUMMARY:Lundi à thème - Groupe Bien-être
DESCRIPTION:Les lundis à thème ce sont des moments de rencontre et d’échange créés par les femmes du groupe Bien-être pour passer du temps ensemble\, s’entraider\, échanger des idées\, créer des projets\, sortir de la solitude… \nActivité réservée aux femmes. \nTous les lundis de 10h à 12h en salle d’activité. \nPlus d’infos sur la page du GBE
URL:https://entraide-marolles.be/agenda/groupe-bien-etre-lundi-a-theme-2-2/2029-01-22/
CATEGORIES:Groupe Bien-être
ATTACH;FMTTYPE=image/png:https://entraide-marolles.be/wp-content/uploads/2024/06/Capture-decran-2023-05-11-102255-e1719326874216.png
END:VEVENT
BEGIN:VEVENT
DTSTART;TZID=Europe/Brussels:20290123T113000
DTEND;TZID=Europe/Brussels:20290123T130000
DTSTAMP:20260425T132713
CREATED:20241022T134408Z
LAST-MODIFIED:20260305T152243Z
UID:10000891-1863862200-1863867600@entraide-marolles.be
SUMMARY:Gymnastique hypopressive - Groupe Bien-être
DESCRIPTION:La gymnastique hypopressive est une activité qui se base sur un travail en douceur des muscles périnées et abdominaux. Chaque séance se termine par une relaxation \nActivité réservée aux femmes \nSans inscription – participation : 1 € \nPlus d’infos au 0497/209.410 ou sur la page du GBE
URL:https://entraide-marolles.be/agenda/groupe-bien-etre-gymnastique-hypopressive-2/2029-01-23/
CATEGORIES:Groupe Bien-être
ATTACH;FMTTYPE=image/png:https://entraide-marolles.be/wp-content/uploads/2024/06/Capture-decran-2023-05-11-102255-e1719326874216.png
END:VEVENT
BEGIN:VEVENT
DTSTART;TZID=Europe/Brussels:20290123T181500
DTEND;TZID=Europe/Brussels:20290123T200000
DTSTAMP:20260425T132713
CREATED:20250408T161003Z
LAST-MODIFIED:20260423T135208Z
UID:10040009-1863886500-1863892800@entraide-marolles.be
SUMMARY:Gymnastique en musique - Groupe Bien-être
DESCRIPTION:Activité menée par une participante engagée qui rassemble un public de femmes motivées à exercer des exercices cardiovasculaires et musculaires. \nActivité destinée aux femmes \nLes mardi et jeudi de 18h15 à 20h00 \nparticipation : 1 € \nPlus d’infos au 0487/20.94.10 ou sur la page du GBE
URL:https://entraide-marolles.be/agenda/groupe-bien-etre-gymnastique-en-musique-3-2-2-2-2/2029-01-23/
CATEGORIES:Groupe Bien-être
ATTACH;FMTTYPE=image/png:https://entraide-marolles.be/wp-content/uploads/2024/06/Capture-decran-2023-05-11-102255-e1719326874216.png
END:VEVENT
BEGIN:VEVENT
DTSTART;TZID=Europe/Brussels:20290125T181500
DTEND;TZID=Europe/Brussels:20290125T200000
DTSTAMP:20260425T132713
CREATED:20250408T161003Z
LAST-MODIFIED:20260423T135208Z
UID:10040010-1864059300-1864065600@entraide-marolles.be
SUMMARY:Gymnastique en musique - Groupe Bien-être
DESCRIPTION:Activité menée par une participante engagée qui rassemble un public de femmes motivées à exercer des exercices cardiovasculaires et musculaires. \nActivité destinée aux femmes \nLes mardi et jeudi de 18h15 à 20h00 \nparticipation : 1 € \nPlus d’infos au 0487/20.94.10 ou sur la page du GBE
URL:https://entraide-marolles.be/agenda/groupe-bien-etre-gymnastique-en-musique-3-2-2-2-2/2029-01-25/
CATEGORIES:Groupe Bien-être
ATTACH;FMTTYPE=image/png:https://entraide-marolles.be/wp-content/uploads/2024/06/Capture-decran-2023-05-11-102255-e1719326874216.png
END:VEVENT
BEGIN:VEVENT
DTSTART;TZID=Europe/Brussels:20290126T100000
DTEND;TZID=Europe/Brussels:20290126T120000
DTSTAMP:20260425T132713
CREATED:20241022T133752Z
LAST-MODIFIED:20260305T150316Z
UID:10029017-1864116000-1864123200@entraide-marolles.be
SUMMARY:Vivre son corps - Groupe Bien-être
DESCRIPTION:Notre corps nous est souvent étranger. Cette activité propose de l’apprivoiser\, de travailler sur les tensions et l’estime de soi à travers plusieurs techniques : respiration\, chant\, relaxation\, méditation\, automassages\, Do In… \nActivité destinée aux femmes \nLes vendredis de 10h à 12h \nparticipation : 1 € \nPlus d’infos au 0487/20.94.10 ou sur la page du GBE
URL:https://entraide-marolles.be/agenda/groupe-bien-etre-vivre-son-corps-2/2029-01-26/
CATEGORIES:Groupe Bien-être
ATTACH;FMTTYPE=image/png:https://entraide-marolles.be/wp-content/uploads/2024/06/Capture-decran-2023-05-11-102255-e1719326874216.png
END:VEVENT
BEGIN:VEVENT
DTSTART;TZID=Europe/Brussels:20290126T173000
DTEND;TZID=Europe/Brussels:20290126T183000
DTSTAMP:20260425T132713
CREATED:20241022T133925Z
LAST-MODIFIED:20260217T144031Z
UID:10029270-1864143000-1864146600@entraide-marolles.be
SUMMARY:Yoga mixte - Groupe Bien-être
DESCRIPTION:Pratique basée sur la respiration et des postures variées. \nActivité ouverte aux hommes et aux femmes \nLes vendredis de 17h30 à 18h30 \nparticipation : 1 € \nPlus d’infos au 0497/209.410 ou sur la page du GBE
URL:https://entraide-marolles.be/agenda/groupe-bien-etre-yoga-2/2029-01-26/
CATEGORIES:Groupe Bien-être
ATTACH;FMTTYPE=image/png:https://entraide-marolles.be/wp-content/uploads/2024/06/Capture-decran-2023-05-11-102255-e1719326874216.png
END:VEVENT
BEGIN:VEVENT
DTSTART;TZID=Europe/Brussels:20290129T100000
DTEND;TZID=Europe/Brussels:20290129T120000
DTSTAMP:20260425T132713
CREATED:20241022T134248Z
LAST-MODIFIED:20260217T144736Z
UID:10000631-1864375200-1864382400@entraide-marolles.be
SUMMARY:Lundi à thème - Groupe Bien-être
DESCRIPTION:Les lundis à thème ce sont des moments de rencontre et d’échange créés par les femmes du groupe Bien-être pour passer du temps ensemble\, s’entraider\, échanger des idées\, créer des projets\, sortir de la solitude… \nActivité réservée aux femmes. \nTous les lundis de 10h à 12h en salle d’activité. \nPlus d’infos sur la page du GBE
URL:https://entraide-marolles.be/agenda/groupe-bien-etre-lundi-a-theme-2-2/2029-01-29/
CATEGORIES:Groupe Bien-être
ATTACH;FMTTYPE=image/png:https://entraide-marolles.be/wp-content/uploads/2024/06/Capture-decran-2023-05-11-102255-e1719326874216.png
END:VEVENT
BEGIN:VEVENT
DTSTART;TZID=Europe/Brussels:20290130T113000
DTEND;TZID=Europe/Brussels:20290130T130000
DTSTAMP:20260425T132713
CREATED:20241022T134408Z
LAST-MODIFIED:20260305T152243Z
UID:10000892-1864467000-1864472400@entraide-marolles.be
SUMMARY:Gymnastique hypopressive - Groupe Bien-être
DESCRIPTION:La gymnastique hypopressive est une activité qui se base sur un travail en douceur des muscles périnées et abdominaux. Chaque séance se termine par une relaxation \nActivité réservée aux femmes \nSans inscription – participation : 1 € \nPlus d’infos au 0497/209.410 ou sur la page du GBE
URL:https://entraide-marolles.be/agenda/groupe-bien-etre-gymnastique-hypopressive-2/2029-01-30/
CATEGORIES:Groupe Bien-être
ATTACH;FMTTYPE=image/png:https://entraide-marolles.be/wp-content/uploads/2024/06/Capture-decran-2023-05-11-102255-e1719326874216.png
END:VEVENT
BEGIN:VEVENT
DTSTART;TZID=Europe/Brussels:20290130T181500
DTEND;TZID=Europe/Brussels:20290130T200000
DTSTAMP:20260425T132713
CREATED:20250408T161003Z
LAST-MODIFIED:20260423T135208Z
UID:10040011-1864491300-1864497600@entraide-marolles.be
SUMMARY:Gymnastique en musique - Groupe Bien-être
DESCRIPTION:Activité menée par une participante engagée qui rassemble un public de femmes motivées à exercer des exercices cardiovasculaires et musculaires. \nActivité destinée aux femmes \nLes mardi et jeudi de 18h15 à 20h00 \nparticipation : 1 € \nPlus d’infos au 0487/20.94.10 ou sur la page du GBE
URL:https://entraide-marolles.be/agenda/groupe-bien-etre-gymnastique-en-musique-3-2-2-2-2/2029-01-30/
CATEGORIES:Groupe Bien-être
ATTACH;FMTTYPE=image/png:https://entraide-marolles.be/wp-content/uploads/2024/06/Capture-decran-2023-05-11-102255-e1719326874216.png
END:VEVENT
BEGIN:VEVENT
DTSTART;TZID=Europe/Brussels:20290201T181500
DTEND;TZID=Europe/Brussels:20290201T200000
DTSTAMP:20260425T132713
CREATED:20250408T161003Z
LAST-MODIFIED:20260423T135208Z
UID:10040012-1864664100-1864670400@entraide-marolles.be
SUMMARY:Gymnastique en musique - Groupe Bien-être
DESCRIPTION:Activité menée par une participante engagée qui rassemble un public de femmes motivées à exercer des exercices cardiovasculaires et musculaires. \nActivité destinée aux femmes \nLes mardi et jeudi de 18h15 à 20h00 \nparticipation : 1 € \nPlus d’infos au 0487/20.94.10 ou sur la page du GBE
URL:https://entraide-marolles.be/agenda/groupe-bien-etre-gymnastique-en-musique-3-2-2-2-2/2029-02-01/
CATEGORIES:Groupe Bien-être
ATTACH;FMTTYPE=image/png:https://entraide-marolles.be/wp-content/uploads/2024/06/Capture-decran-2023-05-11-102255-e1719326874216.png
END:VEVENT
BEGIN:VEVENT
DTSTART;TZID=Europe/Brussels:20290202T100000
DTEND;TZID=Europe/Brussels:20290202T120000
DTSTAMP:20260425T132713
CREATED:20241022T133752Z
LAST-MODIFIED:20260305T150316Z
UID:10029018-1864720800-1864728000@entraide-marolles.be
SUMMARY:Vivre son corps - Groupe Bien-être
DESCRIPTION:Notre corps nous est souvent étranger. Cette activité propose de l’apprivoiser\, de travailler sur les tensions et l’estime de soi à travers plusieurs techniques : respiration\, chant\, relaxation\, méditation\, automassages\, Do In… \nActivité destinée aux femmes \nLes vendredis de 10h à 12h \nparticipation : 1 € \nPlus d’infos au 0487/20.94.10 ou sur la page du GBE
URL:https://entraide-marolles.be/agenda/groupe-bien-etre-vivre-son-corps-2/2029-02-02/
CATEGORIES:Groupe Bien-être
ATTACH;FMTTYPE=image/png:https://entraide-marolles.be/wp-content/uploads/2024/06/Capture-decran-2023-05-11-102255-e1719326874216.png
END:VEVENT
BEGIN:VEVENT
DTSTART;TZID=Europe/Brussels:20290202T173000
DTEND;TZID=Europe/Brussels:20290202T183000
DTSTAMP:20260425T132713
CREATED:20241022T133925Z
LAST-MODIFIED:20260217T144031Z
UID:10029271-1864747800-1864751400@entraide-marolles.be
SUMMARY:Yoga mixte - Groupe Bien-être
DESCRIPTION:Pratique basée sur la respiration et des postures variées. \nActivité ouverte aux hommes et aux femmes \nLes vendredis de 17h30 à 18h30 \nparticipation : 1 € \nPlus d’infos au 0497/209.410 ou sur la page du GBE
URL:https://entraide-marolles.be/agenda/groupe-bien-etre-yoga-2/2029-02-02/
CATEGORIES:Groupe Bien-être
ATTACH;FMTTYPE=image/png:https://entraide-marolles.be/wp-content/uploads/2024/06/Capture-decran-2023-05-11-102255-e1719326874216.png
END:VEVENT
END:VCALENDAR