BEGIN:VCALENDAR
VERSION:2.0
PRODID:-//Entr’Aide des Marolles - ECPv6.15.20//NONSGML v1.0//EN
CALSCALE:GREGORIAN
METHOD:PUBLISH
X-WR-CALNAME:Entr’Aide des Marolles
X-ORIGINAL-URL:https://entraide-marolles.be
X-WR-CALDESC:Évènements pour Entr’Aide des Marolles
REFRESH-INTERVAL;VALUE=DURATION:PT1H
X-Robots-Tag:noindex
X-PUBLISHED-TTL:PT1H
BEGIN:VTIMEZONE
TZID:Europe/Brussels
BEGIN:DAYLIGHT
TZOFFSETFROM:+0100
TZOFFSETTO:+0200
TZNAME:CEST
DTSTART:20260329T010000
END:DAYLIGHT
BEGIN:STANDARD
TZOFFSETFROM:+0200
TZOFFSETTO:+0100
TZNAME:CET
DTSTART:20261025T010000
END:STANDARD
BEGIN:DAYLIGHT
TZOFFSETFROM:+0100
TZOFFSETTO:+0200
TZNAME:CEST
DTSTART:20270328T010000
END:DAYLIGHT
BEGIN:STANDARD
TZOFFSETFROM:+0200
TZOFFSETTO:+0100
TZNAME:CET
DTSTART:20271031T010000
END:STANDARD
BEGIN:DAYLIGHT
TZOFFSETFROM:+0100
TZOFFSETTO:+0200
TZNAME:CEST
DTSTART:20280326T010000
END:DAYLIGHT
BEGIN:STANDARD
TZOFFSETFROM:+0200
TZOFFSETTO:+0100
TZNAME:CET
DTSTART:20281029T010000
END:STANDARD
BEGIN:DAYLIGHT
TZOFFSETFROM:+0100
TZOFFSETTO:+0200
TZNAME:CEST
DTSTART:20290325T010000
END:DAYLIGHT
BEGIN:STANDARD
TZOFFSETFROM:+0200
TZOFFSETTO:+0100
TZNAME:CET
DTSTART:20291028T010000
END:STANDARD
END:VTIMEZONE
BEGIN:VEVENT
DTSTART;TZID=Europe/Brussels:20271221T181500
DTEND;TZID=Europe/Brussels:20271221T200000
DTSTAMP:20260424T065506
CREATED:20250408T161003Z
LAST-MODIFIED:20260423T135208Z
UID:10039895-1829412900-1829419200@entraide-marolles.be
SUMMARY:Gymnastique en musique - Groupe Bien-être
DESCRIPTION:Activité menée par une participante engagée qui rassemble un public de femmes motivées à exercer des exercices cardiovasculaires et musculaires. \nActivité destinée aux femmes \nLes mardi et jeudi de 18h15 à 20h00 \nparticipation : 1 € \nPlus d’infos au 0487/20.94.10 ou sur la page du GBE
URL:https://entraide-marolles.be/agenda/groupe-bien-etre-gymnastique-en-musique-3-2-2-2-2/2027-12-21/
CATEGORIES:Groupe Bien-être
ATTACH;FMTTYPE=image/png:https://entraide-marolles.be/wp-content/uploads/2024/06/Capture-decran-2023-05-11-102255-e1719326874216.png
END:VEVENT
BEGIN:VEVENT
DTSTART;TZID=Europe/Brussels:20271223T181500
DTEND;TZID=Europe/Brussels:20271223T200000
DTSTAMP:20260424T065506
CREATED:20250408T161003Z
LAST-MODIFIED:20260423T135208Z
UID:10039896-1829585700-1829592000@entraide-marolles.be
SUMMARY:Gymnastique en musique - Groupe Bien-être
DESCRIPTION:Activité menée par une participante engagée qui rassemble un public de femmes motivées à exercer des exercices cardiovasculaires et musculaires. \nActivité destinée aux femmes \nLes mardi et jeudi de 18h15 à 20h00 \nparticipation : 1 € \nPlus d’infos au 0487/20.94.10 ou sur la page du GBE
URL:https://entraide-marolles.be/agenda/groupe-bien-etre-gymnastique-en-musique-3-2-2-2-2/2027-12-23/
CATEGORIES:Groupe Bien-être
ATTACH;FMTTYPE=image/png:https://entraide-marolles.be/wp-content/uploads/2024/06/Capture-decran-2023-05-11-102255-e1719326874216.png
END:VEVENT
BEGIN:VEVENT
DTSTART;TZID=Europe/Brussels:20271224T100000
DTEND;TZID=Europe/Brussels:20271224T120000
DTSTAMP:20260424T065506
CREATED:20241022T133752Z
LAST-MODIFIED:20260305T150316Z
UID:10028960-1829642400-1829649600@entraide-marolles.be
SUMMARY:Vivre son corps - Groupe Bien-être
DESCRIPTION:Notre corps nous est souvent étranger. Cette activité propose de l’apprivoiser\, de travailler sur les tensions et l’estime de soi à travers plusieurs techniques : respiration\, chant\, relaxation\, méditation\, automassages\, Do In… \nActivité destinée aux femmes \nLes vendredis de 10h à 12h \nparticipation : 1 € \nPlus d’infos au 0487/20.94.10 ou sur la page du GBE
URL:https://entraide-marolles.be/agenda/groupe-bien-etre-vivre-son-corps-2/2027-12-24/
CATEGORIES:Groupe Bien-être
ATTACH;FMTTYPE=image/png:https://entraide-marolles.be/wp-content/uploads/2024/06/Capture-decran-2023-05-11-102255-e1719326874216.png
END:VEVENT
BEGIN:VEVENT
DTSTART;TZID=Europe/Brussels:20271224T173000
DTEND;TZID=Europe/Brussels:20271224T183000
DTSTAMP:20260424T065506
CREATED:20241022T133925Z
LAST-MODIFIED:20260217T144031Z
UID:10029213-1829669400-1829673000@entraide-marolles.be
SUMMARY:Yoga mixte - Groupe Bien-être
DESCRIPTION:Pratique basée sur la respiration et des postures variées. \nActivité ouverte aux hommes et aux femmes \nLes vendredis de 17h30 à 18h30 \nparticipation : 1 € \nPlus d’infos au 0497/209.410 ou sur la page du GBE
URL:https://entraide-marolles.be/agenda/groupe-bien-etre-yoga-2/2027-12-24/
CATEGORIES:Groupe Bien-être
ATTACH;FMTTYPE=image/png:https://entraide-marolles.be/wp-content/uploads/2024/06/Capture-decran-2023-05-11-102255-e1719326874216.png
END:VEVENT
BEGIN:VEVENT
DTSTART;TZID=Europe/Brussels:20271227T100000
DTEND;TZID=Europe/Brussels:20271227T120000
DTSTAMP:20260424T065506
CREATED:20241022T134248Z
LAST-MODIFIED:20260217T144736Z
UID:10000574-1829901600-1829908800@entraide-marolles.be
SUMMARY:Lundi à thème - Groupe Bien-être
DESCRIPTION:Les lundis à thème ce sont des moments de rencontre et d’échange créés par les femmes du groupe Bien-être pour passer du temps ensemble\, s’entraider\, échanger des idées\, créer des projets\, sortir de la solitude… \nActivité réservée aux femmes. \nTous les lundis de 10h à 12h en salle d’activité. \nPlus d’infos sur la page du GBE
URL:https://entraide-marolles.be/agenda/groupe-bien-etre-lundi-a-theme-2-2/2027-12-27/
CATEGORIES:Groupe Bien-être
ATTACH;FMTTYPE=image/png:https://entraide-marolles.be/wp-content/uploads/2024/06/Capture-decran-2023-05-11-102255-e1719326874216.png
END:VEVENT
BEGIN:VEVENT
DTSTART;TZID=Europe/Brussels:20271228T113000
DTEND;TZID=Europe/Brussels:20271228T130000
DTSTAMP:20260424T065506
CREATED:20241022T134408Z
LAST-MODIFIED:20260305T152243Z
UID:10000835-1829993400-1829998800@entraide-marolles.be
SUMMARY:Gymnastique hypopressive - Groupe Bien-être
DESCRIPTION:La gymnastique hypopressive est une activité qui se base sur un travail en douceur des muscles périnées et abdominaux. Chaque séance se termine par une relaxation \nActivité réservée aux femmes \nSans inscription – participation : 1 € \nPlus d’infos au 0497/209.410 ou sur la page du GBE
URL:https://entraide-marolles.be/agenda/groupe-bien-etre-gymnastique-hypopressive-2/2027-12-28/
CATEGORIES:Groupe Bien-être
ATTACH;FMTTYPE=image/png:https://entraide-marolles.be/wp-content/uploads/2024/06/Capture-decran-2023-05-11-102255-e1719326874216.png
END:VEVENT
BEGIN:VEVENT
DTSTART;TZID=Europe/Brussels:20271228T181500
DTEND;TZID=Europe/Brussels:20271228T200000
DTSTAMP:20260424T065506
CREATED:20250408T161003Z
LAST-MODIFIED:20260423T135208Z
UID:10039897-1830017700-1830024000@entraide-marolles.be
SUMMARY:Gymnastique en musique - Groupe Bien-être
DESCRIPTION:Activité menée par une participante engagée qui rassemble un public de femmes motivées à exercer des exercices cardiovasculaires et musculaires. \nActivité destinée aux femmes \nLes mardi et jeudi de 18h15 à 20h00 \nparticipation : 1 € \nPlus d’infos au 0487/20.94.10 ou sur la page du GBE
URL:https://entraide-marolles.be/agenda/groupe-bien-etre-gymnastique-en-musique-3-2-2-2-2/2027-12-28/
CATEGORIES:Groupe Bien-être
ATTACH;FMTTYPE=image/png:https://entraide-marolles.be/wp-content/uploads/2024/06/Capture-decran-2023-05-11-102255-e1719326874216.png
END:VEVENT
BEGIN:VEVENT
DTSTART;TZID=Europe/Brussels:20271230T181500
DTEND;TZID=Europe/Brussels:20271230T200000
DTSTAMP:20260424T065506
CREATED:20250408T161003Z
LAST-MODIFIED:20260423T135208Z
UID:10039898-1830190500-1830196800@entraide-marolles.be
SUMMARY:Gymnastique en musique - Groupe Bien-être
DESCRIPTION:Activité menée par une participante engagée qui rassemble un public de femmes motivées à exercer des exercices cardiovasculaires et musculaires. \nActivité destinée aux femmes \nLes mardi et jeudi de 18h15 à 20h00 \nparticipation : 1 € \nPlus d’infos au 0487/20.94.10 ou sur la page du GBE
URL:https://entraide-marolles.be/agenda/groupe-bien-etre-gymnastique-en-musique-3-2-2-2-2/2027-12-30/
CATEGORIES:Groupe Bien-être
ATTACH;FMTTYPE=image/png:https://entraide-marolles.be/wp-content/uploads/2024/06/Capture-decran-2023-05-11-102255-e1719326874216.png
END:VEVENT
BEGIN:VEVENT
DTSTART;TZID=Europe/Brussels:20271231T100000
DTEND;TZID=Europe/Brussels:20271231T120000
DTSTAMP:20260424T065506
CREATED:20241022T133752Z
LAST-MODIFIED:20260305T150316Z
UID:10028961-1830247200-1830254400@entraide-marolles.be
SUMMARY:Vivre son corps - Groupe Bien-être
DESCRIPTION:Notre corps nous est souvent étranger. Cette activité propose de l’apprivoiser\, de travailler sur les tensions et l’estime de soi à travers plusieurs techniques : respiration\, chant\, relaxation\, méditation\, automassages\, Do In… \nActivité destinée aux femmes \nLes vendredis de 10h à 12h \nparticipation : 1 € \nPlus d’infos au 0487/20.94.10 ou sur la page du GBE
URL:https://entraide-marolles.be/agenda/groupe-bien-etre-vivre-son-corps-2/2027-12-31/
CATEGORIES:Groupe Bien-être
ATTACH;FMTTYPE=image/png:https://entraide-marolles.be/wp-content/uploads/2024/06/Capture-decran-2023-05-11-102255-e1719326874216.png
END:VEVENT
BEGIN:VEVENT
DTSTART;TZID=Europe/Brussels:20271231T173000
DTEND;TZID=Europe/Brussels:20271231T183000
DTSTAMP:20260424T065506
CREATED:20241022T133925Z
LAST-MODIFIED:20260217T144031Z
UID:10029214-1830274200-1830277800@entraide-marolles.be
SUMMARY:Yoga mixte - Groupe Bien-être
DESCRIPTION:Pratique basée sur la respiration et des postures variées. \nActivité ouverte aux hommes et aux femmes \nLes vendredis de 17h30 à 18h30 \nparticipation : 1 € \nPlus d’infos au 0497/209.410 ou sur la page du GBE
URL:https://entraide-marolles.be/agenda/groupe-bien-etre-yoga-2/2027-12-31/
CATEGORIES:Groupe Bien-être
ATTACH;FMTTYPE=image/png:https://entraide-marolles.be/wp-content/uploads/2024/06/Capture-decran-2023-05-11-102255-e1719326874216.png
END:VEVENT
BEGIN:VEVENT
DTSTART;TZID=Europe/Brussels:20280103T100000
DTEND;TZID=Europe/Brussels:20280103T120000
DTSTAMP:20260424T065506
CREATED:20241022T134248Z
LAST-MODIFIED:20260217T144736Z
UID:10000575-1830506400-1830513600@entraide-marolles.be
SUMMARY:Lundi à thème - Groupe Bien-être
DESCRIPTION:Les lundis à thème ce sont des moments de rencontre et d’échange créés par les femmes du groupe Bien-être pour passer du temps ensemble\, s’entraider\, échanger des idées\, créer des projets\, sortir de la solitude… \nActivité réservée aux femmes. \nTous les lundis de 10h à 12h en salle d’activité. \nPlus d’infos sur la page du GBE
URL:https://entraide-marolles.be/agenda/groupe-bien-etre-lundi-a-theme-2-2/2028-01-03/
CATEGORIES:Groupe Bien-être
ATTACH;FMTTYPE=image/png:https://entraide-marolles.be/wp-content/uploads/2024/06/Capture-decran-2023-05-11-102255-e1719326874216.png
END:VEVENT
BEGIN:VEVENT
DTSTART;TZID=Europe/Brussels:20280104T113000
DTEND;TZID=Europe/Brussels:20280104T130000
DTSTAMP:20260424T065506
CREATED:20241022T134408Z
LAST-MODIFIED:20260305T152243Z
UID:10000836-1830598200-1830603600@entraide-marolles.be
SUMMARY:Gymnastique hypopressive - Groupe Bien-être
DESCRIPTION:La gymnastique hypopressive est une activité qui se base sur un travail en douceur des muscles périnées et abdominaux. Chaque séance se termine par une relaxation \nActivité réservée aux femmes \nSans inscription – participation : 1 € \nPlus d’infos au 0497/209.410 ou sur la page du GBE
URL:https://entraide-marolles.be/agenda/groupe-bien-etre-gymnastique-hypopressive-2/2028-01-04/
CATEGORIES:Groupe Bien-être
ATTACH;FMTTYPE=image/png:https://entraide-marolles.be/wp-content/uploads/2024/06/Capture-decran-2023-05-11-102255-e1719326874216.png
END:VEVENT
BEGIN:VEVENT
DTSTART;TZID=Europe/Brussels:20280104T181500
DTEND;TZID=Europe/Brussels:20280104T200000
DTSTAMP:20260424T065506
CREATED:20250408T161003Z
LAST-MODIFIED:20260423T135208Z
UID:10039899-1830622500-1830628800@entraide-marolles.be
SUMMARY:Gymnastique en musique - Groupe Bien-être
DESCRIPTION:Activité menée par une participante engagée qui rassemble un public de femmes motivées à exercer des exercices cardiovasculaires et musculaires. \nActivité destinée aux femmes \nLes mardi et jeudi de 18h15 à 20h00 \nparticipation : 1 € \nPlus d’infos au 0487/20.94.10 ou sur la page du GBE
URL:https://entraide-marolles.be/agenda/groupe-bien-etre-gymnastique-en-musique-3-2-2-2-2/2028-01-04/
CATEGORIES:Groupe Bien-être
ATTACH;FMTTYPE=image/png:https://entraide-marolles.be/wp-content/uploads/2024/06/Capture-decran-2023-05-11-102255-e1719326874216.png
END:VEVENT
BEGIN:VEVENT
DTSTART;TZID=Europe/Brussels:20280106T181500
DTEND;TZID=Europe/Brussels:20280106T200000
DTSTAMP:20260424T065506
CREATED:20250408T161003Z
LAST-MODIFIED:20260423T135208Z
UID:10039900-1830795300-1830801600@entraide-marolles.be
SUMMARY:Gymnastique en musique - Groupe Bien-être
DESCRIPTION:Activité menée par une participante engagée qui rassemble un public de femmes motivées à exercer des exercices cardiovasculaires et musculaires. \nActivité destinée aux femmes \nLes mardi et jeudi de 18h15 à 20h00 \nparticipation : 1 € \nPlus d’infos au 0487/20.94.10 ou sur la page du GBE
URL:https://entraide-marolles.be/agenda/groupe-bien-etre-gymnastique-en-musique-3-2-2-2-2/2028-01-06/
CATEGORIES:Groupe Bien-être
ATTACH;FMTTYPE=image/png:https://entraide-marolles.be/wp-content/uploads/2024/06/Capture-decran-2023-05-11-102255-e1719326874216.png
END:VEVENT
BEGIN:VEVENT
DTSTART;TZID=Europe/Brussels:20280107T100000
DTEND;TZID=Europe/Brussels:20280107T120000
DTSTAMP:20260424T065506
CREATED:20241022T133752Z
LAST-MODIFIED:20260305T150316Z
UID:10028962-1830852000-1830859200@entraide-marolles.be
SUMMARY:Vivre son corps - Groupe Bien-être
DESCRIPTION:Notre corps nous est souvent étranger. Cette activité propose de l’apprivoiser\, de travailler sur les tensions et l’estime de soi à travers plusieurs techniques : respiration\, chant\, relaxation\, méditation\, automassages\, Do In… \nActivité destinée aux femmes \nLes vendredis de 10h à 12h \nparticipation : 1 € \nPlus d’infos au 0487/20.94.10 ou sur la page du GBE
URL:https://entraide-marolles.be/agenda/groupe-bien-etre-vivre-son-corps-2/2028-01-07/
CATEGORIES:Groupe Bien-être
ATTACH;FMTTYPE=image/png:https://entraide-marolles.be/wp-content/uploads/2024/06/Capture-decran-2023-05-11-102255-e1719326874216.png
END:VEVENT
BEGIN:VEVENT
DTSTART;TZID=Europe/Brussels:20280107T173000
DTEND;TZID=Europe/Brussels:20280107T183000
DTSTAMP:20260424T065506
CREATED:20241022T133925Z
LAST-MODIFIED:20260217T144031Z
UID:10029215-1830879000-1830882600@entraide-marolles.be
SUMMARY:Yoga mixte - Groupe Bien-être
DESCRIPTION:Pratique basée sur la respiration et des postures variées. \nActivité ouverte aux hommes et aux femmes \nLes vendredis de 17h30 à 18h30 \nparticipation : 1 € \nPlus d’infos au 0497/209.410 ou sur la page du GBE
URL:https://entraide-marolles.be/agenda/groupe-bien-etre-yoga-2/2028-01-07/
CATEGORIES:Groupe Bien-être
ATTACH;FMTTYPE=image/png:https://entraide-marolles.be/wp-content/uploads/2024/06/Capture-decran-2023-05-11-102255-e1719326874216.png
END:VEVENT
BEGIN:VEVENT
DTSTART;TZID=Europe/Brussels:20280110T100000
DTEND;TZID=Europe/Brussels:20280110T120000
DTSTAMP:20260424T065506
CREATED:20241022T134248Z
LAST-MODIFIED:20260217T144736Z
UID:10000576-1831111200-1831118400@entraide-marolles.be
SUMMARY:Lundi à thème - Groupe Bien-être
DESCRIPTION:Les lundis à thème ce sont des moments de rencontre et d’échange créés par les femmes du groupe Bien-être pour passer du temps ensemble\, s’entraider\, échanger des idées\, créer des projets\, sortir de la solitude… \nActivité réservée aux femmes. \nTous les lundis de 10h à 12h en salle d’activité. \nPlus d’infos sur la page du GBE
URL:https://entraide-marolles.be/agenda/groupe-bien-etre-lundi-a-theme-2-2/2028-01-10/
CATEGORIES:Groupe Bien-être
ATTACH;FMTTYPE=image/png:https://entraide-marolles.be/wp-content/uploads/2024/06/Capture-decran-2023-05-11-102255-e1719326874216.png
END:VEVENT
BEGIN:VEVENT
DTSTART;TZID=Europe/Brussels:20280111T113000
DTEND;TZID=Europe/Brussels:20280111T130000
DTSTAMP:20260424T065506
CREATED:20241022T134408Z
LAST-MODIFIED:20260305T152243Z
UID:10000837-1831203000-1831208400@entraide-marolles.be
SUMMARY:Gymnastique hypopressive - Groupe Bien-être
DESCRIPTION:La gymnastique hypopressive est une activité qui se base sur un travail en douceur des muscles périnées et abdominaux. Chaque séance se termine par une relaxation \nActivité réservée aux femmes \nSans inscription – participation : 1 € \nPlus d’infos au 0497/209.410 ou sur la page du GBE
URL:https://entraide-marolles.be/agenda/groupe-bien-etre-gymnastique-hypopressive-2/2028-01-11/
CATEGORIES:Groupe Bien-être
ATTACH;FMTTYPE=image/png:https://entraide-marolles.be/wp-content/uploads/2024/06/Capture-decran-2023-05-11-102255-e1719326874216.png
END:VEVENT
BEGIN:VEVENT
DTSTART;TZID=Europe/Brussels:20280111T181500
DTEND;TZID=Europe/Brussels:20280111T200000
DTSTAMP:20260424T065506
CREATED:20250408T161003Z
LAST-MODIFIED:20260423T135208Z
UID:10039901-1831227300-1831233600@entraide-marolles.be
SUMMARY:Gymnastique en musique - Groupe Bien-être
DESCRIPTION:Activité menée par une participante engagée qui rassemble un public de femmes motivées à exercer des exercices cardiovasculaires et musculaires. \nActivité destinée aux femmes \nLes mardi et jeudi de 18h15 à 20h00 \nparticipation : 1 € \nPlus d’infos au 0487/20.94.10 ou sur la page du GBE
URL:https://entraide-marolles.be/agenda/groupe-bien-etre-gymnastique-en-musique-3-2-2-2-2/2028-01-11/
CATEGORIES:Groupe Bien-être
ATTACH;FMTTYPE=image/png:https://entraide-marolles.be/wp-content/uploads/2024/06/Capture-decran-2023-05-11-102255-e1719326874216.png
END:VEVENT
BEGIN:VEVENT
DTSTART;TZID=Europe/Brussels:20280113T181500
DTEND;TZID=Europe/Brussels:20280113T200000
DTSTAMP:20260424T065506
CREATED:20250408T161003Z
LAST-MODIFIED:20260423T135208Z
UID:10039902-1831400100-1831406400@entraide-marolles.be
SUMMARY:Gymnastique en musique - Groupe Bien-être
DESCRIPTION:Activité menée par une participante engagée qui rassemble un public de femmes motivées à exercer des exercices cardiovasculaires et musculaires. \nActivité destinée aux femmes \nLes mardi et jeudi de 18h15 à 20h00 \nparticipation : 1 € \nPlus d’infos au 0487/20.94.10 ou sur la page du GBE
URL:https://entraide-marolles.be/agenda/groupe-bien-etre-gymnastique-en-musique-3-2-2-2-2/2028-01-13/
CATEGORIES:Groupe Bien-être
ATTACH;FMTTYPE=image/png:https://entraide-marolles.be/wp-content/uploads/2024/06/Capture-decran-2023-05-11-102255-e1719326874216.png
END:VEVENT
BEGIN:VEVENT
DTSTART;TZID=Europe/Brussels:20280114T100000
DTEND;TZID=Europe/Brussels:20280114T120000
DTSTAMP:20260424T065506
CREATED:20241022T133752Z
LAST-MODIFIED:20260305T150316Z
UID:10028963-1831456800-1831464000@entraide-marolles.be
SUMMARY:Vivre son corps - Groupe Bien-être
DESCRIPTION:Notre corps nous est souvent étranger. Cette activité propose de l’apprivoiser\, de travailler sur les tensions et l’estime de soi à travers plusieurs techniques : respiration\, chant\, relaxation\, méditation\, automassages\, Do In… \nActivité destinée aux femmes \nLes vendredis de 10h à 12h \nparticipation : 1 € \nPlus d’infos au 0487/20.94.10 ou sur la page du GBE
URL:https://entraide-marolles.be/agenda/groupe-bien-etre-vivre-son-corps-2/2028-01-14/
CATEGORIES:Groupe Bien-être
ATTACH;FMTTYPE=image/png:https://entraide-marolles.be/wp-content/uploads/2024/06/Capture-decran-2023-05-11-102255-e1719326874216.png
END:VEVENT
BEGIN:VEVENT
DTSTART;TZID=Europe/Brussels:20280114T173000
DTEND;TZID=Europe/Brussels:20280114T183000
DTSTAMP:20260424T065506
CREATED:20241022T133925Z
LAST-MODIFIED:20260217T144031Z
UID:10029216-1831483800-1831487400@entraide-marolles.be
SUMMARY:Yoga mixte - Groupe Bien-être
DESCRIPTION:Pratique basée sur la respiration et des postures variées. \nActivité ouverte aux hommes et aux femmes \nLes vendredis de 17h30 à 18h30 \nparticipation : 1 € \nPlus d’infos au 0497/209.410 ou sur la page du GBE
URL:https://entraide-marolles.be/agenda/groupe-bien-etre-yoga-2/2028-01-14/
CATEGORIES:Groupe Bien-être
ATTACH;FMTTYPE=image/png:https://entraide-marolles.be/wp-content/uploads/2024/06/Capture-decran-2023-05-11-102255-e1719326874216.png
END:VEVENT
BEGIN:VEVENT
DTSTART;TZID=Europe/Brussels:20280117T100000
DTEND;TZID=Europe/Brussels:20280117T120000
DTSTAMP:20260424T065506
CREATED:20241022T134248Z
LAST-MODIFIED:20260217T144736Z
UID:10000577-1831716000-1831723200@entraide-marolles.be
SUMMARY:Lundi à thème - Groupe Bien-être
DESCRIPTION:Les lundis à thème ce sont des moments de rencontre et d’échange créés par les femmes du groupe Bien-être pour passer du temps ensemble\, s’entraider\, échanger des idées\, créer des projets\, sortir de la solitude… \nActivité réservée aux femmes. \nTous les lundis de 10h à 12h en salle d’activité. \nPlus d’infos sur la page du GBE
URL:https://entraide-marolles.be/agenda/groupe-bien-etre-lundi-a-theme-2-2/2028-01-17/
CATEGORIES:Groupe Bien-être
ATTACH;FMTTYPE=image/png:https://entraide-marolles.be/wp-content/uploads/2024/06/Capture-decran-2023-05-11-102255-e1719326874216.png
END:VEVENT
BEGIN:VEVENT
DTSTART;TZID=Europe/Brussels:20280118T113000
DTEND;TZID=Europe/Brussels:20280118T130000
DTSTAMP:20260424T065506
CREATED:20241022T134408Z
LAST-MODIFIED:20260305T152243Z
UID:10000838-1831807800-1831813200@entraide-marolles.be
SUMMARY:Gymnastique hypopressive - Groupe Bien-être
DESCRIPTION:La gymnastique hypopressive est une activité qui se base sur un travail en douceur des muscles périnées et abdominaux. Chaque séance se termine par une relaxation \nActivité réservée aux femmes \nSans inscription – participation : 1 € \nPlus d’infos au 0497/209.410 ou sur la page du GBE
URL:https://entraide-marolles.be/agenda/groupe-bien-etre-gymnastique-hypopressive-2/2028-01-18/
CATEGORIES:Groupe Bien-être
ATTACH;FMTTYPE=image/png:https://entraide-marolles.be/wp-content/uploads/2024/06/Capture-decran-2023-05-11-102255-e1719326874216.png
END:VEVENT
BEGIN:VEVENT
DTSTART;TZID=Europe/Brussels:20280118T181500
DTEND;TZID=Europe/Brussels:20280118T200000
DTSTAMP:20260424T065506
CREATED:20250408T161003Z
LAST-MODIFIED:20260423T135208Z
UID:10039903-1831832100-1831838400@entraide-marolles.be
SUMMARY:Gymnastique en musique - Groupe Bien-être
DESCRIPTION:Activité menée par une participante engagée qui rassemble un public de femmes motivées à exercer des exercices cardiovasculaires et musculaires. \nActivité destinée aux femmes \nLes mardi et jeudi de 18h15 à 20h00 \nparticipation : 1 € \nPlus d’infos au 0487/20.94.10 ou sur la page du GBE
URL:https://entraide-marolles.be/agenda/groupe-bien-etre-gymnastique-en-musique-3-2-2-2-2/2028-01-18/
CATEGORIES:Groupe Bien-être
ATTACH;FMTTYPE=image/png:https://entraide-marolles.be/wp-content/uploads/2024/06/Capture-decran-2023-05-11-102255-e1719326874216.png
END:VEVENT
BEGIN:VEVENT
DTSTART;TZID=Europe/Brussels:20280120T181500
DTEND;TZID=Europe/Brussels:20280120T200000
DTSTAMP:20260424T065506
CREATED:20250408T161003Z
LAST-MODIFIED:20260423T135208Z
UID:10039904-1832004900-1832011200@entraide-marolles.be
SUMMARY:Gymnastique en musique - Groupe Bien-être
DESCRIPTION:Activité menée par une participante engagée qui rassemble un public de femmes motivées à exercer des exercices cardiovasculaires et musculaires. \nActivité destinée aux femmes \nLes mardi et jeudi de 18h15 à 20h00 \nparticipation : 1 € \nPlus d’infos au 0487/20.94.10 ou sur la page du GBE
URL:https://entraide-marolles.be/agenda/groupe-bien-etre-gymnastique-en-musique-3-2-2-2-2/2028-01-20/
CATEGORIES:Groupe Bien-être
ATTACH;FMTTYPE=image/png:https://entraide-marolles.be/wp-content/uploads/2024/06/Capture-decran-2023-05-11-102255-e1719326874216.png
END:VEVENT
BEGIN:VEVENT
DTSTART;TZID=Europe/Brussels:20280121T100000
DTEND;TZID=Europe/Brussels:20280121T120000
DTSTAMP:20260424T065506
CREATED:20241022T133752Z
LAST-MODIFIED:20260305T150316Z
UID:10028964-1832061600-1832068800@entraide-marolles.be
SUMMARY:Vivre son corps - Groupe Bien-être
DESCRIPTION:Notre corps nous est souvent étranger. Cette activité propose de l’apprivoiser\, de travailler sur les tensions et l’estime de soi à travers plusieurs techniques : respiration\, chant\, relaxation\, méditation\, automassages\, Do In… \nActivité destinée aux femmes \nLes vendredis de 10h à 12h \nparticipation : 1 € \nPlus d’infos au 0487/20.94.10 ou sur la page du GBE
URL:https://entraide-marolles.be/agenda/groupe-bien-etre-vivre-son-corps-2/2028-01-21/
CATEGORIES:Groupe Bien-être
ATTACH;FMTTYPE=image/png:https://entraide-marolles.be/wp-content/uploads/2024/06/Capture-decran-2023-05-11-102255-e1719326874216.png
END:VEVENT
BEGIN:VEVENT
DTSTART;TZID=Europe/Brussels:20280121T173000
DTEND;TZID=Europe/Brussels:20280121T183000
DTSTAMP:20260424T065506
CREATED:20241022T133925Z
LAST-MODIFIED:20260217T144031Z
UID:10029217-1832088600-1832092200@entraide-marolles.be
SUMMARY:Yoga mixte - Groupe Bien-être
DESCRIPTION:Pratique basée sur la respiration et des postures variées. \nActivité ouverte aux hommes et aux femmes \nLes vendredis de 17h30 à 18h30 \nparticipation : 1 € \nPlus d’infos au 0497/209.410 ou sur la page du GBE
URL:https://entraide-marolles.be/agenda/groupe-bien-etre-yoga-2/2028-01-21/
CATEGORIES:Groupe Bien-être
ATTACH;FMTTYPE=image/png:https://entraide-marolles.be/wp-content/uploads/2024/06/Capture-decran-2023-05-11-102255-e1719326874216.png
END:VEVENT
BEGIN:VEVENT
DTSTART;TZID=Europe/Brussels:20280124T100000
DTEND;TZID=Europe/Brussels:20280124T120000
DTSTAMP:20260424T065506
CREATED:20241022T134248Z
LAST-MODIFIED:20260217T144736Z
UID:10000578-1832320800-1832328000@entraide-marolles.be
SUMMARY:Lundi à thème - Groupe Bien-être
DESCRIPTION:Les lundis à thème ce sont des moments de rencontre et d’échange créés par les femmes du groupe Bien-être pour passer du temps ensemble\, s’entraider\, échanger des idées\, créer des projets\, sortir de la solitude… \nActivité réservée aux femmes. \nTous les lundis de 10h à 12h en salle d’activité. \nPlus d’infos sur la page du GBE
URL:https://entraide-marolles.be/agenda/groupe-bien-etre-lundi-a-theme-2-2/2028-01-24/
CATEGORIES:Groupe Bien-être
ATTACH;FMTTYPE=image/png:https://entraide-marolles.be/wp-content/uploads/2024/06/Capture-decran-2023-05-11-102255-e1719326874216.png
END:VEVENT
BEGIN:VEVENT
DTSTART;TZID=Europe/Brussels:20280125T113000
DTEND;TZID=Europe/Brussels:20280125T130000
DTSTAMP:20260424T065506
CREATED:20241022T134408Z
LAST-MODIFIED:20260305T152243Z
UID:10000839-1832412600-1832418000@entraide-marolles.be
SUMMARY:Gymnastique hypopressive - Groupe Bien-être
DESCRIPTION:La gymnastique hypopressive est une activité qui se base sur un travail en douceur des muscles périnées et abdominaux. Chaque séance se termine par une relaxation \nActivité réservée aux femmes \nSans inscription – participation : 1 € \nPlus d’infos au 0497/209.410 ou sur la page du GBE
URL:https://entraide-marolles.be/agenda/groupe-bien-etre-gymnastique-hypopressive-2/2028-01-25/
CATEGORIES:Groupe Bien-être
ATTACH;FMTTYPE=image/png:https://entraide-marolles.be/wp-content/uploads/2024/06/Capture-decran-2023-05-11-102255-e1719326874216.png
END:VEVENT
END:VCALENDAR