BEGIN:VCALENDAR
VERSION:2.0
PRODID:-//Entr’Aide des Marolles - ECPv6.15.20//NONSGML v1.0//EN
CALSCALE:GREGORIAN
METHOD:PUBLISH
X-WR-CALNAME:Entr’Aide des Marolles
X-ORIGINAL-URL:https://entraide-marolles.be
X-WR-CALDESC:Évènements pour Entr’Aide des Marolles
REFRESH-INTERVAL;VALUE=DURATION:PT1H
X-Robots-Tag:noindex
X-PUBLISHED-TTL:PT1H
BEGIN:VTIMEZONE
TZID:Europe/Brussels
BEGIN:DAYLIGHT
TZOFFSETFROM:+0100
TZOFFSETTO:+0200
TZNAME:CEST
DTSTART:20260329T010000
END:DAYLIGHT
BEGIN:STANDARD
TZOFFSETFROM:+0200
TZOFFSETTO:+0100
TZNAME:CET
DTSTART:20261025T010000
END:STANDARD
BEGIN:DAYLIGHT
TZOFFSETFROM:+0100
TZOFFSETTO:+0200
TZNAME:CEST
DTSTART:20270328T010000
END:DAYLIGHT
BEGIN:STANDARD
TZOFFSETFROM:+0200
TZOFFSETTO:+0100
TZNAME:CET
DTSTART:20271031T010000
END:STANDARD
BEGIN:DAYLIGHT
TZOFFSETFROM:+0100
TZOFFSETTO:+0200
TZNAME:CEST
DTSTART:20280326T010000
END:DAYLIGHT
BEGIN:STANDARD
TZOFFSETFROM:+0200
TZOFFSETTO:+0100
TZNAME:CET
DTSTART:20281029T010000
END:STANDARD
END:VTIMEZONE
BEGIN:VEVENT
DTSTART;TZID=Europe/Brussels:20270920T100000
DTEND;TZID=Europe/Brussels:20270920T120000
DTSTAMP:20260423T210810
CREATED:20241022T134248Z
LAST-MODIFIED:20260217T144736Z
UID:10000560-1821434400-1821441600@entraide-marolles.be
SUMMARY:Lundi à thème - Groupe Bien-être
DESCRIPTION:Les lundis à thème ce sont des moments de rencontre et d’échange créés par les femmes du groupe Bien-être pour passer du temps ensemble\, s’entraider\, échanger des idées\, créer des projets\, sortir de la solitude… \nActivité réservée aux femmes. \nTous les lundis de 10h à 12h en salle d’activité. \nPlus d’infos sur la page du GBE
URL:https://entraide-marolles.be/agenda/groupe-bien-etre-lundi-a-theme-2-2/2027-09-20/
CATEGORIES:Groupe Bien-être
ATTACH;FMTTYPE=image/png:https://entraide-marolles.be/wp-content/uploads/2024/06/Capture-decran-2023-05-11-102255-e1719326874216.png
END:VEVENT
BEGIN:VEVENT
DTSTART;TZID=Europe/Brussels:20270921T113000
DTEND;TZID=Europe/Brussels:20270921T130000
DTSTAMP:20260423T210810
CREATED:20241022T134408Z
LAST-MODIFIED:20260305T152243Z
UID:10000821-1821526200-1821531600@entraide-marolles.be
SUMMARY:Gymnastique hypopressive - Groupe Bien-être
DESCRIPTION:La gymnastique hypopressive est une activité qui se base sur un travail en douceur des muscles périnées et abdominaux. Chaque séance se termine par une relaxation \nActivité réservée aux femmes \nSans inscription – participation : 1 € \nPlus d’infos au 0497/209.410 ou sur la page du GBE
URL:https://entraide-marolles.be/agenda/groupe-bien-etre-gymnastique-hypopressive-2/2027-09-21/
CATEGORIES:Groupe Bien-être
ATTACH;FMTTYPE=image/png:https://entraide-marolles.be/wp-content/uploads/2024/06/Capture-decran-2023-05-11-102255-e1719326874216.png
END:VEVENT
BEGIN:VEVENT
DTSTART;TZID=Europe/Brussels:20270921T181500
DTEND;TZID=Europe/Brussels:20270921T200000
DTSTAMP:20260423T210810
CREATED:20250408T161003Z
LAST-MODIFIED:20260423T135208Z
UID:10039869-1821550500-1821556800@entraide-marolles.be
SUMMARY:Gymnastique en musique - Groupe Bien-être
DESCRIPTION:Activité menée par une participante engagée qui rassemble un public de femmes motivées à exercer des exercices cardiovasculaires et musculaires. \nActivité destinée aux femmes \nLes mardi et jeudi de 18h15 à 20h00 \nparticipation : 1 € \nPlus d’infos au 0487/20.94.10 ou sur la page du GBE
URL:https://entraide-marolles.be/agenda/groupe-bien-etre-gymnastique-en-musique-3-2-2-2-2/2027-09-21/
CATEGORIES:Groupe Bien-être
ATTACH;FMTTYPE=image/png:https://entraide-marolles.be/wp-content/uploads/2024/06/Capture-decran-2023-05-11-102255-e1719326874216.png
END:VEVENT
BEGIN:VEVENT
DTSTART;TZID=Europe/Brussels:20270923T181500
DTEND;TZID=Europe/Brussels:20270923T200000
DTSTAMP:20260423T210810
CREATED:20250408T161003Z
LAST-MODIFIED:20260423T135208Z
UID:10039870-1821723300-1821729600@entraide-marolles.be
SUMMARY:Gymnastique en musique - Groupe Bien-être
DESCRIPTION:Activité menée par une participante engagée qui rassemble un public de femmes motivées à exercer des exercices cardiovasculaires et musculaires. \nActivité destinée aux femmes \nLes mardi et jeudi de 18h15 à 20h00 \nparticipation : 1 € \nPlus d’infos au 0487/20.94.10 ou sur la page du GBE
URL:https://entraide-marolles.be/agenda/groupe-bien-etre-gymnastique-en-musique-3-2-2-2-2/2027-09-23/
CATEGORIES:Groupe Bien-être
ATTACH;FMTTYPE=image/png:https://entraide-marolles.be/wp-content/uploads/2024/06/Capture-decran-2023-05-11-102255-e1719326874216.png
END:VEVENT
BEGIN:VEVENT
DTSTART;TZID=Europe/Brussels:20270924T100000
DTEND;TZID=Europe/Brussels:20270924T120000
DTSTAMP:20260423T210810
CREATED:20241022T133752Z
LAST-MODIFIED:20260305T150316Z
UID:10028947-1821780000-1821787200@entraide-marolles.be
SUMMARY:Vivre son corps - Groupe Bien-être
DESCRIPTION:Notre corps nous est souvent étranger. Cette activité propose de l’apprivoiser\, de travailler sur les tensions et l’estime de soi à travers plusieurs techniques : respiration\, chant\, relaxation\, méditation\, automassages\, Do In… \nActivité destinée aux femmes \nLes vendredis de 10h à 12h \nparticipation : 1 € \nPlus d’infos au 0487/20.94.10 ou sur la page du GBE
URL:https://entraide-marolles.be/agenda/groupe-bien-etre-vivre-son-corps-2/2027-09-24/
CATEGORIES:Groupe Bien-être
ATTACH;FMTTYPE=image/png:https://entraide-marolles.be/wp-content/uploads/2024/06/Capture-decran-2023-05-11-102255-e1719326874216.png
END:VEVENT
BEGIN:VEVENT
DTSTART;TZID=Europe/Brussels:20270924T173000
DTEND;TZID=Europe/Brussels:20270924T183000
DTSTAMP:20260423T210810
CREATED:20241022T133925Z
LAST-MODIFIED:20260217T144031Z
UID:10029200-1821807000-1821810600@entraide-marolles.be
SUMMARY:Yoga mixte - Groupe Bien-être
DESCRIPTION:Pratique basée sur la respiration et des postures variées. \nActivité ouverte aux hommes et aux femmes \nLes vendredis de 17h30 à 18h30 \nparticipation : 1 € \nPlus d’infos au 0497/209.410 ou sur la page du GBE
URL:https://entraide-marolles.be/agenda/groupe-bien-etre-yoga-2/2027-09-24/
CATEGORIES:Groupe Bien-être
ATTACH;FMTTYPE=image/png:https://entraide-marolles.be/wp-content/uploads/2024/06/Capture-decran-2023-05-11-102255-e1719326874216.png
END:VEVENT
BEGIN:VEVENT
DTSTART;TZID=Europe/Brussels:20270927T100000
DTEND;TZID=Europe/Brussels:20270927T120000
DTSTAMP:20260423T210810
CREATED:20241022T134248Z
LAST-MODIFIED:20260217T144736Z
UID:10000561-1822039200-1822046400@entraide-marolles.be
SUMMARY:Lundi à thème - Groupe Bien-être
DESCRIPTION:Les lundis à thème ce sont des moments de rencontre et d’échange créés par les femmes du groupe Bien-être pour passer du temps ensemble\, s’entraider\, échanger des idées\, créer des projets\, sortir de la solitude… \nActivité réservée aux femmes. \nTous les lundis de 10h à 12h en salle d’activité. \nPlus d’infos sur la page du GBE
URL:https://entraide-marolles.be/agenda/groupe-bien-etre-lundi-a-theme-2-2/2027-09-27/
CATEGORIES:Groupe Bien-être
ATTACH;FMTTYPE=image/png:https://entraide-marolles.be/wp-content/uploads/2024/06/Capture-decran-2023-05-11-102255-e1719326874216.png
END:VEVENT
BEGIN:VEVENT
DTSTART;TZID=Europe/Brussels:20270928T113000
DTEND;TZID=Europe/Brussels:20270928T130000
DTSTAMP:20260423T210810
CREATED:20241022T134408Z
LAST-MODIFIED:20260305T152243Z
UID:10000822-1822131000-1822136400@entraide-marolles.be
SUMMARY:Gymnastique hypopressive - Groupe Bien-être
DESCRIPTION:La gymnastique hypopressive est une activité qui se base sur un travail en douceur des muscles périnées et abdominaux. Chaque séance se termine par une relaxation \nActivité réservée aux femmes \nSans inscription – participation : 1 € \nPlus d’infos au 0497/209.410 ou sur la page du GBE
URL:https://entraide-marolles.be/agenda/groupe-bien-etre-gymnastique-hypopressive-2/2027-09-28/
CATEGORIES:Groupe Bien-être
ATTACH;FMTTYPE=image/png:https://entraide-marolles.be/wp-content/uploads/2024/06/Capture-decran-2023-05-11-102255-e1719326874216.png
END:VEVENT
BEGIN:VEVENT
DTSTART;TZID=Europe/Brussels:20270928T181500
DTEND;TZID=Europe/Brussels:20270928T200000
DTSTAMP:20260423T210810
CREATED:20250408T161003Z
LAST-MODIFIED:20260423T135208Z
UID:10039871-1822155300-1822161600@entraide-marolles.be
SUMMARY:Gymnastique en musique - Groupe Bien-être
DESCRIPTION:Activité menée par une participante engagée qui rassemble un public de femmes motivées à exercer des exercices cardiovasculaires et musculaires. \nActivité destinée aux femmes \nLes mardi et jeudi de 18h15 à 20h00 \nparticipation : 1 € \nPlus d’infos au 0487/20.94.10 ou sur la page du GBE
URL:https://entraide-marolles.be/agenda/groupe-bien-etre-gymnastique-en-musique-3-2-2-2-2/2027-09-28/
CATEGORIES:Groupe Bien-être
ATTACH;FMTTYPE=image/png:https://entraide-marolles.be/wp-content/uploads/2024/06/Capture-decran-2023-05-11-102255-e1719326874216.png
END:VEVENT
BEGIN:VEVENT
DTSTART;TZID=Europe/Brussels:20270930T181500
DTEND;TZID=Europe/Brussels:20270930T200000
DTSTAMP:20260423T210810
CREATED:20250408T161003Z
LAST-MODIFIED:20260423T135208Z
UID:10039872-1822328100-1822334400@entraide-marolles.be
SUMMARY:Gymnastique en musique - Groupe Bien-être
DESCRIPTION:Activité menée par une participante engagée qui rassemble un public de femmes motivées à exercer des exercices cardiovasculaires et musculaires. \nActivité destinée aux femmes \nLes mardi et jeudi de 18h15 à 20h00 \nparticipation : 1 € \nPlus d’infos au 0487/20.94.10 ou sur la page du GBE
URL:https://entraide-marolles.be/agenda/groupe-bien-etre-gymnastique-en-musique-3-2-2-2-2/2027-09-30/
CATEGORIES:Groupe Bien-être
ATTACH;FMTTYPE=image/png:https://entraide-marolles.be/wp-content/uploads/2024/06/Capture-decran-2023-05-11-102255-e1719326874216.png
END:VEVENT
BEGIN:VEVENT
DTSTART;TZID=Europe/Brussels:20271001T100000
DTEND;TZID=Europe/Brussels:20271001T120000
DTSTAMP:20260423T210810
CREATED:20241022T133752Z
LAST-MODIFIED:20260305T150316Z
UID:10028948-1822384800-1822392000@entraide-marolles.be
SUMMARY:Vivre son corps - Groupe Bien-être
DESCRIPTION:Notre corps nous est souvent étranger. Cette activité propose de l’apprivoiser\, de travailler sur les tensions et l’estime de soi à travers plusieurs techniques : respiration\, chant\, relaxation\, méditation\, automassages\, Do In… \nActivité destinée aux femmes \nLes vendredis de 10h à 12h \nparticipation : 1 € \nPlus d’infos au 0487/20.94.10 ou sur la page du GBE
URL:https://entraide-marolles.be/agenda/groupe-bien-etre-vivre-son-corps-2/2027-10-01/
CATEGORIES:Groupe Bien-être
ATTACH;FMTTYPE=image/png:https://entraide-marolles.be/wp-content/uploads/2024/06/Capture-decran-2023-05-11-102255-e1719326874216.png
END:VEVENT
BEGIN:VEVENT
DTSTART;TZID=Europe/Brussels:20271001T173000
DTEND;TZID=Europe/Brussels:20271001T183000
DTSTAMP:20260423T210810
CREATED:20241022T133925Z
LAST-MODIFIED:20260217T144031Z
UID:10029201-1822411800-1822415400@entraide-marolles.be
SUMMARY:Yoga mixte - Groupe Bien-être
DESCRIPTION:Pratique basée sur la respiration et des postures variées. \nActivité ouverte aux hommes et aux femmes \nLes vendredis de 17h30 à 18h30 \nparticipation : 1 € \nPlus d’infos au 0497/209.410 ou sur la page du GBE
URL:https://entraide-marolles.be/agenda/groupe-bien-etre-yoga-2/2027-10-01/
CATEGORIES:Groupe Bien-être
ATTACH;FMTTYPE=image/png:https://entraide-marolles.be/wp-content/uploads/2024/06/Capture-decran-2023-05-11-102255-e1719326874216.png
END:VEVENT
BEGIN:VEVENT
DTSTART;TZID=Europe/Brussels:20271004T100000
DTEND;TZID=Europe/Brussels:20271004T120000
DTSTAMP:20260423T210810
CREATED:20241022T134248Z
LAST-MODIFIED:20260217T144736Z
UID:10000562-1822644000-1822651200@entraide-marolles.be
SUMMARY:Lundi à thème - Groupe Bien-être
DESCRIPTION:Les lundis à thème ce sont des moments de rencontre et d’échange créés par les femmes du groupe Bien-être pour passer du temps ensemble\, s’entraider\, échanger des idées\, créer des projets\, sortir de la solitude… \nActivité réservée aux femmes. \nTous les lundis de 10h à 12h en salle d’activité. \nPlus d’infos sur la page du GBE
URL:https://entraide-marolles.be/agenda/groupe-bien-etre-lundi-a-theme-2-2/2027-10-04/
CATEGORIES:Groupe Bien-être
ATTACH;FMTTYPE=image/png:https://entraide-marolles.be/wp-content/uploads/2024/06/Capture-decran-2023-05-11-102255-e1719326874216.png
END:VEVENT
BEGIN:VEVENT
DTSTART;TZID=Europe/Brussels:20271005T113000
DTEND;TZID=Europe/Brussels:20271005T130000
DTSTAMP:20260423T210810
CREATED:20241022T134408Z
LAST-MODIFIED:20260305T152243Z
UID:10000823-1822735800-1822741200@entraide-marolles.be
SUMMARY:Gymnastique hypopressive - Groupe Bien-être
DESCRIPTION:La gymnastique hypopressive est une activité qui se base sur un travail en douceur des muscles périnées et abdominaux. Chaque séance se termine par une relaxation \nActivité réservée aux femmes \nSans inscription – participation : 1 € \nPlus d’infos au 0497/209.410 ou sur la page du GBE
URL:https://entraide-marolles.be/agenda/groupe-bien-etre-gymnastique-hypopressive-2/2027-10-05/
CATEGORIES:Groupe Bien-être
ATTACH;FMTTYPE=image/png:https://entraide-marolles.be/wp-content/uploads/2024/06/Capture-decran-2023-05-11-102255-e1719326874216.png
END:VEVENT
BEGIN:VEVENT
DTSTART;TZID=Europe/Brussels:20271005T181500
DTEND;TZID=Europe/Brussels:20271005T200000
DTSTAMP:20260423T210810
CREATED:20250408T161003Z
LAST-MODIFIED:20260423T135208Z
UID:10039873-1822760100-1822766400@entraide-marolles.be
SUMMARY:Gymnastique en musique - Groupe Bien-être
DESCRIPTION:Activité menée par une participante engagée qui rassemble un public de femmes motivées à exercer des exercices cardiovasculaires et musculaires. \nActivité destinée aux femmes \nLes mardi et jeudi de 18h15 à 20h00 \nparticipation : 1 € \nPlus d’infos au 0487/20.94.10 ou sur la page du GBE
URL:https://entraide-marolles.be/agenda/groupe-bien-etre-gymnastique-en-musique-3-2-2-2-2/2027-10-05/
CATEGORIES:Groupe Bien-être
ATTACH;FMTTYPE=image/png:https://entraide-marolles.be/wp-content/uploads/2024/06/Capture-decran-2023-05-11-102255-e1719326874216.png
END:VEVENT
BEGIN:VEVENT
DTSTART;TZID=Europe/Brussels:20271007T181500
DTEND;TZID=Europe/Brussels:20271007T200000
DTSTAMP:20260423T210810
CREATED:20250408T161003Z
LAST-MODIFIED:20260423T135208Z
UID:10039874-1822932900-1822939200@entraide-marolles.be
SUMMARY:Gymnastique en musique - Groupe Bien-être
DESCRIPTION:Activité menée par une participante engagée qui rassemble un public de femmes motivées à exercer des exercices cardiovasculaires et musculaires. \nActivité destinée aux femmes \nLes mardi et jeudi de 18h15 à 20h00 \nparticipation : 1 € \nPlus d’infos au 0487/20.94.10 ou sur la page du GBE
URL:https://entraide-marolles.be/agenda/groupe-bien-etre-gymnastique-en-musique-3-2-2-2-2/2027-10-07/
CATEGORIES:Groupe Bien-être
ATTACH;FMTTYPE=image/png:https://entraide-marolles.be/wp-content/uploads/2024/06/Capture-decran-2023-05-11-102255-e1719326874216.png
END:VEVENT
BEGIN:VEVENT
DTSTART;TZID=Europe/Brussels:20271008T100000
DTEND;TZID=Europe/Brussels:20271008T120000
DTSTAMP:20260423T210810
CREATED:20241022T133752Z
LAST-MODIFIED:20260305T150316Z
UID:10028949-1822989600-1822996800@entraide-marolles.be
SUMMARY:Vivre son corps - Groupe Bien-être
DESCRIPTION:Notre corps nous est souvent étranger. Cette activité propose de l’apprivoiser\, de travailler sur les tensions et l’estime de soi à travers plusieurs techniques : respiration\, chant\, relaxation\, méditation\, automassages\, Do In… \nActivité destinée aux femmes \nLes vendredis de 10h à 12h \nparticipation : 1 € \nPlus d’infos au 0487/20.94.10 ou sur la page du GBE
URL:https://entraide-marolles.be/agenda/groupe-bien-etre-vivre-son-corps-2/2027-10-08/
CATEGORIES:Groupe Bien-être
ATTACH;FMTTYPE=image/png:https://entraide-marolles.be/wp-content/uploads/2024/06/Capture-decran-2023-05-11-102255-e1719326874216.png
END:VEVENT
BEGIN:VEVENT
DTSTART;TZID=Europe/Brussels:20271008T173000
DTEND;TZID=Europe/Brussels:20271008T183000
DTSTAMP:20260423T210810
CREATED:20241022T133925Z
LAST-MODIFIED:20260217T144031Z
UID:10029202-1823016600-1823020200@entraide-marolles.be
SUMMARY:Yoga mixte - Groupe Bien-être
DESCRIPTION:Pratique basée sur la respiration et des postures variées. \nActivité ouverte aux hommes et aux femmes \nLes vendredis de 17h30 à 18h30 \nparticipation : 1 € \nPlus d’infos au 0497/209.410 ou sur la page du GBE
URL:https://entraide-marolles.be/agenda/groupe-bien-etre-yoga-2/2027-10-08/
CATEGORIES:Groupe Bien-être
ATTACH;FMTTYPE=image/png:https://entraide-marolles.be/wp-content/uploads/2024/06/Capture-decran-2023-05-11-102255-e1719326874216.png
END:VEVENT
BEGIN:VEVENT
DTSTART;TZID=Europe/Brussels:20271011T100000
DTEND;TZID=Europe/Brussels:20271011T120000
DTSTAMP:20260423T210810
CREATED:20241022T134248Z
LAST-MODIFIED:20260217T144736Z
UID:10000563-1823248800-1823256000@entraide-marolles.be
SUMMARY:Lundi à thème - Groupe Bien-être
DESCRIPTION:Les lundis à thème ce sont des moments de rencontre et d’échange créés par les femmes du groupe Bien-être pour passer du temps ensemble\, s’entraider\, échanger des idées\, créer des projets\, sortir de la solitude… \nActivité réservée aux femmes. \nTous les lundis de 10h à 12h en salle d’activité. \nPlus d’infos sur la page du GBE
URL:https://entraide-marolles.be/agenda/groupe-bien-etre-lundi-a-theme-2-2/2027-10-11/
CATEGORIES:Groupe Bien-être
ATTACH;FMTTYPE=image/png:https://entraide-marolles.be/wp-content/uploads/2024/06/Capture-decran-2023-05-11-102255-e1719326874216.png
END:VEVENT
BEGIN:VEVENT
DTSTART;TZID=Europe/Brussels:20271012T113000
DTEND;TZID=Europe/Brussels:20271012T130000
DTSTAMP:20260423T210810
CREATED:20241022T134408Z
LAST-MODIFIED:20260305T152243Z
UID:10000824-1823340600-1823346000@entraide-marolles.be
SUMMARY:Gymnastique hypopressive - Groupe Bien-être
DESCRIPTION:La gymnastique hypopressive est une activité qui se base sur un travail en douceur des muscles périnées et abdominaux. Chaque séance se termine par une relaxation \nActivité réservée aux femmes \nSans inscription – participation : 1 € \nPlus d’infos au 0497/209.410 ou sur la page du GBE
URL:https://entraide-marolles.be/agenda/groupe-bien-etre-gymnastique-hypopressive-2/2027-10-12/
CATEGORIES:Groupe Bien-être
ATTACH;FMTTYPE=image/png:https://entraide-marolles.be/wp-content/uploads/2024/06/Capture-decran-2023-05-11-102255-e1719326874216.png
END:VEVENT
BEGIN:VEVENT
DTSTART;TZID=Europe/Brussels:20271012T181500
DTEND;TZID=Europe/Brussels:20271012T200000
DTSTAMP:20260423T210810
CREATED:20250408T161003Z
LAST-MODIFIED:20260423T135208Z
UID:10039875-1823364900-1823371200@entraide-marolles.be
SUMMARY:Gymnastique en musique - Groupe Bien-être
DESCRIPTION:Activité menée par une participante engagée qui rassemble un public de femmes motivées à exercer des exercices cardiovasculaires et musculaires. \nActivité destinée aux femmes \nLes mardi et jeudi de 18h15 à 20h00 \nparticipation : 1 € \nPlus d’infos au 0487/20.94.10 ou sur la page du GBE
URL:https://entraide-marolles.be/agenda/groupe-bien-etre-gymnastique-en-musique-3-2-2-2-2/2027-10-12/
CATEGORIES:Groupe Bien-être
ATTACH;FMTTYPE=image/png:https://entraide-marolles.be/wp-content/uploads/2024/06/Capture-decran-2023-05-11-102255-e1719326874216.png
END:VEVENT
BEGIN:VEVENT
DTSTART;TZID=Europe/Brussels:20271014T181500
DTEND;TZID=Europe/Brussels:20271014T200000
DTSTAMP:20260423T210810
CREATED:20250408T161003Z
LAST-MODIFIED:20260423T135208Z
UID:10039876-1823537700-1823544000@entraide-marolles.be
SUMMARY:Gymnastique en musique - Groupe Bien-être
DESCRIPTION:Activité menée par une participante engagée qui rassemble un public de femmes motivées à exercer des exercices cardiovasculaires et musculaires. \nActivité destinée aux femmes \nLes mardi et jeudi de 18h15 à 20h00 \nparticipation : 1 € \nPlus d’infos au 0487/20.94.10 ou sur la page du GBE
URL:https://entraide-marolles.be/agenda/groupe-bien-etre-gymnastique-en-musique-3-2-2-2-2/2027-10-14/
CATEGORIES:Groupe Bien-être
ATTACH;FMTTYPE=image/png:https://entraide-marolles.be/wp-content/uploads/2024/06/Capture-decran-2023-05-11-102255-e1719326874216.png
END:VEVENT
BEGIN:VEVENT
DTSTART;TZID=Europe/Brussels:20271015T100000
DTEND;TZID=Europe/Brussels:20271015T120000
DTSTAMP:20260423T210810
CREATED:20241022T133752Z
LAST-MODIFIED:20260305T150316Z
UID:10028950-1823594400-1823601600@entraide-marolles.be
SUMMARY:Vivre son corps - Groupe Bien-être
DESCRIPTION:Notre corps nous est souvent étranger. Cette activité propose de l’apprivoiser\, de travailler sur les tensions et l’estime de soi à travers plusieurs techniques : respiration\, chant\, relaxation\, méditation\, automassages\, Do In… \nActivité destinée aux femmes \nLes vendredis de 10h à 12h \nparticipation : 1 € \nPlus d’infos au 0487/20.94.10 ou sur la page du GBE
URL:https://entraide-marolles.be/agenda/groupe-bien-etre-vivre-son-corps-2/2027-10-15/
CATEGORIES:Groupe Bien-être
ATTACH;FMTTYPE=image/png:https://entraide-marolles.be/wp-content/uploads/2024/06/Capture-decran-2023-05-11-102255-e1719326874216.png
END:VEVENT
BEGIN:VEVENT
DTSTART;TZID=Europe/Brussels:20271015T173000
DTEND;TZID=Europe/Brussels:20271015T183000
DTSTAMP:20260423T210810
CREATED:20241022T133925Z
LAST-MODIFIED:20260217T144031Z
UID:10029203-1823621400-1823625000@entraide-marolles.be
SUMMARY:Yoga mixte - Groupe Bien-être
DESCRIPTION:Pratique basée sur la respiration et des postures variées. \nActivité ouverte aux hommes et aux femmes \nLes vendredis de 17h30 à 18h30 \nparticipation : 1 € \nPlus d’infos au 0497/209.410 ou sur la page du GBE
URL:https://entraide-marolles.be/agenda/groupe-bien-etre-yoga-2/2027-10-15/
CATEGORIES:Groupe Bien-être
ATTACH;FMTTYPE=image/png:https://entraide-marolles.be/wp-content/uploads/2024/06/Capture-decran-2023-05-11-102255-e1719326874216.png
END:VEVENT
BEGIN:VEVENT
DTSTART;TZID=Europe/Brussels:20271018T100000
DTEND;TZID=Europe/Brussels:20271018T120000
DTSTAMP:20260423T210810
CREATED:20241022T134248Z
LAST-MODIFIED:20260217T144736Z
UID:10000564-1823853600-1823860800@entraide-marolles.be
SUMMARY:Lundi à thème - Groupe Bien-être
DESCRIPTION:Les lundis à thème ce sont des moments de rencontre et d’échange créés par les femmes du groupe Bien-être pour passer du temps ensemble\, s’entraider\, échanger des idées\, créer des projets\, sortir de la solitude… \nActivité réservée aux femmes. \nTous les lundis de 10h à 12h en salle d’activité. \nPlus d’infos sur la page du GBE
URL:https://entraide-marolles.be/agenda/groupe-bien-etre-lundi-a-theme-2-2/2027-10-18/
CATEGORIES:Groupe Bien-être
ATTACH;FMTTYPE=image/png:https://entraide-marolles.be/wp-content/uploads/2024/06/Capture-decran-2023-05-11-102255-e1719326874216.png
END:VEVENT
BEGIN:VEVENT
DTSTART;TZID=Europe/Brussels:20271019T113000
DTEND;TZID=Europe/Brussels:20271019T130000
DTSTAMP:20260423T210810
CREATED:20241022T134408Z
LAST-MODIFIED:20260305T152243Z
UID:10000825-1823945400-1823950800@entraide-marolles.be
SUMMARY:Gymnastique hypopressive - Groupe Bien-être
DESCRIPTION:La gymnastique hypopressive est une activité qui se base sur un travail en douceur des muscles périnées et abdominaux. Chaque séance se termine par une relaxation \nActivité réservée aux femmes \nSans inscription – participation : 1 € \nPlus d’infos au 0497/209.410 ou sur la page du GBE
URL:https://entraide-marolles.be/agenda/groupe-bien-etre-gymnastique-hypopressive-2/2027-10-19/
CATEGORIES:Groupe Bien-être
ATTACH;FMTTYPE=image/png:https://entraide-marolles.be/wp-content/uploads/2024/06/Capture-decran-2023-05-11-102255-e1719326874216.png
END:VEVENT
BEGIN:VEVENT
DTSTART;TZID=Europe/Brussels:20271019T181500
DTEND;TZID=Europe/Brussels:20271019T200000
DTSTAMP:20260423T210810
CREATED:20250408T161003Z
LAST-MODIFIED:20260423T135208Z
UID:10039877-1823969700-1823976000@entraide-marolles.be
SUMMARY:Gymnastique en musique - Groupe Bien-être
DESCRIPTION:Activité menée par une participante engagée qui rassemble un public de femmes motivées à exercer des exercices cardiovasculaires et musculaires. \nActivité destinée aux femmes \nLes mardi et jeudi de 18h15 à 20h00 \nparticipation : 1 € \nPlus d’infos au 0487/20.94.10 ou sur la page du GBE
URL:https://entraide-marolles.be/agenda/groupe-bien-etre-gymnastique-en-musique-3-2-2-2-2/2027-10-19/
CATEGORIES:Groupe Bien-être
ATTACH;FMTTYPE=image/png:https://entraide-marolles.be/wp-content/uploads/2024/06/Capture-decran-2023-05-11-102255-e1719326874216.png
END:VEVENT
BEGIN:VEVENT
DTSTART;TZID=Europe/Brussels:20271021T181500
DTEND;TZID=Europe/Brussels:20271021T200000
DTSTAMP:20260423T210810
CREATED:20250408T161003Z
LAST-MODIFIED:20260423T135208Z
UID:10039878-1824142500-1824148800@entraide-marolles.be
SUMMARY:Gymnastique en musique - Groupe Bien-être
DESCRIPTION:Activité menée par une participante engagée qui rassemble un public de femmes motivées à exercer des exercices cardiovasculaires et musculaires. \nActivité destinée aux femmes \nLes mardi et jeudi de 18h15 à 20h00 \nparticipation : 1 € \nPlus d’infos au 0487/20.94.10 ou sur la page du GBE
URL:https://entraide-marolles.be/agenda/groupe-bien-etre-gymnastique-en-musique-3-2-2-2-2/2027-10-21/
CATEGORIES:Groupe Bien-être
ATTACH;FMTTYPE=image/png:https://entraide-marolles.be/wp-content/uploads/2024/06/Capture-decran-2023-05-11-102255-e1719326874216.png
END:VEVENT
BEGIN:VEVENT
DTSTART;TZID=Europe/Brussels:20271022T100000
DTEND;TZID=Europe/Brussels:20271022T120000
DTSTAMP:20260423T210810
CREATED:20241022T133752Z
LAST-MODIFIED:20260305T150316Z
UID:10028951-1824199200-1824206400@entraide-marolles.be
SUMMARY:Vivre son corps - Groupe Bien-être
DESCRIPTION:Notre corps nous est souvent étranger. Cette activité propose de l’apprivoiser\, de travailler sur les tensions et l’estime de soi à travers plusieurs techniques : respiration\, chant\, relaxation\, méditation\, automassages\, Do In… \nActivité destinée aux femmes \nLes vendredis de 10h à 12h \nparticipation : 1 € \nPlus d’infos au 0487/20.94.10 ou sur la page du GBE
URL:https://entraide-marolles.be/agenda/groupe-bien-etre-vivre-son-corps-2/2027-10-22/
CATEGORIES:Groupe Bien-être
ATTACH;FMTTYPE=image/png:https://entraide-marolles.be/wp-content/uploads/2024/06/Capture-decran-2023-05-11-102255-e1719326874216.png
END:VEVENT
BEGIN:VEVENT
DTSTART;TZID=Europe/Brussels:20271022T173000
DTEND;TZID=Europe/Brussels:20271022T183000
DTSTAMP:20260423T210810
CREATED:20241022T133925Z
LAST-MODIFIED:20260217T144031Z
UID:10029204-1824226200-1824229800@entraide-marolles.be
SUMMARY:Yoga mixte - Groupe Bien-être
DESCRIPTION:Pratique basée sur la respiration et des postures variées. \nActivité ouverte aux hommes et aux femmes \nLes vendredis de 17h30 à 18h30 \nparticipation : 1 € \nPlus d’infos au 0497/209.410 ou sur la page du GBE
URL:https://entraide-marolles.be/agenda/groupe-bien-etre-yoga-2/2027-10-22/
CATEGORIES:Groupe Bien-être
ATTACH;FMTTYPE=image/png:https://entraide-marolles.be/wp-content/uploads/2024/06/Capture-decran-2023-05-11-102255-e1719326874216.png
END:VEVENT
END:VCALENDAR