BEGIN:VCALENDAR
VERSION:2.0
PRODID:-//Entr’Aide des Marolles - ECPv6.15.20//NONSGML v1.0//EN
CALSCALE:GREGORIAN
METHOD:PUBLISH
X-ORIGINAL-URL:https://entraide-marolles.be
X-WR-CALDESC:Évènements pour Entr’Aide des Marolles
REFRESH-INTERVAL;VALUE=DURATION:PT1H
X-Robots-Tag:noindex
X-PUBLISHED-TTL:PT1H
BEGIN:VTIMEZONE
TZID:Europe/Brussels
BEGIN:DAYLIGHT
TZOFFSETFROM:+0100
TZOFFSETTO:+0200
TZNAME:CEST
DTSTART:20260329T010000
END:DAYLIGHT
BEGIN:STANDARD
TZOFFSETFROM:+0200
TZOFFSETTO:+0100
TZNAME:CET
DTSTART:20261025T010000
END:STANDARD
BEGIN:DAYLIGHT
TZOFFSETFROM:+0100
TZOFFSETTO:+0200
TZNAME:CEST
DTSTART:20270328T010000
END:DAYLIGHT
BEGIN:STANDARD
TZOFFSETFROM:+0200
TZOFFSETTO:+0100
TZNAME:CET
DTSTART:20271031T010000
END:STANDARD
BEGIN:DAYLIGHT
TZOFFSETFROM:+0100
TZOFFSETTO:+0200
TZNAME:CEST
DTSTART:20280326T010000
END:DAYLIGHT
BEGIN:STANDARD
TZOFFSETFROM:+0200
TZOFFSETTO:+0100
TZNAME:CET
DTSTART:20281029T010000
END:STANDARD
END:VTIMEZONE
BEGIN:VEVENT
DTSTART;TZID=Europe/Brussels:20271105T100000
DTEND;TZID=Europe/Brussels:20271105T120000
DTSTAMP:20260422T161145
CREATED:20241022T133752Z
LAST-MODIFIED:20260305T150316Z
UID:10028953-1825408800-1825416000@entraide-marolles.be
SUMMARY:Vivre son corps - Groupe Bien-être
DESCRIPTION:Notre corps nous est souvent étranger. Cette activité propose de l’apprivoiser\, de travailler sur les tensions et l’estime de soi à travers plusieurs techniques : respiration\, chant\, relaxation\, méditation\, automassages\, Do In… \nActivité destinée aux femmes \nLes vendredis de 10h à 12h \nparticipation : 1 € \nPlus d’infos au 0487/20.94.10 ou sur la page du GBE
URL:https://entraide-marolles.be/agenda/groupe-bien-etre-vivre-son-corps-2/2027-11-05/
CATEGORIES:Groupe Bien-être
ATTACH;FMTTYPE=image/png:https://entraide-marolles.be/wp-content/uploads/2024/06/Capture-decran-2023-05-11-102255-e1719326874216.png
END:VEVENT
BEGIN:VEVENT
DTSTART;TZID=Europe/Brussels:20271105T173000
DTEND;TZID=Europe/Brussels:20271105T183000
DTSTAMP:20260422T161145
CREATED:20241022T133925Z
LAST-MODIFIED:20260217T144031Z
UID:10029206-1825435800-1825439400@entraide-marolles.be
SUMMARY:Yoga mixte - Groupe Bien-être
DESCRIPTION:Pratique basée sur la respiration et des postures variées. \nActivité ouverte aux hommes et aux femmes \nLes vendredis de 17h30 à 18h30 \nparticipation : 1 € \nPlus d’infos au 0497/209.410 ou sur la page du GBE
URL:https://entraide-marolles.be/agenda/groupe-bien-etre-yoga-2/2027-11-05/
CATEGORIES:Groupe Bien-être
ATTACH;FMTTYPE=image/png:https://entraide-marolles.be/wp-content/uploads/2024/06/Capture-decran-2023-05-11-102255-e1719326874216.png
END:VEVENT
BEGIN:VEVENT
DTSTART;TZID=Europe/Brussels:20271108T100000
DTEND;TZID=Europe/Brussels:20271108T120000
DTSTAMP:20260422T161145
CREATED:20241022T134248Z
LAST-MODIFIED:20260217T144736Z
UID:10000567-1825668000-1825675200@entraide-marolles.be
SUMMARY:Lundi à thème - Groupe Bien-être
DESCRIPTION:Les lundis à thème ce sont des moments de rencontre et d’échange créés par les femmes du groupe Bien-être pour passer du temps ensemble\, s’entraider\, échanger des idées\, créer des projets\, sortir de la solitude… \nActivité réservée aux femmes. \nTous les lundis de 10h à 12h en salle d’activité. \nPlus d’infos sur la page du GBE
URL:https://entraide-marolles.be/agenda/groupe-bien-etre-lundi-a-theme-2-2/2027-11-08/
CATEGORIES:Groupe Bien-être
ATTACH;FMTTYPE=image/png:https://entraide-marolles.be/wp-content/uploads/2024/06/Capture-decran-2023-05-11-102255-e1719326874216.png
END:VEVENT
BEGIN:VEVENT
DTSTART;TZID=Europe/Brussels:20271109T113000
DTEND;TZID=Europe/Brussels:20271109T130000
DTSTAMP:20260422T161145
CREATED:20241022T134408Z
LAST-MODIFIED:20260305T152243Z
UID:10000828-1825759800-1825765200@entraide-marolles.be
SUMMARY:Gymnastique hypopressive - Groupe Bien-être
DESCRIPTION:La gymnastique hypopressive est une activité qui se base sur un travail en douceur des muscles périnées et abdominaux. Chaque séance se termine par une relaxation \nActivité réservée aux femmes \nSans inscription – participation : 1 € \nPlus d’infos au 0497/209.410 ou sur la page du GBE
URL:https://entraide-marolles.be/agenda/groupe-bien-etre-gymnastique-hypopressive-2/2027-11-09/
CATEGORIES:Groupe Bien-être
ATTACH;FMTTYPE=image/png:https://entraide-marolles.be/wp-content/uploads/2024/06/Capture-decran-2023-05-11-102255-e1719326874216.png
END:VEVENT
BEGIN:VEVENT
DTSTART;TZID=Europe/Brussels:20271112T100000
DTEND;TZID=Europe/Brussels:20271112T120000
DTSTAMP:20260422T161145
CREATED:20241022T133752Z
LAST-MODIFIED:20260305T150316Z
UID:10028954-1826013600-1826020800@entraide-marolles.be
SUMMARY:Vivre son corps - Groupe Bien-être
DESCRIPTION:Notre corps nous est souvent étranger. Cette activité propose de l’apprivoiser\, de travailler sur les tensions et l’estime de soi à travers plusieurs techniques : respiration\, chant\, relaxation\, méditation\, automassages\, Do In… \nActivité destinée aux femmes \nLes vendredis de 10h à 12h \nparticipation : 1 € \nPlus d’infos au 0487/20.94.10 ou sur la page du GBE
URL:https://entraide-marolles.be/agenda/groupe-bien-etre-vivre-son-corps-2/2027-11-12/
CATEGORIES:Groupe Bien-être
ATTACH;FMTTYPE=image/png:https://entraide-marolles.be/wp-content/uploads/2024/06/Capture-decran-2023-05-11-102255-e1719326874216.png
END:VEVENT
BEGIN:VEVENT
DTSTART;TZID=Europe/Brussels:20271112T173000
DTEND;TZID=Europe/Brussels:20271112T183000
DTSTAMP:20260422T161145
CREATED:20241022T133925Z
LAST-MODIFIED:20260217T144031Z
UID:10029207-1826040600-1826044200@entraide-marolles.be
SUMMARY:Yoga mixte - Groupe Bien-être
DESCRIPTION:Pratique basée sur la respiration et des postures variées. \nActivité ouverte aux hommes et aux femmes \nLes vendredis de 17h30 à 18h30 \nparticipation : 1 € \nPlus d’infos au 0497/209.410 ou sur la page du GBE
URL:https://entraide-marolles.be/agenda/groupe-bien-etre-yoga-2/2027-11-12/
CATEGORIES:Groupe Bien-être
ATTACH;FMTTYPE=image/png:https://entraide-marolles.be/wp-content/uploads/2024/06/Capture-decran-2023-05-11-102255-e1719326874216.png
END:VEVENT
BEGIN:VEVENT
DTSTART;TZID=Europe/Brussels:20271115T100000
DTEND;TZID=Europe/Brussels:20271115T120000
DTSTAMP:20260422T161145
CREATED:20241022T134248Z
LAST-MODIFIED:20260217T144736Z
UID:10000568-1826272800-1826280000@entraide-marolles.be
SUMMARY:Lundi à thème - Groupe Bien-être
DESCRIPTION:Les lundis à thème ce sont des moments de rencontre et d’échange créés par les femmes du groupe Bien-être pour passer du temps ensemble\, s’entraider\, échanger des idées\, créer des projets\, sortir de la solitude… \nActivité réservée aux femmes. \nTous les lundis de 10h à 12h en salle d’activité. \nPlus d’infos sur la page du GBE
URL:https://entraide-marolles.be/agenda/groupe-bien-etre-lundi-a-theme-2-2/2027-11-15/
CATEGORIES:Groupe Bien-être
ATTACH;FMTTYPE=image/png:https://entraide-marolles.be/wp-content/uploads/2024/06/Capture-decran-2023-05-11-102255-e1719326874216.png
END:VEVENT
BEGIN:VEVENT
DTSTART;TZID=Europe/Brussels:20271116T113000
DTEND;TZID=Europe/Brussels:20271116T130000
DTSTAMP:20260422T161145
CREATED:20241022T134408Z
LAST-MODIFIED:20260305T152243Z
UID:10000829-1826364600-1826370000@entraide-marolles.be
SUMMARY:Gymnastique hypopressive - Groupe Bien-être
DESCRIPTION:La gymnastique hypopressive est une activité qui se base sur un travail en douceur des muscles périnées et abdominaux. Chaque séance se termine par une relaxation \nActivité réservée aux femmes \nSans inscription – participation : 1 € \nPlus d’infos au 0497/209.410 ou sur la page du GBE
URL:https://entraide-marolles.be/agenda/groupe-bien-etre-gymnastique-hypopressive-2/2027-11-16/
CATEGORIES:Groupe Bien-être
ATTACH;FMTTYPE=image/png:https://entraide-marolles.be/wp-content/uploads/2024/06/Capture-decran-2023-05-11-102255-e1719326874216.png
END:VEVENT
BEGIN:VEVENT
DTSTART;TZID=Europe/Brussels:20271119T100000
DTEND;TZID=Europe/Brussels:20271119T120000
DTSTAMP:20260422T161145
CREATED:20241022T133752Z
LAST-MODIFIED:20260305T150316Z
UID:10028955-1826618400-1826625600@entraide-marolles.be
SUMMARY:Vivre son corps - Groupe Bien-être
DESCRIPTION:Notre corps nous est souvent étranger. Cette activité propose de l’apprivoiser\, de travailler sur les tensions et l’estime de soi à travers plusieurs techniques : respiration\, chant\, relaxation\, méditation\, automassages\, Do In… \nActivité destinée aux femmes \nLes vendredis de 10h à 12h \nparticipation : 1 € \nPlus d’infos au 0487/20.94.10 ou sur la page du GBE
URL:https://entraide-marolles.be/agenda/groupe-bien-etre-vivre-son-corps-2/2027-11-19/
CATEGORIES:Groupe Bien-être
ATTACH;FMTTYPE=image/png:https://entraide-marolles.be/wp-content/uploads/2024/06/Capture-decran-2023-05-11-102255-e1719326874216.png
END:VEVENT
BEGIN:VEVENT
DTSTART;TZID=Europe/Brussels:20271119T173000
DTEND;TZID=Europe/Brussels:20271119T183000
DTSTAMP:20260422T161145
CREATED:20241022T133925Z
LAST-MODIFIED:20260217T144031Z
UID:10029208-1826645400-1826649000@entraide-marolles.be
SUMMARY:Yoga mixte - Groupe Bien-être
DESCRIPTION:Pratique basée sur la respiration et des postures variées. \nActivité ouverte aux hommes et aux femmes \nLes vendredis de 17h30 à 18h30 \nparticipation : 1 € \nPlus d’infos au 0497/209.410 ou sur la page du GBE
URL:https://entraide-marolles.be/agenda/groupe-bien-etre-yoga-2/2027-11-19/
CATEGORIES:Groupe Bien-être
ATTACH;FMTTYPE=image/png:https://entraide-marolles.be/wp-content/uploads/2024/06/Capture-decran-2023-05-11-102255-e1719326874216.png
END:VEVENT
BEGIN:VEVENT
DTSTART;TZID=Europe/Brussels:20271122T100000
DTEND;TZID=Europe/Brussels:20271122T120000
DTSTAMP:20260422T161145
CREATED:20241022T134248Z
LAST-MODIFIED:20260217T144736Z
UID:10000569-1826877600-1826884800@entraide-marolles.be
SUMMARY:Lundi à thème - Groupe Bien-être
DESCRIPTION:Les lundis à thème ce sont des moments de rencontre et d’échange créés par les femmes du groupe Bien-être pour passer du temps ensemble\, s’entraider\, échanger des idées\, créer des projets\, sortir de la solitude… \nActivité réservée aux femmes. \nTous les lundis de 10h à 12h en salle d’activité. \nPlus d’infos sur la page du GBE
URL:https://entraide-marolles.be/agenda/groupe-bien-etre-lundi-a-theme-2-2/2027-11-22/
CATEGORIES:Groupe Bien-être
ATTACH;FMTTYPE=image/png:https://entraide-marolles.be/wp-content/uploads/2024/06/Capture-decran-2023-05-11-102255-e1719326874216.png
END:VEVENT
BEGIN:VEVENT
DTSTART;TZID=Europe/Brussels:20271123T113000
DTEND;TZID=Europe/Brussels:20271123T130000
DTSTAMP:20260422T161145
CREATED:20241022T134408Z
LAST-MODIFIED:20260305T152243Z
UID:10000830-1826969400-1826974800@entraide-marolles.be
SUMMARY:Gymnastique hypopressive - Groupe Bien-être
DESCRIPTION:La gymnastique hypopressive est une activité qui se base sur un travail en douceur des muscles périnées et abdominaux. Chaque séance se termine par une relaxation \nActivité réservée aux femmes \nSans inscription – participation : 1 € \nPlus d’infos au 0497/209.410 ou sur la page du GBE
URL:https://entraide-marolles.be/agenda/groupe-bien-etre-gymnastique-hypopressive-2/2027-11-23/
CATEGORIES:Groupe Bien-être
ATTACH;FMTTYPE=image/png:https://entraide-marolles.be/wp-content/uploads/2024/06/Capture-decran-2023-05-11-102255-e1719326874216.png
END:VEVENT
BEGIN:VEVENT
DTSTART;TZID=Europe/Brussels:20271126T100000
DTEND;TZID=Europe/Brussels:20271126T120000
DTSTAMP:20260422T161145
CREATED:20241022T133752Z
LAST-MODIFIED:20260305T150316Z
UID:10028956-1827223200-1827230400@entraide-marolles.be
SUMMARY:Vivre son corps - Groupe Bien-être
DESCRIPTION:Notre corps nous est souvent étranger. Cette activité propose de l’apprivoiser\, de travailler sur les tensions et l’estime de soi à travers plusieurs techniques : respiration\, chant\, relaxation\, méditation\, automassages\, Do In… \nActivité destinée aux femmes \nLes vendredis de 10h à 12h \nparticipation : 1 € \nPlus d’infos au 0487/20.94.10 ou sur la page du GBE
URL:https://entraide-marolles.be/agenda/groupe-bien-etre-vivre-son-corps-2/2027-11-26/
CATEGORIES:Groupe Bien-être
ATTACH;FMTTYPE=image/png:https://entraide-marolles.be/wp-content/uploads/2024/06/Capture-decran-2023-05-11-102255-e1719326874216.png
END:VEVENT
BEGIN:VEVENT
DTSTART;TZID=Europe/Brussels:20271126T173000
DTEND;TZID=Europe/Brussels:20271126T183000
DTSTAMP:20260422T161145
CREATED:20241022T133925Z
LAST-MODIFIED:20260217T144031Z
UID:10029209-1827250200-1827253800@entraide-marolles.be
SUMMARY:Yoga mixte - Groupe Bien-être
DESCRIPTION:Pratique basée sur la respiration et des postures variées. \nActivité ouverte aux hommes et aux femmes \nLes vendredis de 17h30 à 18h30 \nparticipation : 1 € \nPlus d’infos au 0497/209.410 ou sur la page du GBE
URL:https://entraide-marolles.be/agenda/groupe-bien-etre-yoga-2/2027-11-26/
CATEGORIES:Groupe Bien-être
ATTACH;FMTTYPE=image/png:https://entraide-marolles.be/wp-content/uploads/2024/06/Capture-decran-2023-05-11-102255-e1719326874216.png
END:VEVENT
BEGIN:VEVENT
DTSTART;TZID=Europe/Brussels:20271129T100000
DTEND;TZID=Europe/Brussels:20271129T120000
DTSTAMP:20260422T161145
CREATED:20241022T134248Z
LAST-MODIFIED:20260217T144736Z
UID:10000570-1827482400-1827489600@entraide-marolles.be
SUMMARY:Lundi à thème - Groupe Bien-être
DESCRIPTION:Les lundis à thème ce sont des moments de rencontre et d’échange créés par les femmes du groupe Bien-être pour passer du temps ensemble\, s’entraider\, échanger des idées\, créer des projets\, sortir de la solitude… \nActivité réservée aux femmes. \nTous les lundis de 10h à 12h en salle d’activité. \nPlus d’infos sur la page du GBE
URL:https://entraide-marolles.be/agenda/groupe-bien-etre-lundi-a-theme-2-2/2027-11-29/
CATEGORIES:Groupe Bien-être
ATTACH;FMTTYPE=image/png:https://entraide-marolles.be/wp-content/uploads/2024/06/Capture-decran-2023-05-11-102255-e1719326874216.png
END:VEVENT
BEGIN:VEVENT
DTSTART;TZID=Europe/Brussels:20271130T113000
DTEND;TZID=Europe/Brussels:20271130T130000
DTSTAMP:20260422T161145
CREATED:20241022T134408Z
LAST-MODIFIED:20260305T152243Z
UID:10000831-1827574200-1827579600@entraide-marolles.be
SUMMARY:Gymnastique hypopressive - Groupe Bien-être
DESCRIPTION:La gymnastique hypopressive est une activité qui se base sur un travail en douceur des muscles périnées et abdominaux. Chaque séance se termine par une relaxation \nActivité réservée aux femmes \nSans inscription – participation : 1 € \nPlus d’infos au 0497/209.410 ou sur la page du GBE
URL:https://entraide-marolles.be/agenda/groupe-bien-etre-gymnastique-hypopressive-2/2027-11-30/
CATEGORIES:Groupe Bien-être
ATTACH;FMTTYPE=image/png:https://entraide-marolles.be/wp-content/uploads/2024/06/Capture-decran-2023-05-11-102255-e1719326874216.png
END:VEVENT
BEGIN:VEVENT
DTSTART;TZID=Europe/Brussels:20271203T100000
DTEND;TZID=Europe/Brussels:20271203T120000
DTSTAMP:20260422T161145
CREATED:20241022T133752Z
LAST-MODIFIED:20260305T150316Z
UID:10028957-1827828000-1827835200@entraide-marolles.be
SUMMARY:Vivre son corps - Groupe Bien-être
DESCRIPTION:Notre corps nous est souvent étranger. Cette activité propose de l’apprivoiser\, de travailler sur les tensions et l’estime de soi à travers plusieurs techniques : respiration\, chant\, relaxation\, méditation\, automassages\, Do In… \nActivité destinée aux femmes \nLes vendredis de 10h à 12h \nparticipation : 1 € \nPlus d’infos au 0487/20.94.10 ou sur la page du GBE
URL:https://entraide-marolles.be/agenda/groupe-bien-etre-vivre-son-corps-2/2027-12-03/
CATEGORIES:Groupe Bien-être
ATTACH;FMTTYPE=image/png:https://entraide-marolles.be/wp-content/uploads/2024/06/Capture-decran-2023-05-11-102255-e1719326874216.png
END:VEVENT
BEGIN:VEVENT
DTSTART;TZID=Europe/Brussels:20271203T173000
DTEND;TZID=Europe/Brussels:20271203T183000
DTSTAMP:20260422T161145
CREATED:20241022T133925Z
LAST-MODIFIED:20260217T144031Z
UID:10029210-1827855000-1827858600@entraide-marolles.be
SUMMARY:Yoga mixte - Groupe Bien-être
DESCRIPTION:Pratique basée sur la respiration et des postures variées. \nActivité ouverte aux hommes et aux femmes \nLes vendredis de 17h30 à 18h30 \nparticipation : 1 € \nPlus d’infos au 0497/209.410 ou sur la page du GBE
URL:https://entraide-marolles.be/agenda/groupe-bien-etre-yoga-2/2027-12-03/
CATEGORIES:Groupe Bien-être
ATTACH;FMTTYPE=image/png:https://entraide-marolles.be/wp-content/uploads/2024/06/Capture-decran-2023-05-11-102255-e1719326874216.png
END:VEVENT
BEGIN:VEVENT
DTSTART;TZID=Europe/Brussels:20271206T100000
DTEND;TZID=Europe/Brussels:20271206T120000
DTSTAMP:20260422T161145
CREATED:20241022T134248Z
LAST-MODIFIED:20260217T144736Z
UID:10000571-1828087200-1828094400@entraide-marolles.be
SUMMARY:Lundi à thème - Groupe Bien-être
DESCRIPTION:Les lundis à thème ce sont des moments de rencontre et d’échange créés par les femmes du groupe Bien-être pour passer du temps ensemble\, s’entraider\, échanger des idées\, créer des projets\, sortir de la solitude… \nActivité réservée aux femmes. \nTous les lundis de 10h à 12h en salle d’activité. \nPlus d’infos sur la page du GBE
URL:https://entraide-marolles.be/agenda/groupe-bien-etre-lundi-a-theme-2-2/2027-12-06/
CATEGORIES:Groupe Bien-être
ATTACH;FMTTYPE=image/png:https://entraide-marolles.be/wp-content/uploads/2024/06/Capture-decran-2023-05-11-102255-e1719326874216.png
END:VEVENT
BEGIN:VEVENT
DTSTART;TZID=Europe/Brussels:20271207T113000
DTEND;TZID=Europe/Brussels:20271207T130000
DTSTAMP:20260422T161145
CREATED:20241022T134408Z
LAST-MODIFIED:20260305T152243Z
UID:10000832-1828179000-1828184400@entraide-marolles.be
SUMMARY:Gymnastique hypopressive - Groupe Bien-être
DESCRIPTION:La gymnastique hypopressive est une activité qui se base sur un travail en douceur des muscles périnées et abdominaux. Chaque séance se termine par une relaxation \nActivité réservée aux femmes \nSans inscription – participation : 1 € \nPlus d’infos au 0497/209.410 ou sur la page du GBE
URL:https://entraide-marolles.be/agenda/groupe-bien-etre-gymnastique-hypopressive-2/2027-12-07/
CATEGORIES:Groupe Bien-être
ATTACH;FMTTYPE=image/png:https://entraide-marolles.be/wp-content/uploads/2024/06/Capture-decran-2023-05-11-102255-e1719326874216.png
END:VEVENT
BEGIN:VEVENT
DTSTART;TZID=Europe/Brussels:20271210T100000
DTEND;TZID=Europe/Brussels:20271210T120000
DTSTAMP:20260422T161145
CREATED:20241022T133752Z
LAST-MODIFIED:20260305T150316Z
UID:10028958-1828432800-1828440000@entraide-marolles.be
SUMMARY:Vivre son corps - Groupe Bien-être
DESCRIPTION:Notre corps nous est souvent étranger. Cette activité propose de l’apprivoiser\, de travailler sur les tensions et l’estime de soi à travers plusieurs techniques : respiration\, chant\, relaxation\, méditation\, automassages\, Do In… \nActivité destinée aux femmes \nLes vendredis de 10h à 12h \nparticipation : 1 € \nPlus d’infos au 0487/20.94.10 ou sur la page du GBE
URL:https://entraide-marolles.be/agenda/groupe-bien-etre-vivre-son-corps-2/2027-12-10/
CATEGORIES:Groupe Bien-être
ATTACH;FMTTYPE=image/png:https://entraide-marolles.be/wp-content/uploads/2024/06/Capture-decran-2023-05-11-102255-e1719326874216.png
END:VEVENT
BEGIN:VEVENT
DTSTART;TZID=Europe/Brussels:20271210T173000
DTEND;TZID=Europe/Brussels:20271210T183000
DTSTAMP:20260422T161145
CREATED:20241022T133925Z
LAST-MODIFIED:20260217T144031Z
UID:10029211-1828459800-1828463400@entraide-marolles.be
SUMMARY:Yoga mixte - Groupe Bien-être
DESCRIPTION:Pratique basée sur la respiration et des postures variées. \nActivité ouverte aux hommes et aux femmes \nLes vendredis de 17h30 à 18h30 \nparticipation : 1 € \nPlus d’infos au 0497/209.410 ou sur la page du GBE
URL:https://entraide-marolles.be/agenda/groupe-bien-etre-yoga-2/2027-12-10/
CATEGORIES:Groupe Bien-être
ATTACH;FMTTYPE=image/png:https://entraide-marolles.be/wp-content/uploads/2024/06/Capture-decran-2023-05-11-102255-e1719326874216.png
END:VEVENT
BEGIN:VEVENT
DTSTART;TZID=Europe/Brussels:20271213T100000
DTEND;TZID=Europe/Brussels:20271213T120000
DTSTAMP:20260422T161145
CREATED:20241022T134248Z
LAST-MODIFIED:20260217T144736Z
UID:10000572-1828692000-1828699200@entraide-marolles.be
SUMMARY:Lundi à thème - Groupe Bien-être
DESCRIPTION:Les lundis à thème ce sont des moments de rencontre et d’échange créés par les femmes du groupe Bien-être pour passer du temps ensemble\, s’entraider\, échanger des idées\, créer des projets\, sortir de la solitude… \nActivité réservée aux femmes. \nTous les lundis de 10h à 12h en salle d’activité. \nPlus d’infos sur la page du GBE
URL:https://entraide-marolles.be/agenda/groupe-bien-etre-lundi-a-theme-2-2/2027-12-13/
CATEGORIES:Groupe Bien-être
ATTACH;FMTTYPE=image/png:https://entraide-marolles.be/wp-content/uploads/2024/06/Capture-decran-2023-05-11-102255-e1719326874216.png
END:VEVENT
BEGIN:VEVENT
DTSTART;TZID=Europe/Brussels:20271214T113000
DTEND;TZID=Europe/Brussels:20271214T130000
DTSTAMP:20260422T161145
CREATED:20241022T134408Z
LAST-MODIFIED:20260305T152243Z
UID:10000833-1828783800-1828789200@entraide-marolles.be
SUMMARY:Gymnastique hypopressive - Groupe Bien-être
DESCRIPTION:La gymnastique hypopressive est une activité qui se base sur un travail en douceur des muscles périnées et abdominaux. Chaque séance se termine par une relaxation \nActivité réservée aux femmes \nSans inscription – participation : 1 € \nPlus d’infos au 0497/209.410 ou sur la page du GBE
URL:https://entraide-marolles.be/agenda/groupe-bien-etre-gymnastique-hypopressive-2/2027-12-14/
CATEGORIES:Groupe Bien-être
ATTACH;FMTTYPE=image/png:https://entraide-marolles.be/wp-content/uploads/2024/06/Capture-decran-2023-05-11-102255-e1719326874216.png
END:VEVENT
BEGIN:VEVENT
DTSTART;TZID=Europe/Brussels:20271217T100000
DTEND;TZID=Europe/Brussels:20271217T120000
DTSTAMP:20260422T161145
CREATED:20241022T133752Z
LAST-MODIFIED:20260305T150316Z
UID:10028959-1829037600-1829044800@entraide-marolles.be
SUMMARY:Vivre son corps - Groupe Bien-être
DESCRIPTION:Notre corps nous est souvent étranger. Cette activité propose de l’apprivoiser\, de travailler sur les tensions et l’estime de soi à travers plusieurs techniques : respiration\, chant\, relaxation\, méditation\, automassages\, Do In… \nActivité destinée aux femmes \nLes vendredis de 10h à 12h \nparticipation : 1 € \nPlus d’infos au 0487/20.94.10 ou sur la page du GBE
URL:https://entraide-marolles.be/agenda/groupe-bien-etre-vivre-son-corps-2/2027-12-17/
CATEGORIES:Groupe Bien-être
ATTACH;FMTTYPE=image/png:https://entraide-marolles.be/wp-content/uploads/2024/06/Capture-decran-2023-05-11-102255-e1719326874216.png
END:VEVENT
BEGIN:VEVENT
DTSTART;TZID=Europe/Brussels:20271217T173000
DTEND;TZID=Europe/Brussels:20271217T183000
DTSTAMP:20260422T161145
CREATED:20241022T133925Z
LAST-MODIFIED:20260217T144031Z
UID:10029212-1829064600-1829068200@entraide-marolles.be
SUMMARY:Yoga mixte - Groupe Bien-être
DESCRIPTION:Pratique basée sur la respiration et des postures variées. \nActivité ouverte aux hommes et aux femmes \nLes vendredis de 17h30 à 18h30 \nparticipation : 1 € \nPlus d’infos au 0497/209.410 ou sur la page du GBE
URL:https://entraide-marolles.be/agenda/groupe-bien-etre-yoga-2/2027-12-17/
CATEGORIES:Groupe Bien-être
ATTACH;FMTTYPE=image/png:https://entraide-marolles.be/wp-content/uploads/2024/06/Capture-decran-2023-05-11-102255-e1719326874216.png
END:VEVENT
BEGIN:VEVENT
DTSTART;TZID=Europe/Brussels:20271220T100000
DTEND;TZID=Europe/Brussels:20271220T120000
DTSTAMP:20260422T161145
CREATED:20241022T134248Z
LAST-MODIFIED:20260217T144736Z
UID:10000573-1829296800-1829304000@entraide-marolles.be
SUMMARY:Lundi à thème - Groupe Bien-être
DESCRIPTION:Les lundis à thème ce sont des moments de rencontre et d’échange créés par les femmes du groupe Bien-être pour passer du temps ensemble\, s’entraider\, échanger des idées\, créer des projets\, sortir de la solitude… \nActivité réservée aux femmes. \nTous les lundis de 10h à 12h en salle d’activité. \nPlus d’infos sur la page du GBE
URL:https://entraide-marolles.be/agenda/groupe-bien-etre-lundi-a-theme-2-2/2027-12-20/
CATEGORIES:Groupe Bien-être
ATTACH;FMTTYPE=image/png:https://entraide-marolles.be/wp-content/uploads/2024/06/Capture-decran-2023-05-11-102255-e1719326874216.png
END:VEVENT
BEGIN:VEVENT
DTSTART;TZID=Europe/Brussels:20271221T113000
DTEND;TZID=Europe/Brussels:20271221T130000
DTSTAMP:20260422T161145
CREATED:20241022T134408Z
LAST-MODIFIED:20260305T152243Z
UID:10000834-1829388600-1829394000@entraide-marolles.be
SUMMARY:Gymnastique hypopressive - Groupe Bien-être
DESCRIPTION:La gymnastique hypopressive est une activité qui se base sur un travail en douceur des muscles périnées et abdominaux. Chaque séance se termine par une relaxation \nActivité réservée aux femmes \nSans inscription – participation : 1 € \nPlus d’infos au 0497/209.410 ou sur la page du GBE
URL:https://entraide-marolles.be/agenda/groupe-bien-etre-gymnastique-hypopressive-2/2027-12-21/
CATEGORIES:Groupe Bien-être
ATTACH;FMTTYPE=image/png:https://entraide-marolles.be/wp-content/uploads/2024/06/Capture-decran-2023-05-11-102255-e1719326874216.png
END:VEVENT
BEGIN:VEVENT
DTSTART;TZID=Europe/Brussels:20271224T100000
DTEND;TZID=Europe/Brussels:20271224T120000
DTSTAMP:20260422T161145
CREATED:20241022T133752Z
LAST-MODIFIED:20260305T150316Z
UID:10028960-1829642400-1829649600@entraide-marolles.be
SUMMARY:Vivre son corps - Groupe Bien-être
DESCRIPTION:Notre corps nous est souvent étranger. Cette activité propose de l’apprivoiser\, de travailler sur les tensions et l’estime de soi à travers plusieurs techniques : respiration\, chant\, relaxation\, méditation\, automassages\, Do In… \nActivité destinée aux femmes \nLes vendredis de 10h à 12h \nparticipation : 1 € \nPlus d’infos au 0487/20.94.10 ou sur la page du GBE
URL:https://entraide-marolles.be/agenda/groupe-bien-etre-vivre-son-corps-2/2027-12-24/
CATEGORIES:Groupe Bien-être
ATTACH;FMTTYPE=image/png:https://entraide-marolles.be/wp-content/uploads/2024/06/Capture-decran-2023-05-11-102255-e1719326874216.png
END:VEVENT
BEGIN:VEVENT
DTSTART;TZID=Europe/Brussels:20271224T173000
DTEND;TZID=Europe/Brussels:20271224T183000
DTSTAMP:20260422T161145
CREATED:20241022T133925Z
LAST-MODIFIED:20260217T144031Z
UID:10029213-1829669400-1829673000@entraide-marolles.be
SUMMARY:Yoga mixte - Groupe Bien-être
DESCRIPTION:Pratique basée sur la respiration et des postures variées. \nActivité ouverte aux hommes et aux femmes \nLes vendredis de 17h30 à 18h30 \nparticipation : 1 € \nPlus d’infos au 0497/209.410 ou sur la page du GBE
URL:https://entraide-marolles.be/agenda/groupe-bien-etre-yoga-2/2027-12-24/
CATEGORIES:Groupe Bien-être
ATTACH;FMTTYPE=image/png:https://entraide-marolles.be/wp-content/uploads/2024/06/Capture-decran-2023-05-11-102255-e1719326874216.png
END:VEVENT
END:VCALENDAR