BEGIN:VCALENDAR
VERSION:2.0
PRODID:-//Entr’Aide des Marolles - ECPv6.15.20//NONSGML v1.0//EN
CALSCALE:GREGORIAN
METHOD:PUBLISH
X-ORIGINAL-URL:https://entraide-marolles.be
X-WR-CALDESC:Évènements pour Entr’Aide des Marolles
REFRESH-INTERVAL;VALUE=DURATION:PT1H
X-Robots-Tag:noindex
X-PUBLISHED-TTL:PT1H
BEGIN:VTIMEZONE
TZID:Europe/Brussels
BEGIN:DAYLIGHT
TZOFFSETFROM:+0100
TZOFFSETTO:+0200
TZNAME:CEST
DTSTART:20240331T010000
END:DAYLIGHT
BEGIN:STANDARD
TZOFFSETFROM:+0200
TZOFFSETTO:+0100
TZNAME:CET
DTSTART:20241027T010000
END:STANDARD
BEGIN:DAYLIGHT
TZOFFSETFROM:+0100
TZOFFSETTO:+0200
TZNAME:CEST
DTSTART:20250330T010000
END:DAYLIGHT
BEGIN:STANDARD
TZOFFSETFROM:+0200
TZOFFSETTO:+0100
TZNAME:CET
DTSTART:20251026T010000
END:STANDARD
BEGIN:DAYLIGHT
TZOFFSETFROM:+0100
TZOFFSETTO:+0200
TZNAME:CEST
DTSTART:20260329T010000
END:DAYLIGHT
BEGIN:STANDARD
TZOFFSETFROM:+0200
TZOFFSETTO:+0100
TZNAME:CET
DTSTART:20261025T010000
END:STANDARD
END:VTIMEZONE
BEGIN:VEVENT
DTSTART;TZID=Europe/Brussels:20250701T113000
DTEND;TZID=Europe/Brussels:20250701T130000
DTSTAMP:20260419T184218
CREATED:20241022T134408Z
LAST-MODIFIED:20260305T152243Z
UID:10000705-1751369400-1751374800@entraide-marolles.be
SUMMARY:Gymnastique hypopressive - Groupe Bien-être
DESCRIPTION:La gymnastique hypopressive est une activité qui se base sur un travail en douceur des muscles périnées et abdominaux. Chaque séance se termine par une relaxation \nActivité réservée aux femmes \nSans inscription – participation : 1 € \nPlus d’infos au 0497/209.410 ou sur la page du GBE
URL:https://entraide-marolles.be/agenda/groupe-bien-etre-gymnastique-hypopressive-2/2025-07-01/
CATEGORIES:Groupe Bien-être
ATTACH;FMTTYPE=image/png:https://entraide-marolles.be/wp-content/uploads/2024/06/Capture-decran-2023-05-11-102255-e1719326874216.png
END:VEVENT
END:VCALENDAR