BEGIN:VCALENDAR
VERSION:2.0
PRODID:-//Entr’Aide des Marolles - ECPv6.15.20//NONSGML v1.0//EN
CALSCALE:GREGORIAN
METHOD:PUBLISH
X-ORIGINAL-URL:https://entraide-marolles.be
X-WR-CALDESC:Évènements pour Entr’Aide des Marolles
REFRESH-INTERVAL;VALUE=DURATION:PT1H
X-Robots-Tag:noindex
X-PUBLISHED-TTL:PT1H
BEGIN:VTIMEZONE
TZID:Europe/Brussels
BEGIN:DAYLIGHT
TZOFFSETFROM:+0100
TZOFFSETTO:+0200
TZNAME:CEST
DTSTART:20230326T010000
END:DAYLIGHT
BEGIN:STANDARD
TZOFFSETFROM:+0200
TZOFFSETTO:+0100
TZNAME:CET
DTSTART:20231029T010000
END:STANDARD
BEGIN:DAYLIGHT
TZOFFSETFROM:+0100
TZOFFSETTO:+0200
TZNAME:CEST
DTSTART:20240331T010000
END:DAYLIGHT
BEGIN:STANDARD
TZOFFSETFROM:+0200
TZOFFSETTO:+0100
TZNAME:CET
DTSTART:20241027T010000
END:STANDARD
BEGIN:DAYLIGHT
TZOFFSETFROM:+0100
TZOFFSETTO:+0200
TZNAME:CEST
DTSTART:20250330T010000
END:DAYLIGHT
BEGIN:STANDARD
TZOFFSETFROM:+0200
TZOFFSETTO:+0100
TZNAME:CET
DTSTART:20251026T010000
END:STANDARD
END:VTIMEZONE
BEGIN:VEVENT
DTSTART;TZID=Europe/Brussels:20240905T094500
DTEND;TZID=Europe/Brussels:20240905T130000
DTSTAMP:20260421T123006
CREATED:20240806T131724Z
LAST-MODIFIED:20260217T143757Z
UID:10029307-1725529500-1725541200@entraide-marolles.be
SUMMARY:Atelier cuisine - Groupe Bien-être
DESCRIPTION:Moment de partage et d’apprentissage de recettes du monde/Atelier de sensibilisation sur les invendus alimentaires \nUn jeudi sur deux – participation de 1 euro \nLes activités du Groupe Bien-être sont destinées aux femmes (excepté le yoga ouvert aux femmes et aux hommes). \nSur inscription au 0487/20 94 10 \n  \nLe Groupe Bien Etre rassemble des femmes de toutes origines et de tout âge du quartier des Marolles et des environs. Nous menons ensemble des projets et des activités collectives ou communautaires.
URL:https://entraide-marolles.be/agenda/groupe-bien-etre-atelier-cuisine/2024-09-05/
CATEGORIES:Groupe Bien-être
ATTACH;FMTTYPE=image/png:https://entraide-marolles.be/wp-content/uploads/2024/06/Capture-decran-2023-05-11-102255-e1719326874216.png
END:VEVENT
END:VCALENDAR