BEGIN:VCALENDAR
VERSION:2.0
PRODID:-//Entr’Aide des Marolles - ECPv6.15.20//NONSGML v1.0//EN
CALSCALE:GREGORIAN
METHOD:PUBLISH
X-ORIGINAL-URL:https://entraide-marolles.be
X-WR-CALDESC:Évènements pour Entr’Aide des Marolles
REFRESH-INTERVAL;VALUE=DURATION:PT1H
X-Robots-Tag:noindex
X-PUBLISHED-TTL:PT1H
BEGIN:VTIMEZONE
TZID:Europe/Brussels
BEGIN:DAYLIGHT
TZOFFSETFROM:+0100
TZOFFSETTO:+0200
TZNAME:CEST
DTSTART:20240331T010000
END:DAYLIGHT
BEGIN:STANDARD
TZOFFSETFROM:+0200
TZOFFSETTO:+0100
TZNAME:CET
DTSTART:20241027T010000
END:STANDARD
BEGIN:DAYLIGHT
TZOFFSETFROM:+0100
TZOFFSETTO:+0200
TZNAME:CEST
DTSTART:20250330T010000
END:DAYLIGHT
BEGIN:STANDARD
TZOFFSETFROM:+0200
TZOFFSETTO:+0100
TZNAME:CET
DTSTART:20251026T010000
END:STANDARD
BEGIN:DAYLIGHT
TZOFFSETFROM:+0100
TZOFFSETTO:+0200
TZNAME:CEST
DTSTART:20260329T010000
END:DAYLIGHT
BEGIN:STANDARD
TZOFFSETFROM:+0200
TZOFFSETTO:+0100
TZNAME:CET
DTSTART:20261025T010000
END:STANDARD
END:VTIMEZONE
BEGIN:VEVENT
DTSTART;TZID=Europe/Brussels:20250627T130000
DTEND;TZID=Europe/Brussels:20250627T200000
DTSTAMP:20260422T084615
CREATED:20250611T153908Z
LAST-MODIFIED:20250611T153908Z
UID:10043460-1751029200-1751054400@entraide-marolles.be
SUMMARY:Fête des voisins et voisines
DESCRIPTION:Le vendredi 27 juin\, les associations du quartier des Marolles et ses habitant.es vous invitent à la Fête des voisins !\n  \nAu programme :\n15h – 17h30\nactivités ludiques pour petits et grands\nGrimages\nBingo\nPrésentation des initiatives dans le quartier \n17h45\nFanfare Met-X \nà partir de 18h00\nBanquet convivial dans la rue avec les Gastrosophes (gratuit) \n  \nLa rue des Tanneurs sera fermée entre la rue de l’Economie et la rue des Capucins\, entre 13h et 22h. \nContact et informations : 0492 33 10 72 \n  \n  \n 
URL:https://entraide-marolles.be/agenda/fete-des-voisins-et-voisines/
CATEGORIES:Fête
ATTACH;FMTTYPE=image/jpeg:https://entraide-marolles.be/wp-content/uploads/2025/06/fete-des-voisins-2025-e1749652280289.jpg
END:VEVENT
END:VCALENDAR