BEGIN:VCALENDAR
VERSION:2.0
PRODID:-//Entr’Aide des Marolles - ECPv6.15.20//NONSGML v1.0//EN
CALSCALE:GREGORIAN
METHOD:PUBLISH
X-ORIGINAL-URL:https://entraide-marolles.be
X-WR-CALDESC:Évènements pour Entr’Aide des Marolles
REFRESH-INTERVAL;VALUE=DURATION:PT1H
X-Robots-Tag:noindex
X-PUBLISHED-TTL:PT1H
BEGIN:VTIMEZONE
TZID:Europe/Brussels
BEGIN:DAYLIGHT
TZOFFSETFROM:+0100
TZOFFSETTO:+0200
TZNAME:CEST
DTSTART:20230326T010000
END:DAYLIGHT
BEGIN:STANDARD
TZOFFSETFROM:+0200
TZOFFSETTO:+0100
TZNAME:CET
DTSTART:20231029T010000
END:STANDARD
BEGIN:DAYLIGHT
TZOFFSETFROM:+0100
TZOFFSETTO:+0200
TZNAME:CEST
DTSTART:20240331T010000
END:DAYLIGHT
BEGIN:STANDARD
TZOFFSETFROM:+0200
TZOFFSETTO:+0100
TZNAME:CET
DTSTART:20241027T010000
END:STANDARD
BEGIN:DAYLIGHT
TZOFFSETFROM:+0100
TZOFFSETTO:+0200
TZNAME:CEST
DTSTART:20250330T010000
END:DAYLIGHT
BEGIN:STANDARD
TZOFFSETFROM:+0200
TZOFFSETTO:+0100
TZNAME:CET
DTSTART:20251026T010000
END:STANDARD
END:VTIMEZONE
BEGIN:VEVENT
DTSTART;TZID=Europe/Brussels:20240531T130000
DTEND;TZID=Europe/Brussels:20240531T220000
DTSTAMP:20260424T072559
CREATED:20240517T134116Z
LAST-MODIFIED:20240517T142122Z
UID:10000063-1717160400-1717192800@entraide-marolles.be
SUMMARY:Fête des voisins
DESCRIPTION:Le vendredi 31 mai\, les associations du quartier des Marolles et ses habitant.es vous invitent à la Fête des voisins !\n  \nAu programme :\n13h00\nvisite guidée du quartier des Marolles \n15h – 18 h\nactivités ludiques pour enfants\nGrimages\nJeux pour petites et grands\nBingo\nPrésentation de diverses activités dans le quartier\nScène ouverte \n18h00\nBanquet convivial dans la rue (gratuit) \n  \nLa rue des Tanneurs sera fermée entre la rue de l’Economie et la rue des Capucins\, entre 13h et 22h. \nContact et informations : 0492 33 10 72 \n  \n  \nTélécharger ici le Flyer de la fête des voisins \n 
URL:https://entraide-marolles.be/agenda/fete-des-voisins/
CATEGORIES:Fête
ATTACH;FMTTYPE=application/pdf:https://entraide-marolles.be/wp-content/uploads/2024/05/A3.pdf
END:VEVENT
END:VCALENDAR