BEGIN:VCALENDAR
VERSION:2.0
PRODID:-//Entr’Aide des Marolles - ECPv6.15.20//NONSGML v1.0//EN
CALSCALE:GREGORIAN
METHOD:PUBLISH
X-ORIGINAL-URL:https://entraide-marolles.be
X-WR-CALDESC:Évènements pour Entr’Aide des Marolles
REFRESH-INTERVAL;VALUE=DURATION:PT1H
X-Robots-Tag:noindex
X-PUBLISHED-TTL:PT1H
BEGIN:VTIMEZONE
TZID:Europe/Brussels
BEGIN:DAYLIGHT
TZOFFSETFROM:+0100
TZOFFSETTO:+0200
TZNAME:CEST
DTSTART:20220327T010000
END:DAYLIGHT
BEGIN:STANDARD
TZOFFSETFROM:+0200
TZOFFSETTO:+0100
TZNAME:CET
DTSTART:20221030T010000
END:STANDARD
BEGIN:DAYLIGHT
TZOFFSETFROM:+0100
TZOFFSETTO:+0200
TZNAME:CEST
DTSTART:20230326T010000
END:DAYLIGHT
BEGIN:STANDARD
TZOFFSETFROM:+0200
TZOFFSETTO:+0100
TZNAME:CET
DTSTART:20231029T010000
END:STANDARD
BEGIN:DAYLIGHT
TZOFFSETFROM:+0100
TZOFFSETTO:+0200
TZNAME:CEST
DTSTART:20240331T010000
END:DAYLIGHT
BEGIN:STANDARD
TZOFFSETFROM:+0200
TZOFFSETTO:+0100
TZNAME:CET
DTSTART:20241027T010000
END:STANDARD
END:VTIMEZONE
BEGIN:VEVENT
DTSTART;TZID=Europe/Brussels:20230718T093000
DTEND;TZID=Europe/Brussels:20230718T153000
DTSTAMP:20260424T035920
CREATED:20230714T131930Z
LAST-MODIFIED:20230714T131930Z
UID:10000022-1689672600-1689694200@entraide-marolles.be
SUMMARY:L'accueil en vadrouille : sortie au musée Train World
DESCRIPTION:Vous n’avez jamais participé aux activités de l’Entr’Aide ? Bienvenue\, cette invitation est pour vous ! \nPartons ensemble en visite et tissons de nouveaux liens ! \nInfos et inscriptions à l’accueil au 02 510 01 80
URL:https://entraide-marolles.be/agenda/laccueil-en-vadrouille-sortie-au-musee-train-world/
CATEGORIES:Accueil en vadrouille
ATTACH;FMTTYPE=image/jpeg:https://entraide-marolles.be/wp-content/uploads/2023/07/Musee-train-world-scaled-e1689340720533.jpg
END:VEVENT
BEGIN:VEVENT
DTSTART;TZID=Europe/Brussels:20230720T093000
DTEND;TZID=Europe/Brussels:20230720T163000
DTSTAMP:20260424T035920
CREATED:20230714T132114Z
LAST-MODIFIED:20230714T133022Z
UID:10000023-1689845400-1689870600@entraide-marolles.be
SUMMARY:L'accueil en vadrouille au musée de l'Afrique
DESCRIPTION:Vous n’avez jamais participé aux activités de l’Entr’Aide ? Bienvenue\, cette invitation est pour vous ! \nPartons ensemble en visite et tissons de nouveaux liens ! \nInfos et inscriptions à l’accueil au 02 510 01 80
URL:https://entraide-marolles.be/agenda/laccueil-en-vadrouille-au-musee-de-lafrique/
CATEGORIES:Accueil en vadrouille
ATTACH;FMTTYPE=image/jpeg:https://entraide-marolles.be/wp-content/uploads/2023/07/Musee-de-lAfrique-scaled-e1689340849181.jpg
END:VEVENT
END:VCALENDAR